BEGIN:VCALENDAR
VERSION:2.0
PRODID:-//Journal Métro - ECPv6.0.13//NONSGML v1.0//EN
CALSCALE:GREGORIAN
METHOD:PUBLISH
X-WR-CALNAME:Journal Métro
X-ORIGINAL-URL:https://journalmetro.com
X-WR-CALDESC:évènements pour Journal Métro
REFRESH-INTERVAL;VALUE=DURATION:PT1H
X-Robots-Tag:noindex
X-PUBLISHED-TTL:PT1H
BEGIN:VTIMEZONE
TZID:America/Toronto
BEGIN:DAYLIGHT
TZOFFSETFROM:-0500
TZOFFSETTO:-0400
TZNAME:EDT
DTSTART:20230312T070000
END:DAYLIGHT
BEGIN:STANDARD
TZOFFSETFROM:-0400
TZOFFSETTO:-0500
TZNAME:EST
DTSTART:20231105T060000
END:STANDARD
END:VTIMEZONE
BEGIN:VEVENT
DTSTART;TZID=America/Toronto:20230718T103000
DTEND;TZID=America/Toronto:20230718T112000
DTSTAMP:20231018T173626
CREATED:20230628T140446Z
LAST-MODIFIED:20230628T140448Z
UID:10018426-1689676200-1689679200@journalmetro.com
SUMMARY:Les malheurs de Sophie - Théâtre La Roulotte
DESCRIPTION:Du 28 juin au 18 août\, découvrez la pièce Les malheurs de Sophie présentée par le Théâtre La Roulotte. Les représentations sont gratuites et se déroulent en plein air dans les parcs des différents quartiers de Montréal. \n\n\n\nChaque été\, les cousins Sophie\, Paul\, Camille et Léon quittent Montréal pour passer les vacances ensemble dans le chalet familial. Pendant que sa mère se fait bronzer sous le chaud soleil de juillet\, Sophie entraîne les autres dans mille et une bêtises\, au départ bien anodines. Mais quand la jeune Marguerite se joint au groupe\, toutes les idées d’aventures de Sophie sont menacées! Son été parfait tombera-t-il à l’eau? \n\n\n\nEn revisitant Les malheurs de Sophie de la Comtesse de Ségur\, l’autrice Pascale St-Onge rend hommage à l’une de ses premières lectures\, aux moments précieux passés avec sa mère à rêver à cette petite Sophie\, si différente d’elle dans son audace et sa témérité. Mis en scène par Justin Laramée\, ce spectacle offre une place de choix aux enfants tannants\, aux premières amitiés et aux émotions que celles-ci nous font vivre. \n\n\n\nVisitez notre page Facebook avant de vous déplacer en cas d’annulation hors de notre volonté ou de mauvaises conditions météo. \n\n\n\nLe Théâtre La Roulotte est une production de la Ville de Montréal en partenariat avec l’École nationale de théâtre du Canada et le Conservatoire d’art dramatique de Montréal. Il est financé par le ministère de la Culture et des Communications et la Ville de Montréal dans le cadre de l’Entente sur le développement culturel de Montréal. \n\n\n\nAmenez vos chaises et votre pique-nique. Annulé en cas de pluie. \n\n\n\nListe des représentations du Théâtre La Roulotte [PDF 124 Ko] \n\n\n\nSource: montreal.ca \n\n\n\nDates et horaires sont sujets à changement sans préavis. Avant de vous déplacer\, vérifier ces informations sur montreal.ca
URL:https://journalmetro.com/evenement/les-malheurs-de-sophie-theatre-la-roulotte-9/
LOCATION:Parc Hartenstein\, 1505 rue Cardinal\, Montréal\, QC\, H4L 3G3\, Canada
CATEGORIES:Communautaire
ATTACH;FMTTYPE=image/jpeg:https://journalmetro.com/wp-content/uploads/2023/05/les-malheurs-de-sophie-2-1.jpg
END:VEVENT
BEGIN:VEVENT
DTSTART;TZID=America/Toronto:20230718T160000
DTEND;TZID=America/Toronto:20230718T160000
DTSTAMP:20231018T173626
CREATED:20230622T174844Z
LAST-MODIFIED:20230622T175145Z
UID:10018320-1689696000-1689696000@journalmetro.com
SUMMARY:Bibliothèque dans les parcs
DESCRIPTION:Bouquinage\, prêt et abonnement au kiosque des bibliothèques! \n\n\n\nLes bibliothèques de Saint-Laurent se déplacent dans les parcs tout l’été!
URL:https://journalmetro.com/evenement/bibliotheque-dans-les-parcs-5/
LOCATION:Parc Hartenstein\, 1505 rue Cardinal\, Montréal\, QC\, H4L 3G3\, Canada
CATEGORIES:Communautaire
ATTACH;FMTTYPE=image/jpeg:https://journalmetro.com/wp-content/uploads/2023/06/onzu3iswhbca1jpeuzwu.jpeg
END:VEVENT
END:VCALENDAR