BEGIN:VCALENDAR
VERSION:2.0
PRODID:-//Journal Métro - ECPv6.0.13//NONSGML v1.0//EN
CALSCALE:GREGORIAN
METHOD:PUBLISH
X-WR-CALNAME:Journal Métro
X-ORIGINAL-URL:https://journalmetro.com
X-WR-CALDESC:évènements pour Journal Métro
REFRESH-INTERVAL;VALUE=DURATION:PT1H
X-Robots-Tag:noindex
X-PUBLISHED-TTL:PT1H
BEGIN:VTIMEZONE
TZID:America/Toronto
BEGIN:DAYLIGHT
TZOFFSETFROM:-0500
TZOFFSETTO:-0400
TZNAME:EDT
DTSTART:20230312T070000
END:DAYLIGHT
BEGIN:STANDARD
TZOFFSETFROM:-0400
TZOFFSETTO:-0500
TZNAME:EST
DTSTART:20231105T060000
END:STANDARD
END:VTIMEZONE
BEGIN:VEVENT
DTSTART;TZID=America/Toronto:20230807T100000
DTEND;TZID=America/Toronto:20230807T110000
DTSTAMP:20231016T113025
CREATED:20230803T154435Z
LAST-MODIFIED:20230803T154438Z
UID:10019356-1691402400-1691406000@journalmetro.com
SUMMARY:Activités physiques dans les parcs (50 ans+)
DESCRIPTION:Vous êtes âgé(e)s de 50 ans et plus? C’est un rendez-vous au parc pour des activités physiques dirigées. \n\n\n\nPortez des vêtements confortables et apportez votre bouteille d’eau \n\n\n\nVenez profitez des installations qui se trouvent au parc Henri-Julien\, comme les terrains de Shuffleboard et les tables de Ping-Pong\, etc. tout en socialisant!  \n\n\n\nEn cas de pluie l’activité sera annulé \n\n\n\n*Activité sujet à changement sans préavis* \n\n\n\nSource: montreal.ca \n\n\n\nDates et horaires sont sujets à changement sans préavis. Avant de vous déplacer\, vérifier ces informations sur montreal.ca
URL:https://journalmetro.com/evenement/activites-physiques-dans-les-parcs-50-ans-8/
LOCATION:Parc Henri-Julien\, 9300 rue Saint-Denis\, Montréal\, QC\, Canada
ATTACH;FMTTYPE=image/jpeg:https://journalmetro.com/wp-content/uploads/2023/08/shufle-board-50-2.jpg
END:VEVENT
BEGIN:VEVENT
DTSTART;TZID=America/Toronto:20230823T200000
DTEND;TZID=America/Toronto:20230823T211500
DTSTAMP:20231016T113025
CREATED:20230629T141001Z
LAST-MODIFIED:20230629T141002Z
UID:10018488-1692820800-1692825300@journalmetro.com
SUMMARY:Fausse Balle - Théâtre Hors Taxes
DESCRIPTION:Quinze interprètes et musiciens francophones\, hispanophones et anglophones prennent part à ce spectacle qui se déroule sur un terrain de baseball près de chez vous. Dans cette comédie sportive et festive\, vous aurez aussi un rôle à jouer! \n\n\n\nChaque été depuis 40 ans\, l’énigmatique Felipe Ochoa\, alias « El Tecolote » (le hibou)\, rassemble une drôle de bande de joueuses et de joueurs sur un terrain de baseball du quartier. On y suit des règles et des traditions qui n’existent nulle part ailleurs. \n\n\n\nMais un soir\, on apprend que ce sera le dernier match : le terrain sera détruit pour en faire un parc à chiens. Chacun et chacune enfile son plus bel uniforme et profite une dernière fois de ce ciel d’été parfait. Et si ce n’était pas vraiment la fin du jeu? \n\n\n\nVenez prendre place dans les estrades\, encouragez votre équipe et surtout… ne perdez pas la balle de vue! Cet événement théâtral unique célèbre avec humour la périlleuse\, mais combien importante\, cohabitation des différentes cultures montréalaises dans l’espace public. \n\n\n\nTexte : Jean-Philippe LehouxEn collaboration avec : Yohayna Hernández\, Charles Dauphinais et Ariana P. SánchezMise en scène : Charles Dauphinais et Ariana Pirela Sánchez \n\n\n\nVisitez la page Facebook de Théâtre Hors Taxes avant de vous déplacer en cas d’annulation hors de notre volonté ou de mauvaises conditions météo. \n\n\n\nMise en garde : le spectacle comporte l’utilisation de sacres. \n\n\n\nLe spectacle aura lieu sur le terrain de baseball #2 (près de l’intersection Legendre et Henri-Julien).  \n\n\n\nNous vous encourageons à utiliser le transport actif (stationnement limité sur les rues).  \n\n\n\nEn cas de pluie\, l’annulation se fera le jour même de l’événement. \n\n\n\nCe projet est réalisé dans le cadre de l’initiative Fous du français de l’Union des municipalités du Québec\, en collaboration avec le gouvernement du Québec. La Fabrique culturelle\, la plateforme culturelle de Télé-Québec\, va produire une capsule vidéo sur la création du spectacle. \n\n\n\nSource: montreal.ca \n\n\n\nDates et horaires sont sujets à changement sans préavis. Avant de vous déplacer\, vérifier ces informations sur montreal.ca
URL:https://journalmetro.com/evenement/fausse-balle-theatre-hors-taxes-4/
LOCATION:Parc Henri-Julien\, 9300 rue Saint-Denis\, Montréal\, QC\, Canada
CATEGORIES:Communautaire
ATTACH;FMTTYPE=image/jpeg:https://journalmetro.com/wp-content/uploads/2023/05/fausse-balle-2.jpg
END:VEVENT
END:VCALENDAR