BEGIN:VCALENDAR
VERSION:2.0
PRODID:-//Journal Métro - ECPv6.0.13//NONSGML v1.0//EN
CALSCALE:GREGORIAN
METHOD:PUBLISH
X-WR-CALNAME:Journal Métro
X-ORIGINAL-URL:https://journalmetro.com
X-WR-CALDESC:évènements pour Journal Métro
REFRESH-INTERVAL;VALUE=DURATION:PT1H
X-Robots-Tag:noindex
X-PUBLISHED-TTL:PT1H
BEGIN:VTIMEZONE
TZID:America/Toronto
BEGIN:DAYLIGHT
TZOFFSETFROM:-0500
TZOFFSETTO:-0400
TZNAME:EDT
DTSTART:20220313T070000
END:DAYLIGHT
BEGIN:STANDARD
TZOFFSETFROM:-0400
TZOFFSETTO:-0500
TZNAME:EST
DTSTART:20221106T060000
END:STANDARD
BEGIN:DAYLIGHT
TZOFFSETFROM:-0500
TZOFFSETTO:-0400
TZNAME:EDT
DTSTART:20230312T070000
END:DAYLIGHT
BEGIN:STANDARD
TZOFFSETFROM:-0400
TZOFFSETTO:-0500
TZNAME:EST
DTSTART:20231105T060000
END:STANDARD
END:VTIMEZONE
BEGIN:VEVENT
DTSTART;TZID=America/Toronto:20220825T150000
DTEND;TZID=America/Toronto:20220908T183000
DTSTAMP:20231016T114408
CREATED:20220816T150017Z
LAST-MODIFIED:20220816T150020Z
UID:10007076-1661439600-1662661800@journalmetro.com
SUMMARY:Périple - Laurette et Arlette
DESCRIPTION:Les nomades intemporelles Laurette et Arlette partagent leur passion du voyage sur des airs de paysages imaginaires. Ce duo musical offre une prestation intime et unique\, au répertoire original. \n\n\n\nLaurette\, la chef d’orchestre déchaînée et Arlette\, la starlette et éternelle apprentie\, rivalisent de créativité pour dérouter l’autre et déstabiliser le public. Les thématiques du voyage et de l’amitié inconditionnelle leur sont chères. Les musiciennes captivent les spectatrices et les spectateurs tout en humour et cultivent l’allégorie sans limites. \n\n\n\nAvec Soizick Hébert et Marie-Hélène Côté \n\n\n\nMusique originale : Soizick Hébert \n\n\n\nÉcriture et mise en scène : Soizick Hébert et Marie-Hélène Côté \n\n\n\nConseils artistiques : Emile Carey \n\n\n\nCostumes : Fany McCrae \n\n\n\nAccessoires : Marie-Hélène Côté \n\n\n\nScénographie : Philibert Hébert-Filion \n\n\n\nPériple met en scène Laurette\, la chef d’orchestre déchaînée et Arlette\, la starlette et éternelle apprentie. Les musiciennes rivalisent de créativité pour dérouter et captiver les spectateurs tout en humour et en complicité. Dans le cadre du Symposium des arts de Montréal-Nord organisé par l’AAVNM. \n\n\n\nUn événement présenté dans le cadre du CAM en tournée. \n\n\n\nSource: montreal.ca \n\n\n\nDates et horaires sont sujets à changement sans préavis. Avant de vous déplacer\, vérifier ces informations sur montreal.ca \n\n\n\nDates \n\n\n\n25 août – 18h30 \n\n\n\n27 août – 15h à 15h45 \n\n\n\n8 septembre – 16h
URL:https://journalmetro.com/evenement/periple-laurette-et-arlette/
LOCATION:Parc Ottawa\, 10400 avenue de Belleville\, Montréal\, QC\, Canada
CATEGORIES:Communautaire
ATTACH;FMTTYPE=image/jpeg:https://journalmetro.com/wp-content/uploads/2022/08/periple-arlette-et-2.jpg
END:VEVENT
BEGIN:VEVENT
DTSTART;TZID=America/Toronto:20220827T110000
DTEND;TZID=America/Toronto:20220828T170000
DTSTAMP:20231016T114408
CREATED:20220824T155253Z
LAST-MODIFIED:20220824T171450Z
UID:10007244-1661598000-1661706000@journalmetro.com
SUMMARY:Symposium en arts visuels\, 15e édition (AAVNM)
DESCRIPTION:Ne manquez pas la quinzième édition du Symposium d’arts visuels des artistes en arts visuels du nord de Montréal (AAVNM)\, qui se tient au parc Ottawa\, les 27 et 28 août. Comme invitée d’honneur\, l’artiste Jeanne Courtemanche Auclair\, artiste multidisciplinaire et élève d’Alfred Pellan. Venez découvrir 18 artistes en arts visuels qui se produiront en direct et exposeront leurs oeuves. Également au programme: dessins\, performances\, marquage au sol\, musique et exposition collective.  \n\n\n\nQui sont les 18 artistes?  \n\n\n\nBiarle Avila – Luis Jacinto Argumedes Mateus – Marik Audet – Martine Allard  Claude Bernard – DZLMN – Hélène Marie Corbeil – Nora Golic – Adela Gomez  – Francine Guay – Sergio Gutiérrez – Suzie Labrecque – Diane Leclair Marie Lucienne Marcelin – Emilie Morneau –  Tamara Pierre Louis Juan Raggo – Alan Willsie \n\n\n\nDécouvrez madame Jeanne Courtemanche Auclair\, un artiste représentatif de l’histoire des arts visuels au Québec\, élève d’Alfred Pellan. \n\n\n\nDécouvrez le duo Laurette et Arlette et leur spectacle Périple. \n\n\n\nDécouvrez l’histoire de Montréal Nord grâce à la Société d’histoire et de généalogie de Montréal Nord. \n\n\n\nDécouvrez les traditions\, grâce à la Société culture et Traditions Québécoises de Montréal Nord \n\n\n\nDécouvrez la caisse Desjardins de Sault-au-récollet-Montréal-nord et sa contribution à la communauté. \n\n\n\nDécouvrez des activités picturales pour les enfants et les adultes. \n\n\n\nGrâce à la contribution de l’arrondissement de Montréal Nord. \n\n\n\nC’est quoi AAVNM? \n\n\n\nLe collectif\, Artistes en arts visuels du nord de Montréal (AAVNM) est un organisme sans but lucratif depuis 2007\, reconnu par l’arrondissement de Montréal-Nord\, qui regroupe des artistes en arts visuels\, dont 80% sont des résidents de Montréal et 20% de l’extérieur de l’arrondissement.  \n\n\n\nInformation: aavnm3440@gmail.com \n\n\n\nDates \n\n\n\nSamedi 27 août\, de 11h à 19h \n\n\n\nDimanche 28 août\, de 11h à 17h
URL:https://journalmetro.com/evenement/symposium-en-arts-visuels-aavnm/
LOCATION:Parc Ottawa\, 10400 avenue de Belleville\, Montréal\, QC\, Canada
CATEGORIES:Communautaire
ATTACH;FMTTYPE=image/jpeg:https://journalmetro.com/wp-content/uploads/2022/08/symposium-arts-visuels-2.jpg
END:VEVENT
BEGIN:VEVENT
DTSTART;TZID=America/Toronto:20230528T110000
DTEND;TZID=America/Toronto:20230528T180000
DTSTAMP:20231016T114408
CREATED:20230508T172018Z
LAST-MODIFIED:20230508T172020Z
UID:10017463-1685271600-1685296800@journalmetro.com
SUMMARY:Événement Chili au Québec: Mémoire chilienne\, Québec terre d'accueil
DESCRIPTION:L’AAVNM propose Chili au Québec : Mémoire chilienne\, Québec terre d’accueil\, un événement multidisciplinaire en arts visuels\, pour souligner le 50e anniversaire du coup d’État au Chili\, à la suite duquel des milliers de Chiliens sont venus s’établir au Québec. \n\n\n\nUn éventail d’activités gratuites sera offert : ateliers de création de murales éphémères\, conférences\, rencontres d’artistes\, le tout en partenariat avec l’arrondissement de Montréal-Nord\, le Creativo arts et l’Association des Chiliens au Québec. \n\n\n\nSource: montreal.ca \n\n\n\nDates et horaires sont sujets à changement sans préavis. Avant de vous déplacer\, vérifier ces informations sur montreal.ca
URL:https://journalmetro.com/evenement/evenement-chili-au-quebec-memoire-chilienne-quebec-terre-daccueil/
LOCATION:Parc Ottawa\, 10400 avenue de Belleville\, Montréal\, QC\, Canada
ATTACH;FMTTYPE=image/jpeg:https://journalmetro.com/wp-content/uploads/2023/05/chili-au-quebec-2.jpg
END:VEVENT
BEGIN:VEVENT
DTSTART;TZID=America/Toronto:20230706T163000
DTEND;TZID=America/Toronto:20230817T180000
DTSTAMP:20231016T114408
CREATED:20230614T211608Z
LAST-MODIFIED:20230614T213018Z
UID:10018074-1688661000-1692295200@journalmetro.com
SUMMARY:Tentalire
DESCRIPTION:Rejoins ta bibliothécaire sous la Tentalire des bibliothèques de Montréal-Nord! \n\n\n\nViens profiter des beaux jours de l’été pour découvrir une variété de livres\, faire des lectures et écouter les belles histoires de la bibliothécaire sous sa tente bleue. En cas de mauvais temps\, l’activité sera annulée. \n\n\n\nSource: montreal.ca \n\n\n\nDates et horaires sont sujets à changement sans préavis. Avant de vous déplacer\, vérifier ces informations sur montreal.ca
URL:https://journalmetro.com/evenement/tentalire-4/
LOCATION:Parc Ottawa\, 10400 avenue de Belleville\, Montréal\, QC\, Canada
ATTACH;FMTTYPE=image/jpeg:https://journalmetro.com/wp-content/uploads/2023/05/tentalire-2.jpg
END:VEVENT
END:VCALENDAR