BEGIN:VCALENDAR
VERSION:2.0
PRODID:-//Journal Métro - ECPv6.0.13//NONSGML v1.0//EN
CALSCALE:GREGORIAN
METHOD:PUBLISH
X-WR-CALNAME:Journal Métro
X-ORIGINAL-URL:https://journalmetro.com
X-WR-CALDESC:évènements pour Journal Métro
REFRESH-INTERVAL;VALUE=DURATION:PT1H
X-Robots-Tag:noindex
X-PUBLISHED-TTL:PT1H
BEGIN:VTIMEZONE
TZID:America/Toronto
BEGIN:DAYLIGHT
TZOFFSETFROM:-0500
TZOFFSETTO:-0400
TZNAME:EDT
DTSTART:20230312T070000
END:DAYLIGHT
BEGIN:STANDARD
TZOFFSETFROM:-0400
TZOFFSETTO:-0500
TZNAME:EST
DTSTART:20231105T060000
END:STANDARD
END:VTIMEZONE
BEGIN:VEVENT
DTSTART;TZID=America/Toronto:20230801T190000
DTEND;TZID=America/Toronto:20230801T213000
DTSTAMP:20231016T151522
CREATED:20230628T142413Z
LAST-MODIFIED:20230628T142414Z
UID:10018431-1690916400-1690925400@journalmetro.com
SUMMARY:Shakespeare-in-the-Park - Cymbeline de Repercussion Theatre
DESCRIPTION:S’inspirant de Shakespeare\, la troupe Repercussion Théâtre propose en anglais une oeuvre originale et inspirante. Cymbeline est un récit d’aventures aux multiples rebondissements. \n\n\n\nDans cette pièce\, on trouve de tout : un royaume troublé\, un mariage secret\, une méchante belle-mère\, une princesse déguisée\, des trahisons\, des batailles\, du poison\, des prophéties\, des brigands\, des intrigues\, des révélations et des retrouvailles… \n\n\n\nAmenez vos chaises et votre pique-nique. Annulé en cas de pluie. \n\n\n\nUn événement présenté dans le cadre du CAM en tournée. \n\n\n\nSource: montreal.ca \n\n\n\nDates et horaires sont sujets à changement sans préavis. Avant de vous déplacer\, vérifier ces informations sur montreal.ca
URL:https://journalmetro.com/evenement/shakespeare-in-the-park-cymbeline-de-repercussion-theatre-2/
LOCATION:Parc Philippe-Laheurte\, 3035 avenue Ernest-Hemingway\, Montréal\, QC\, Canada
CATEGORIES:Communautaire
ATTACH;FMTTYPE=image/jpeg:https://journalmetro.com/wp-content/uploads/2023/06/shakes-in-the-park-2.jpg
END:VEVENT
END:VCALENDAR