BEGIN:VCALENDAR
VERSION:2.0
PRODID:-//Journal Métro - ECPv6.0.13//NONSGML v1.0//EN
CALSCALE:GREGORIAN
METHOD:PUBLISH
X-WR-CALNAME:Journal Métro
X-ORIGINAL-URL:https://journalmetro.com
X-WR-CALDESC:évènements pour Journal Métro
REFRESH-INTERVAL;VALUE=DURATION:PT1H
X-Robots-Tag:noindex
X-PUBLISHED-TTL:PT1H
BEGIN:VTIMEZONE
TZID:America/Toronto
BEGIN:DAYLIGHT
TZOFFSETFROM:-0500
TZOFFSETTO:-0400
TZNAME:EDT
DTSTART:20220313T070000
END:DAYLIGHT
BEGIN:STANDARD
TZOFFSETFROM:-0400
TZOFFSETTO:-0500
TZNAME:EST
DTSTART:20221106T060000
END:STANDARD
BEGIN:DAYLIGHT
TZOFFSETFROM:-0500
TZOFFSETTO:-0400
TZNAME:EDT
DTSTART:20230312T070000
END:DAYLIGHT
BEGIN:STANDARD
TZOFFSETFROM:-0400
TZOFFSETTO:-0500
TZNAME:EST
DTSTART:20231105T060000
END:STANDARD
END:VTIMEZONE
BEGIN:VEVENT
DTSTART;TZID=America/Toronto:20221001T100000
DTEND;TZID=America/Toronto:20221001T190000
DTSTAMP:20231016T121822
CREATED:20220915T171206Z
LAST-MODIFIED:20230207T154947Z
UID:10007574-1664618400-1664650800@journalmetro.com
SUMMARY:Démonstration de taille de pierre et de sculpture
DESCRIPTION:Profitez d’une démonstration de taille de pierre et assistez à la réalisation d’une sculpture d’un élément décoratif architectural en pierre. \n\n\n\nAlexandre Maquet possède 25 ans d’expérience en taille de pierre\, construction résidentielle\, restauration patrimoniale\, sculpture\, gestion de projet. Il détient une formation initiale de quatre ans dont deux en alternance école-entreprise en France. De plus\, il est membre professionnel et membre des jurys d’admission depuis 2005 du Conseil des métiers d’art du Québec\, en plus d’être formateur à la Commission scolaire des Hauts-Cantons ainsi qu’au CÉGEP du Vieux-Montréal. \n\n\n\nCet événement fait partie de la programmation de la journée Patrimoine en fête. \n\n\n\nDates et horaires sont sujets à changement sans préavis. Avant de vous déplacer\, vérifier ces informations sur montreal.ca. \n\n\n\nSource: montreal.ca
URL:https://journalmetro.com/evenement/demonstration-de-taille-de-pierre-et-de-sculpture/
LOCATION:Parc René-Levesque\, 390\, chemin du Canal\, Montréal\, QC\, H8S 4G2\, Canada
CATEGORIES:Communautaire
ATTACH;FMTTYPE=image/jpeg:https://journalmetro.com/wp-content/uploads/2022/09/taille-de-pierre.jpg
END:VEVENT
BEGIN:VEVENT
DTSTART;TZID=America/Toronto:20230723T143000
DTEND;TZID=America/Toronto:20230723T160000
DTSTAMP:20231016T121822
CREATED:20230629T174256Z
LAST-MODIFIED:20230629T174257Z
UID:10018519-1690122600-1690128000@journalmetro.com
SUMMARY:Bibli-au-parc et activité du Club de lecture d'été TD : parc René-Lévesque
DESCRIPTION:Pour le plaisir de lire et jouer dehors!  Une activité du Club de lecture d’été TD 2023 des bibliothèques de Lachine \n\n\n\nVotre bibliothèque de Lachine s’installe avec des livres et des activités pour les familles.  Une activité de cherche et trouve sera proposée ainsi que du marquage au sol \n\n\n\nMusée de Lachine \n\n\n\nSource: montreal.ca \n\n\n\nDates et horaires sont sujets à changement sans préavis. Avant de vous déplacer\, vérifier ces informations sur montreal.ca
URL:https://journalmetro.com/evenement/bibli-au-parc-et-activite-du-club-de-lecture-dete-td-parc-rene-levesque/
LOCATION:Parc René-Levesque\, 390\, chemin du Canal\, Montréal\, QC\, H8S 4G2\, Canada
ATTACH;FMTTYPE=image/jpeg:https://journalmetro.com/wp-content/uploads/2023/06/td-st-henri-2.jpg
END:VEVENT
END:VCALENDAR