BEGIN:VCALENDAR
VERSION:2.0
PRODID:-//Journal Métro - ECPv6.0.13//NONSGML v1.0//EN
CALSCALE:GREGORIAN
METHOD:PUBLISH
X-WR-CALNAME:Journal Métro
X-ORIGINAL-URL:https://journalmetro.com
X-WR-CALDESC:évènements pour Journal Métro
REFRESH-INTERVAL;VALUE=DURATION:PT1H
X-Robots-Tag:noindex
X-PUBLISHED-TTL:PT1H
BEGIN:VTIMEZONE
TZID:America/Toronto
BEGIN:DAYLIGHT
TZOFFSETFROM:-0500
TZOFFSETTO:-0400
TZNAME:EDT
DTSTART:20230312T070000
END:DAYLIGHT
BEGIN:STANDARD
TZOFFSETFROM:-0400
TZOFFSETTO:-0500
TZNAME:EST
DTSTART:20231105T060000
END:STANDARD
END:VTIMEZONE
BEGIN:VEVENT
DTSTART;TZID=America/Toronto:20230725T100000
DTEND;TZID=America/Toronto:20230725T113000
DTSTAMP:20231016T163444
CREATED:20230707T162946Z
LAST-MODIFIED:20230707T162948Z
UID:10018741-1690279200-1690284600@journalmetro.com
SUMMARY:La BibliOtente
DESCRIPTION:La bibliOtente est une heure du conte offerte aux tout-petits par une animatrice dans un parc. \n\n\n\nHeure du conte et lecture pour les tout-petits et leur famille avec la conteuse Tania Baladi. \n\n\n\nSource: montreal.ca \n\n\n\nDates et horaires sont sujets à changement sans préavis. Avant de vous déplacer\, vérifier ces informations sur montreal.ca
URL:https://journalmetro.com/evenement/la-bibliotente-2/
LOCATION:Parc Rougemont\, 1900 rue Bossuet\, Montréal\, QC\, Canada
ATTACH;FMTTYPE=image/jpeg:https://journalmetro.com/wp-content/uploads/2023/07/bibliotente-2.jpg
END:VEVENT
END:VCALENDAR