BEGIN:VCALENDAR
VERSION:2.0
PRODID:-//Journal Métro - ECPv6.0.13//NONSGML v1.0//EN
CALSCALE:GREGORIAN
METHOD:PUBLISH
X-WR-CALNAME:Journal Métro
X-ORIGINAL-URL:https://journalmetro.com
X-WR-CALDESC:évènements pour Journal Métro
REFRESH-INTERVAL;VALUE=DURATION:PT1H
X-Robots-Tag:noindex
X-PUBLISHED-TTL:PT1H
BEGIN:VTIMEZONE
TZID:America/Toronto
BEGIN:DAYLIGHT
TZOFFSETFROM:-0500
TZOFFSETTO:-0400
TZNAME:EDT
DTSTART:20230312T070000
END:DAYLIGHT
BEGIN:STANDARD
TZOFFSETFROM:-0400
TZOFFSETTO:-0500
TZNAME:EST
DTSTART:20231105T060000
END:STANDARD
END:VTIMEZONE
BEGIN:VEVENT
DTSTART;TZID=America/Toronto:20230721T190000
DTEND;TZID=America/Toronto:20230721T201500
DTSTAMP:20231016T163500
CREATED:20230621T175831Z
LAST-MODIFIED:20230704T122128Z
UID:10018281-1689966000-1689970500@journalmetro.com
SUMMARY:Sumak Brass Band
DESCRIPTION:Dans le cadre des Concerts Campbell\, découvrez une fanfare mettant en vedette saxophone\, trompette\, trombone\, tuba et tapan. Ses improvisations modales et ses rythmes asymétriques sauront vous faire danser. \n\n\n\nFondé en 2018 par la saxophoniste Ariane Morin\, Sumak Brass Band célèbre ses 5 ans à jouer dans les salles et rues de Montréal. La fanfare balkanique se distingue par sa formation intimiste et puissante\, ainsi que son répertoire à forte influence Rom du Sud des Balkans\, de la Turquie et de la Grèce.   \n\n\n\nRassemblant des musiciens de la scène de musique du monde de Montréal. Chacun des membres de l’ensemble ont étudié auprès de maîtres de ces traditions en Turquie\, Bulgarie\, Macédoine du Nord\, et New-York. \n\n\n\nQuelques mots sur les Concerts Campbell\n\n\n\nDepuis 1924\, les Concerts Campbell animent durant l’été les parcs de Montréal. Chaque année\, grâce à la succession de  Charles S. Campbell\, des concerts de qualité sont offerts à toutes et à tous dans chacun des arrondissements de la Ville. \n\n\n\nSource: montreal.ca \n\n\n\nDates et horaires sont sujets à changement sans préavis. Avant de vous déplacer\, vérifier ces informations sur montreal.ca
URL:https://journalmetro.com/evenement/sumak-brass-band-3/
LOCATION:Parc Saint-Donat\, 6800 rue de Marseille\, Montréal\, QC\, Canada
CATEGORIES:Communautaire
ATTACH;FMTTYPE=image/jpeg:https://journalmetro.com/wp-content/uploads/2023/06/sumak-2.jpg
END:VEVENT
END:VCALENDAR