BEGIN:VCALENDAR
VERSION:2.0
PRODID:-//Journal Métro - ECPv6.0.13//NONSGML v1.0//EN
CALSCALE:GREGORIAN
METHOD:PUBLISH
X-WR-CALNAME:Journal Métro
X-ORIGINAL-URL:https://journalmetro.com
X-WR-CALDESC:évènements pour Journal Métro
REFRESH-INTERVAL;VALUE=DURATION:PT1H
X-Robots-Tag:noindex
X-PUBLISHED-TTL:PT1H
BEGIN:VTIMEZONE
TZID:America/Toronto
BEGIN:DAYLIGHT
TZOFFSETFROM:-0500
TZOFFSETTO:-0400
TZNAME:EDT
DTSTART:20220313T070000
END:DAYLIGHT
BEGIN:STANDARD
TZOFFSETFROM:-0400
TZOFFSETTO:-0500
TZNAME:EST
DTSTART:20221106T060000
END:STANDARD
BEGIN:DAYLIGHT
TZOFFSETFROM:-0500
TZOFFSETTO:-0400
TZNAME:EDT
DTSTART:20230312T070000
END:DAYLIGHT
BEGIN:STANDARD
TZOFFSETFROM:-0400
TZOFFSETTO:-0500
TZNAME:EST
DTSTART:20231105T060000
END:STANDARD
END:VTIMEZONE
BEGIN:VEVENT
DTSTART;TZID=America/Toronto:20220930T133000
DTEND;TZID=America/Toronto:20220930T133000
DTSTAMP:20231016T101453
CREATED:20220927T171244Z
LAST-MODIFIED:20220928T110748Z
UID:10007853-1664544600-1664544600@journalmetro.com
SUMMARY:Une chanson à l'école 2022
DESCRIPTION:Dans le cadre des Journées de la culture et du projet Une chanson à l’école 2022\, les concentrations Musique et Danse du collège Régina Assumpta\, en collaboration avec les Petits Chanteurs de Laval\, offriront plusieurs interprétations de la chanson Les doigts en coeur\, composée par Louis-Jean Cormier. Le tout se passe le vendredi 30 septembre au parc Saint-Paul-de-la-Croix\, de 13h30 à 14h30. Plus de 150 jeunes se mobiliseront afin de témoigner et transmettre leur passion de la musique et de la culture.  \n\n\n\nPour toute information: 514-382-4121 \n\n\n\nEn cas de pluie\, l’événement se déroulera à la salle Marguerite-Bourgeoys du collège Régina Assumpta.
URL:https://journalmetro.com/evenement/une-chanson-a-lecole-2022/
LOCATION:Parc Saint-Paul-de-la-Croix\, 9900 avenue Hamel\, QC\, Canada
CATEGORIES:Communautaire
ATTACH;FMTTYPE=image/jpeg:https://journalmetro.com/wp-content/uploads/2022/09/chanson-2.jpg
END:VEVENT
BEGIN:VEVENT
DTSTART;TZID=America/Toronto:20230720T190000
DTEND;TZID=America/Toronto:20230720T200000
DTSTAMP:20231016T101453
CREATED:20230622T172331Z
LAST-MODIFIED:20230622T172333Z
UID:10018314-1689879600-1689883200@journalmetro.com
SUMMARY:Indiscrétions publiques - Théâtre du Ricochet
DESCRIPTION:Sept courtes capsules théâtrales vous permettent enfin d’espionner les conversations des autres! \n\n\n\nDans différentes scènes\, vous pourrez épier les dialogues qui mettent en scène la vie du quotidien dans un lieu public. \n\n\n\nLe Théâtre du Ricochet présente la 9e édition des Indiscrétions publiques. Signés par des auteurs québécois\, les textes inédits abordent\, entre autres\, des sujets comme le racisme\, l’urbanisme\, le droit de vote\, le deuil et la situation des autochtones. \n\n\n\nUne discussion entre le public et l’équipe de création suit toutes les représentations. Cet acte de médiation\, inhérent au concept\, permet d’échanger avec les artistes des sujets abordés et de nourrir la réflexion. \n\n\n\nPrésenté dans le cadre de l’appel à projets La culture sous toutes ses formes pour animer les espaces publics d’Ahuntsic-Cartierville. \n\n\n\nEn cas de pluie\, l’événement sera annulé. \n\n\n\nSource: montreal.ca \n\n\n\nDates et horaires sont sujets à changement sans préavis. Avant de vous déplacer\, vérifier ces informations sur montreal.ca
URL:https://journalmetro.com/evenement/indiscretions-publiques-theatre-du-ricochet-4/
LOCATION:Parc Saint-Paul-de-la-Croix\, 9900 avenue Hamel\, QC\, Canada
CATEGORIES:Communautaire
ATTACH;FMTTYPE=image/jpeg:https://journalmetro.com/wp-content/uploads/2023/06/indiscretions-2.jpg
END:VEVENT
BEGIN:VEVENT
DTSTART;TZID=America/Toronto:20230810T190000
DTEND;TZID=America/Toronto:20230810T194500
DTSTAMP:20231016T101454
CREATED:20230629T133411Z
LAST-MODIFIED:20230629T133412Z
UID:10018484-1691694000-1691696700@journalmetro.com
SUMMARY:Avant de devenir un arbre - La fille du laitier
DESCRIPTION:Avant de devenir un arbre est une pièce solo de 45 minutes\, où l’on découvre le parcours fabulé d’une artiste en devenir. \n\n\n\nMondialement connue grâce à ses dessins de bonhommes allumettes à lunettes\, ADA fera la rencontre d’un pépin qui lui fera tranquillement perdre l’usage de ses précieuses mains et chamboulera ses plans de carrière. Dans un espace qui pourrait être un atelier ou encore une chambre d’hôpital\, on suivra le personnage de l’annonce de son diagnostic jusqu’à l’étape de l’acceptation. \n\n\n\nAvant de devenir un arbre célèbre la résilience de l’enfance avec humour et poésie aux travers de tableaux ludiques alliant théâtre d’images\, théâtre physique et marionnettes. \n\n\n\nCréation et interprétation : Marie-Hélène Bélanger Dumas \n\n\n\nDirection de production et assistance à la mise en scène : Laurence Régnier \n\n\n\nConseil artistique : Jérémie Desbiens \n\n\n\nConception des décors : Cédric Lord \n\n\n\nConception des marionnettes et accessoires : Elisabeth Coulon-Lafleur \n\n\n\nConception sonore : Stéfan Boucher \n\n\n\nDirection technique : Jean-Marie Gardien \n\n\n\nConception des costumes : Olga Abeleva \n\n\n\nJeune public \n\n\n\nDurée : 45 minutes \n\n\n\nPrésenté dans le cadre de l’appel à projets La culture sous toutes ses formes pour animer les espaces publics d’Ahuntsic-Cartierville. \n\n\n\nEn cas de pluie\, l’événement sera annulé. \n\n\n\nSource: montreal.ca \n\n\n\nDates et horaires sont sujets à changement sans préavis. Avant de vous déplacer\, vérifier ces informations sur montreal.ca
URL:https://journalmetro.com/evenement/avant-de-devenir-un-arbre-la-fille-du-laitier/
LOCATION:Parc Saint-Paul-de-la-Croix\, 9900 avenue Hamel\, QC\, Canada
CATEGORIES:Communautaire
ATTACH;FMTTYPE=image/jpeg:https://journalmetro.com/wp-content/uploads/2023/06/avant-de-devenir-un-arbre-2.jpg
END:VEVENT
END:VCALENDAR