BEGIN:VCALENDAR
VERSION:2.0
PRODID:-//Journal Métro - ECPv6.0.13//NONSGML v1.0//EN
CALSCALE:GREGORIAN
METHOD:PUBLISH
X-WR-CALNAME:Journal Métro
X-ORIGINAL-URL:https://journalmetro.com
X-WR-CALDESC:évènements pour Journal Métro
REFRESH-INTERVAL;VALUE=DURATION:PT1H
X-Robots-Tag:noindex
X-PUBLISHED-TTL:PT1H
BEGIN:VTIMEZONE
TZID:America/Toronto
BEGIN:DAYLIGHT
TZOFFSETFROM:-0500
TZOFFSETTO:-0400
TZNAME:EDT
DTSTART:20220313T070000
END:DAYLIGHT
BEGIN:STANDARD
TZOFFSETFROM:-0400
TZOFFSETTO:-0500
TZNAME:EST
DTSTART:20221106T060000
END:STANDARD
END:VTIMEZONE
BEGIN:VEVENT
DTSTART;TZID=America/Toronto:20220828T140000
DTEND;TZID=America/Toronto:20220828T150000
DTSTAMP:20231018T175911
CREATED:20220616T202941Z
LAST-MODIFIED:20220824T131023Z
UID:10006567-1661695200-1661698800@journalmetro.com
SUMMARY:La famille GoldenCrust
DESCRIPTION:Spectacle extérieur pour toute la famille\, venez à la rencontre de la famille complètement déjantée des GoldenCrust ! \n\n\n\nAux parcs Saint-Alphonse et Saint-Simon-Apôtre. \n\n\n\nVenez rencontrer Grace (Tamara Bousquet)  et son chum\, Kevin (Philippe Trépanier)\, fraîchement de retour de leur flamboyante Floride\, les GoldenCrust stationnent la Golden Mobile dans notre arrondissement. \n\n\n\nCes snowbirds hauts en couleurs\, vous proposent une fenêtre sur leur vie le temps de leurs vacances chez vous. Vous pourrez également observer leurs talents les plus inusités. Vous verrez\, ils sont très attachants…Du matin au soir\, amusez-vous à les regarder vivre dans leur enclos improbable: comme une télé-réalité pas d’télé! Ne prévoyez pas trop d’activités aujourd’hui\, petits et grands risquent de tomber sous leurs charmes. \n\n\n\nPrésenté par la maison de la culture Ahuntsic \n\n\n\nDates et horaires sont sujets à changement sans préavis. Avant de vous déplacer\, vérifier ces informations sur montreal.ca \n\n\n\nSource: montreal.ca
URL:https://journalmetro.com/evenement/la-famille-goldencrust/
LOCATION:Parc Saint-Simon-Apôtre\, 200\, rue Legendre Ouest\, Montréal\, QC\, H2N 1V4\, Canada
ATTACH;FMTTYPE=image/jpeg:https://journalmetro.com/wp-content/uploads/2022/06/famille-goldencrust-2-1.jpg
END:VEVENT
END:VCALENDAR