BEGIN:VCALENDAR
VERSION:2.0
PRODID:-//Journal Métro - ECPv6.0.13//NONSGML v1.0//EN
CALSCALE:GREGORIAN
METHOD:PUBLISH
X-WR-CALNAME:Journal Métro
X-ORIGINAL-URL:https://journalmetro.com
X-WR-CALDESC:évènements pour Journal Métro
REFRESH-INTERVAL;VALUE=DURATION:PT1H
X-Robots-Tag:noindex
X-PUBLISHED-TTL:PT1H
BEGIN:VTIMEZONE
TZID:America/Toronto
BEGIN:DAYLIGHT
TZOFFSETFROM:-0500
TZOFFSETTO:-0400
TZNAME:EDT
DTSTART:20230312T070000
END:DAYLIGHT
BEGIN:STANDARD
TZOFFSETFROM:-0400
TZOFFSETTO:-0500
TZNAME:EST
DTSTART:20231105T060000
END:STANDARD
END:VTIMEZONE
BEGIN:VEVENT
DTSTART;TZID=America/Toronto:20230529T110000
DTEND;TZID=America/Toronto:20230529T123000
DTSTAMP:20231016T111342
CREATED:20230529T195354Z
LAST-MODIFIED:20230529T195356Z
UID:10017784-1685358000-1685363400@journalmetro.com
SUMMARY:Livres dans la rue
DESCRIPTION:Du 26 juin au 10 août\, des animatrices passionnées de livres arpentent plus d’une cinquantaine de parcs pour partager le plaisir de la lecture avec les enfants de 4 à 12 ans. \n\n\n\nDu lundi au jeudi\, les animatrices munies d’un sac à dos rempli de livres se rendent dans des parcs de Montréal pour faire découvrir leurs coups de cœur aux enfants.  \n\n\n\nLe plaisir est au centre de cette activité qui se veut à la fois ludique et stimulante. L’équipe d’animation s’adapte aux besoins et aux goûts des enfants rencontrés. L’activité se déroule simplement\, dans une atmosphère de détente et de liberté. \n\n\n\nSi\, lors d’une promenade\, vous apercevez une animatrice\, n’hésitez surtout pas à aller à sa rencontre\, avec votre enfant. \n\n\n\nActivité annulée en cas de pluie \n\n\n\nSource: montreal.ca \n\n\n\nDates et horaires sont sujets à changement sans préavis. Avant de vous déplacer\, vérifier ces informations sur montreal.ca
URL:https://journalmetro.com/evenement/livres-dans-la-rue-19/
LOCATION:Parc Sauvé\, 11440 avenue Éthier\, Montréal\, QC\, Canada
ATTACH;FMTTYPE=image/jpeg:https://journalmetro.com/wp-content/uploads/2023/05/livres-dans-la-rue-2.jpg
END:VEVENT
BEGIN:VEVENT
DTSTART;TZID=America/Toronto:20230607T180000
DTEND;TZID=America/Toronto:20230607T193000
DTSTAMP:20231016T111342
CREATED:20230605T160029Z
LAST-MODIFIED:20230605T160031Z
UID:10017888-1686160800-1686166200@journalmetro.com
SUMMARY:Le club bd féministe de Montréal-Nord: Solitude d'un autre genre/Kabi Kagata
DESCRIPTION:Viens discuter avec Fatima Salazar Gomez sur des sujets d’actualité! \n\n\n\nL’objectif des rencontres est d’aborder des sujets d’actualité d’après une perspective féministe en bande dessinée. Espace de discussion bienveillant sans préjugés\, basé sur le respect et l’ouverture aux autres. \n\n\n\nSource: montreal.ca \n\n\n\nDates et horaires sont sujets à changement sans préavis. Avant de vous déplacer\, vérifier ces informations sur montreal.ca
URL:https://journalmetro.com/evenement/le-club-bd-feministe-de-montreal-nord-solitude-dun-autre-genre-kabi-kagata/
LOCATION:Parc Sauvé\, 11440 avenue Éthier\, Montréal\, QC\, Canada
ATTACH;FMTTYPE=image/jpeg:https://journalmetro.com/wp-content/uploads/2023/04/club-bd-feministe-mtl-nord-2.jpg
END:VEVENT
END:VCALENDAR