BEGIN:VCALENDAR
VERSION:2.0
PRODID:-//Journal Métro - ECPv6.0.13//NONSGML v1.0//EN
CALSCALE:GREGORIAN
METHOD:PUBLISH
X-WR-CALNAME:Journal Métro
X-ORIGINAL-URL:https://journalmetro.com
X-WR-CALDESC:évènements pour Journal Métro
REFRESH-INTERVAL;VALUE=DURATION:PT1H
X-Robots-Tag:noindex
X-PUBLISHED-TTL:PT1H
BEGIN:VTIMEZONE
TZID:America/Toronto
BEGIN:DAYLIGHT
TZOFFSETFROM:-0500
TZOFFSETTO:-0400
TZNAME:EDT
DTSTART:20230312T070000
END:DAYLIGHT
BEGIN:STANDARD
TZOFFSETFROM:-0400
TZOFFSETTO:-0500
TZNAME:EST
DTSTART:20231105T060000
END:STANDARD
END:VTIMEZONE
BEGIN:VEVENT
DTSTART;TZID=America/Toronto:20230224T170000
DTEND;TZID=America/Toronto:20230224T200000
DTSTAMP:20231017T122315
CREATED:20230202T161712Z
LAST-MODIFIED:20230227T151530Z
UID:10013542-1677258000-1677268800@journalmetro.com
SUMMARY:Disco patin à Côtes-des-Neiges-Notre–Dame-de-Grâce - Patinoire BBB
DESCRIPTION:Chaussez vos patins et venez bouger dans une ambiance disco. \n\n\n\nEn cas de mauvaises conditions climatiques\, l’événement sera remis au lendemain. \n\n\n\nSource: montreal.ca \n\n\n\nDates et horaires sont sujets à changement sans préavis. Avant de vous déplacer\, vérifier ces informations sur montreal.ca
URL:https://journalmetro.com/evenement/disco-patin-a-cotes-des-neiges-notre-dame-de-grace-patinoire-bbb/
LOCATION:Patinoire Bleu Blanc Rouge\, 6262 avenue Fielding\, Montréal\, QC\, Canada
ATTACH;FMTTYPE=image/jpeg:https://journalmetro.com/wp-content/uploads/2023/02/disco-patin-a-bbb-2.jpg
END:VEVENT
END:VCALENDAR