BEGIN:VCALENDAR
VERSION:2.0
PRODID:-//Journal Métro - ECPv6.0.13//NONSGML v1.0//EN
CALSCALE:GREGORIAN
METHOD:PUBLISH
X-WR-CALNAME:Journal Métro
X-ORIGINAL-URL:https://journalmetro.com
X-WR-CALDESC:évènements pour Journal Métro
REFRESH-INTERVAL;VALUE=DURATION:PT1H
X-Robots-Tag:noindex
X-PUBLISHED-TTL:PT1H
BEGIN:VTIMEZONE
TZID:America/Toronto
BEGIN:DAYLIGHT
TZOFFSETFROM:-0500
TZOFFSETTO:-0400
TZNAME:EDT
DTSTART:20220313T070000
END:DAYLIGHT
BEGIN:STANDARD
TZOFFSETFROM:-0400
TZOFFSETTO:-0500
TZNAME:EST
DTSTART:20221106T060000
END:STANDARD
BEGIN:DAYLIGHT
TZOFFSETFROM:-0500
TZOFFSETTO:-0400
TZNAME:EDT
DTSTART:20230312T070000
END:DAYLIGHT
BEGIN:STANDARD
TZOFFSETFROM:-0400
TZOFFSETTO:-0500
TZNAME:EST
DTSTART:20231105T060000
END:STANDARD
END:VTIMEZONE
BEGIN:VEVENT
DTSTART;TZID=America/Toronto:20221008T090000
DTEND;TZID=America/Toronto:20221105T143000
DTSTAMP:20231012T223918
CREATED:20220825T131015Z
LAST-MODIFIED:20220825T131017Z
UID:10007273-1665219600-1667658600@journalmetro.com
SUMMARY:Prêts à rester seuls (9 à 12 ans)
DESCRIPTION:Ce cours te permettra d’acquérir des connaissances et les techniquesde base en secourisme afin d’assurer ta sécurité lorsque tu es seul à la maison. \n\n\n\nPour plus d’informations à propos de cet événement\, veuillez contacter Arrondissement de Montréal-Nord à info.pavillonhb@gmail.com ou au +1 514-328-4000 #5559.
URL:https://journalmetro.com/evenement/prets-a-rester-seuls-9-a-12-ans/
LOCATION:Pavillon du parc Henri-Bourassa\, 6100 rue Pascal\, Montréal\, QC\, Canada
ATTACH;FMTTYPE=image/jpeg:https://journalmetro.com/wp-content/uploads/2022/08/prets-a-rester-seuls-2.jpg
END:VEVENT
BEGIN:VEVENT
DTSTART;TZID=America/Toronto:20221015T140000
DTEND;TZID=America/Toronto:20221015T160000
DTSTAMP:20231012T223918
CREATED:20220825T135434Z
LAST-MODIFIED:20220825T135438Z
UID:10007276-1665842400-1665849600@journalmetro.com
SUMMARY:Modéliser la maison de vos rêves
DESCRIPTION:Explorez le monde de la conception 3D en apprenant les bases de la modélisation afin de créer une maison. Que ce soit un château ou un  chalet\, l’espace de création est à vous !
URL:https://journalmetro.com/evenement/modeliser-la-maison-de-vos-reves/
LOCATION:Pavillon du parc Henri-Bourassa\, 6100 rue Pascal\, Montréal\, QC\, Canada
ATTACH;FMTTYPE=image/jpeg:https://journalmetro.com/wp-content/uploads/2022/08/modeliser-sa-maison-de-reve-2.jpg
END:VEVENT
BEGIN:VEVENT
DTSTART;TZID=America/Toronto:20221022T083000
DTEND;TZID=America/Toronto:20221203T160000
DTSTAMP:20231012T223918
CREATED:20220825T140452Z
LAST-MODIFIED:20220825T140519Z
UID:10007278-1666427400-1670083200@journalmetro.com
SUMMARY:Gardiens avertis (11 à 15 ans)
DESCRIPTION:Ce cours te permettra d’acquérir des connaissances afin d’être seul à la maison et de garder des enfants : techniques de base en secourisme et compétences nécessaires pour prendre soin d’enfants plus jeunes. \n\n\n\nLe 22 octobre et le 3 décembre\, de 8h30 à 16h. \n\n\n\nPour plus d’informations à propos de cet événement\, veuillez contacter Arrondissement de Montréal-Nord à info.pavillonhb@gmail.com ou au +1 514-328-4000 #5559.
URL:https://journalmetro.com/evenement/gardiens-avertis-11-a-15-ans/
LOCATION:Pavillon du parc Henri-Bourassa\, 6100 rue Pascal\, Montréal\, QC\, Canada
ATTACH;FMTTYPE=image/jpeg:https://journalmetro.com/wp-content/uploads/2022/08/gardiens-avertis-2.jpg
END:VEVENT
BEGIN:VEVENT
DTSTART;TZID=America/Toronto:20221103T160000
DTEND;TZID=America/Toronto:20221215T190000
DTSTAMP:20231012T223918
CREATED:20220826T135224Z
LAST-MODIFIED:20220826T135720Z
UID:10007291-1667491200-1671130800@journalmetro.com
SUMMARY:Atelier d'art audiovisuel numérique (11 à 21 ans)
DESCRIPTION:Viens explorer la création d’arts numériques dans cette série de 7 ateliers dans lesquels tu pourras créer de la musique électronique (hip-hop\, afrobeat\, pop\, etc) et des vidéos originales. Ces ateliers fournissent ordinateurs\, logiciels\, caméra vidéo et tout ce qu’il faut pour créer une oeuvre audiovisuelle numérique. Tu n’as besoin d’aucun matériel ni de connaissances préalables. \n\n\n\nPour plus d’informations à propos de cet événement\, veuillez contacter Arrondissement de Montréal-Nord à equistarts@hoodstock.ca ou au (438) 794-8007 poste 6.
URL:https://journalmetro.com/evenement/atelier-dart-audiovisuel-numerique-11-a-21-ans/
LOCATION:Pavillon du parc Henri-Bourassa\, 6100 rue Pascal\, Montréal\, QC\, Canada
CATEGORIES:Communautaire
ATTACH;FMTTYPE=image/jpeg:https://journalmetro.com/wp-content/uploads/2022/08/atelier-dart-audiovisuel-numerique-2.jpg
END:VEVENT
BEGIN:VEVENT
DTSTART;TZID=America/Toronto:20221104T130000
DTEND;TZID=America/Toronto:20221104T160000
DTSTAMP:20231012T223918
CREATED:20220826T135605Z
LAST-MODIFIED:20220826T135626Z
UID:10007292-1667566800-1667577600@journalmetro.com
SUMMARY:Le rendez-vous de la proche aidance
DESCRIPTION:Proches aidant(e)s\, complices et sympatisant(e)s\, nous vous convions au Rendez-vous de la proche aidance ! Informations et créations seront au rendez-vous. Nous vous invitons à partager avec nous les créations réalisées par et pour les personnes proches aidantes. Clown\, slam et conte ; un rendez-vous de coeur à ne pas manquer ! \n\n\n\nPour plus d’informations à propos de cet événement\, veuillez contacter Arrondissement de Montréal-Nord à info.pavillonhb@gmail.com ou au +1 514-328-4000 #5559.
URL:https://journalmetro.com/evenement/le-rendez-vous-de-la-proche-aidance/
LOCATION:Pavillon du parc Henri-Bourassa\, 6100 rue Pascal\, Montréal\, QC\, Canada
CATEGORIES:Communautaire
ATTACH;FMTTYPE=image/jpeg:https://journalmetro.com/wp-content/uploads/2022/08/rendez-vous-de-la-proche-aidance-2.jpg
END:VEVENT
BEGIN:VEVENT
DTSTART;TZID=America/Toronto:20221112T083000
DTEND;TZID=America/Toronto:20221112T123000
DTSTAMP:20231012T223918
CREATED:20220826T184746Z
LAST-MODIFIED:20220826T184747Z
UID:10007302-1668241800-1668256200@journalmetro.com
SUMMARY:Premiers soins général (14 ans et plus)
DESCRIPTION:Ce cours permettra aux jeunes ayant participé aux formations de gardiens avertis de compléter leur formation et d’avoir les compétences requises pour être gardiens d’enfants. Durée totale de 4 heures. \n\n\n\nPour plus d’informations à propos de cet événement\, veuillez contacter Arrondissement de Montréal-Nord à info.pavillonhb@gmail.com ou au +1 514-328-4000 #5559.
URL:https://journalmetro.com/evenement/premiers-soins-general-14-ans-et-plus/
LOCATION:Pavillon du parc Henri-Bourassa\, 6100 rue Pascal\, Montréal\, QC\, Canada
ATTACH;FMTTYPE=image/jpeg:https://journalmetro.com/wp-content/uploads/2022/08/premiers-soiins-general-2.jpg
END:VEVENT
BEGIN:VEVENT
DTSTART;TZID=America/Toronto:20221115T140000
DTEND;TZID=America/Toronto:20221213T160000
DTSTAMP:20231012T223919
CREATED:20221112T131525Z
LAST-MODIFIED:20221112T131529Z
UID:10008754-1668520800-1670947200@journalmetro.com
SUMMARY:Les ruches d’art pour adultes
DESCRIPTION:Atelier d’art au Pavillon du parc Henri-Bourassa\, pour les adultes. \n\n\n\nVous aimez les arts et vous voudriez découvrir de nouvelles activités de création ? Tout le matériel nécessaire sera à votre disposition pour laisser aller votre imagination. Cet espace de création accueillera tous les articles amateurs et expérimentés. \n\n\n\nSource: montreal.ca \n\n\n\nDates et horaires sont sujets à changement sans préavis. Avant de vous déplacer\, vérifier ces informations sur montreal.ca
URL:https://journalmetro.com/evenement/les-ruches-dart-pour-adultes/
LOCATION:Pavillon du parc Henri-Bourassa\, 6100 rue Pascal\, Montréal\, QC\, Canada
ATTACH;FMTTYPE=image/jpeg:https://journalmetro.com/wp-content/uploads/2022/11/ruche-dart-2-1.jpg
END:VEVENT
BEGIN:VEVENT
DTSTART;TZID=America/Toronto:20221127T110000
DTEND;TZID=America/Toronto:20221127T160000
DTSTAMP:20231012T223919
CREATED:20221111T191349Z
LAST-MODIFIED:20221111T191543Z
UID:10008743-1669546800-1669564800@journalmetro.com
SUMMARY:Tournoi d'échecs coté des bibliothèques de Montréal-Nord
DESCRIPTION:Le tournoi d’échecs coté organisé par les Bibliothèques de Montréal et la Tour de la Réussite au pavillon du parc Henri-Bourassa est un occasion d’affronter des joueurs d’échecs de son niveau. Ce tournoi gratuit s’adresse à tous les joueurs d’échecs de la région métropolitaine âgés de 6 à 13 ans. \n\n\n\nC’est l’occasion de participer à un tournoi selon les règles de l’art et de se mesurer à d’autres joueurs d’échecs tout en s’amusant.
URL:https://journalmetro.com/evenement/tournoi-dechec-cote-des-bibliotheques-de-montreal-nord/
LOCATION:Pavillon du parc Henri-Bourassa\, 6100 rue Pascal\, Montréal\, QC\, Canada
CATEGORIES:Communautaire
ATTACH;FMTTYPE=image/jpeg:https://journalmetro.com/wp-content/uploads/2022/11/tournoi-dechecs-2.jpg
END:VEVENT
BEGIN:VEVENT
DTSTART;TZID=America/Toronto:20230527T140000
DTEND;TZID=America/Toronto:20230527T150000
DTSTAMP:20231012T223919
CREATED:20230508T165059Z
LAST-MODIFIED:20230508T165101Z
UID:10017459-1685196000-1685199600@journalmetro.com
SUMMARY:Tableau à Illuminer | 7-12 ans
DESCRIPTION:Une belle occasion d’expérimenter au Médialab \n\n\n\nLes participants pourront créer un tableau nature et le faire allumer en appliquant les bases de l’électricité et beaucoup de créativité. \n\n\n\nSource: montreal.ca \n\n\n\nDates et horaires sont sujets à changement sans préavis. Avant de vous déplacer\, vérifier ces informations sur montreal.ca
URL:https://journalmetro.com/evenement/tableau-a-illuminer-7-12-ans/
LOCATION:Pavillon du parc Henri-Bourassa\, 6100 rue Pascal\, Montréal\, QC\, Canada
ATTACH;FMTTYPE=image/jpeg:https://journalmetro.com/wp-content/uploads/2023/05/tableau-a-illuminer-2.jpg
END:VEVENT
BEGIN:VEVENT
DTSTART;TZID=America/Toronto:20230721T140000
DTEND;TZID=America/Toronto:20230721T150000
DTSTAMP:20231012T223919
CREATED:20230719T142645Z
LAST-MODIFIED:20230719T142646Z
UID:10018918-1689948000-1689951600@journalmetro.com
SUMMARY:Atelier de programmation Python (10-14 ans)
DESCRIPTION:Stimule ta créativité et réalise ton projet avec le langage Python! \n\n\n\nInitiez-vous à la programmation avec Python ! Ce langage puissant et facile à lire permet de stimuler votre créativité et votre pensée computationnelle. Des projets de base vous permettront de découvrir les rudiments de la logique informatique. \n\n\n\nSource: montreal.ca \n\n\n\nDates et horaires sont sujets à changement sans préavis. Avant de vous déplacer\, vérifier ces informations sur montreal.ca
URL:https://journalmetro.com/evenement/atelier-de-programmation-python-10-14-ans/
LOCATION:Pavillon du parc Henri-Bourassa\, 6100 rue Pascal\, Montréal\, QC\, Canada
ATTACH;FMTTYPE=image/jpeg:https://journalmetro.com/wp-content/uploads/2023/07/python_1200x600.jpg
END:VEVENT
BEGIN:VEVENT
DTSTART;TZID=America/Toronto:20230804T140000
DTEND;TZID=America/Toronto:20230811T150000
DTSTAMP:20231012T223919
CREATED:20230731T232008Z
LAST-MODIFIED:20230804T180754Z
UID:10019283-1691157600-1691766000@journalmetro.com
SUMMARY:Atelier de programmation Python (10-14 ans)
DESCRIPTION:Stimule ta créativité et réalise ton projet avec le langage Python! \n\n\n\nInitiez-vous à la programmation avec Python ! Ce langage puissant et facile à lire permet de stimuler votre créativité et votre pensée computationnelle. Des projets de base vous permettront de découvrir les rudiments de la logique informatique. \n\n\n\nSource: montreal.ca \n\n\n\nDates et horaires sont sujets à changement sans préavis. Avant de vous déplacer\, vérifier ces informations sur montreal.ca
URL:https://journalmetro.com/evenement/atelier-de-programmation-python-10-14-ans-2/
LOCATION:Pavillon du parc Henri-Bourassa\, 6100 rue Pascal\, Montréal\, QC\, Canada
ATTACH;FMTTYPE=image/jpeg:https://journalmetro.com/wp-content/uploads/2023/07/python_1200x600.jpg
END:VEVENT
END:VCALENDAR