BEGIN:VCALENDAR
VERSION:2.0
PRODID:-//Journal Métro - ECPv6.0.13//NONSGML v1.0//EN
CALSCALE:GREGORIAN
METHOD:PUBLISH
X-WR-CALNAME:Journal Métro
X-ORIGINAL-URL:https://journalmetro.com
X-WR-CALDESC:évènements pour Journal Métro
REFRESH-INTERVAL;VALUE=DURATION:PT1H
X-Robots-Tag:noindex
X-PUBLISHED-TTL:PT1H
BEGIN:VTIMEZONE
TZID:America/Toronto
BEGIN:DAYLIGHT
TZOFFSETFROM:-0500
TZOFFSETTO:-0400
TZNAME:EDT
DTSTART:20220313T070000
END:DAYLIGHT
BEGIN:STANDARD
TZOFFSETFROM:-0400
TZOFFSETTO:-0500
TZNAME:EST
DTSTART:20221106T060000
END:STANDARD
END:VTIMEZONE
BEGIN:VEVENT
DTSTART;TZID=America/Toronto:20220922T160000
DTEND;TZID=America/Toronto:20220922T190000
DTSTAMP:20231017T112153
CREATED:20220909T202649Z
LAST-MODIFIED:20220911T151721Z
UID:10007467-1663862400-1663873200@journalmetro.com
SUMMARY:Atelier de formation pour un logement salubre
DESCRIPTION:L’atelier de formation pour un logement en santé est de retour! Cet atelier sera présenté par Charles Ladouceur\, inspecteur en bâtiment\, pour savoir quels recours sont à votre disposition en cas de problèmes de salubrité. Jacynthe Morin\, intervenante au sein du comité logement sur les droits/obligations des locataires sera également présente.  \n\n\n\nRéservez votre place au 438-764-2368. \n\n\n\nHalte garderie disponible. \n\n\n\nLe projet s’inscrit dans le cadre de la RUI de Montréal-Nord\, portée par la TQMN\, en collaboration avec arrondissement de Montréal-Nord\, Clinique juridique du Grand Montréal\, Paroles d’excluEs\, Hoodstock Camée Entraide.
URL:https://journalmetro.com/evenement/atelier-de-formation-pour-un-logement-en-sante/
LOCATION:Pavillon Henri-Bourassa (salle Polyvalente Est (1A)\, 6100 rue Pascal\, Montréal\, QC\, Canada
CATEGORIES:Communautaire
ATTACH;FMTTYPE=image/jpeg:https://journalmetro.com/wp-content/uploads/2022/09/logement-en-sante-2.jpg
END:VEVENT
END:VCALENDAR