BEGIN:VCALENDAR
VERSION:2.0
PRODID:-//Journal Métro - ECPv6.0.13//NONSGML v1.0//EN
CALSCALE:GREGORIAN
METHOD:PUBLISH
X-WR-CALNAME:Journal Métro
X-ORIGINAL-URL:https://journalmetro.com
X-WR-CALDESC:évènements pour Journal Métro
REFRESH-INTERVAL;VALUE=DURATION:PT1H
X-Robots-Tag:noindex
X-PUBLISHED-TTL:PT1H
BEGIN:VTIMEZONE
TZID:America/Toronto
BEGIN:DAYLIGHT
TZOFFSETFROM:-0500
TZOFFSETTO:-0400
TZNAME:EDT
DTSTART:20230312T070000
END:DAYLIGHT
BEGIN:STANDARD
TZOFFSETFROM:-0400
TZOFFSETTO:-0500
TZNAME:EST
DTSTART:20231105T060000
END:STANDARD
END:VTIMEZONE
BEGIN:VEVENT
DTSTART;TZID=America/Toronto:20230725T180000
DTEND;TZID=America/Toronto:20230815T190000
DTSTAMP:20231018T180447
CREATED:20230719T203426Z
LAST-MODIFIED:20230719T203428Z
UID:10018985-1690308000-1692126000@journalmetro.com
SUMMARY:Aqua Zumba
DESCRIPTION:Améliorez votre tonus grâce à ce cours en milieu aquatique. Une activité d’entraînement dynamique et stimulante \n\n\n\nThème : activités physiques \n\n\n\nNiveau d’intensité : modérée \n\n\n\nLa météo est incertaine? Vous avez des questions? Consultez la page Facebook de l’équipe de Zone active. \n\n\n\nParticipez aux activités gratuites de la Zone active offertes dans 15 parcs et lieux extérieurs du 26 juin au 2 septembre. \n\n\n\nÉquipe RDP \n\n\n\nSource: montreal.ca \n\n\n\nDates et horaires sont sujets à changement sans préavis. Avant de vous déplacer\, vérifier ces informations sur montreal.ca
URL:https://journalmetro.com/evenement/aqua-zumba/
LOCATION:Piscine du Parc Richelieu\, 13600 rue Forsyth\, Montréal\, QC\, H1A3W6\, Canada
ATTACH;FMTTYPE=image/jpeg:https://journalmetro.com/wp-content/uploads/2023/07/aqua-zumba-2.jpg
END:VEVENT
END:VCALENDAR