BEGIN:VCALENDAR
VERSION:2.0
PRODID:-//Journal Métro - ECPv6.0.13//NONSGML v1.0//EN
CALSCALE:GREGORIAN
METHOD:PUBLISH
X-WR-CALNAME:Journal Métro
X-ORIGINAL-URL:https://journalmetro.com
X-WR-CALDESC:évènements pour Journal Métro
REFRESH-INTERVAL;VALUE=DURATION:PT1H
X-Robots-Tag:noindex
X-PUBLISHED-TTL:PT1H
BEGIN:VTIMEZONE
TZID:America/Toronto
BEGIN:DAYLIGHT
TZOFFSETFROM:-0500
TZOFFSETTO:-0400
TZNAME:EDT
DTSTART:20230312T070000
END:DAYLIGHT
BEGIN:STANDARD
TZOFFSETFROM:-0400
TZOFFSETTO:-0500
TZNAME:EST
DTSTART:20231105T060000
END:STANDARD
END:VTIMEZONE
BEGIN:VEVENT
DTSTART;TZID=America/Toronto:20230705T170000
DTEND;TZID=America/Toronto:20230705T220000
DTSTAMP:20231016T144233
CREATED:20230613T190946Z
LAST-MODIFIED:20230613T190948Z
UID:10018064-1688576400-1688594400@journalmetro.com
SUMMARY:Fête de quartier - Spectacle Lengaïa Salsa Brava
DESCRIPTION:Structures gonflables et ateliers participatifs: une foule d’activités familiales pour vous dans le berceau d’Anjou!  La soirée se terminera avec un grand spectacle offert par la formation de musique latine\, Lengaïa Salsa Brava! \n\n\n\nÀ l’horaire \n\n\n\nVoyageurs – Spectacle ambulant :  à partir de 18 h  \n\n\n\nDeux voyageurs se retrouvent séparés par un gouffre imaginaire et tentent de se rejoindre. Avec la complicité du public et\, grâce à un fil tendu entre leurs deux valises\, un minuscule messager entreprend la périlleuse traversée qui permettra de réunir à nouveau les voyageurs.! \n\n\n\nLengaïa Salsa Brava  – Spectacle de musique latine : à 19 h  \n\n\n\nLengaïa\, l’orchestre multiculturel montréalais de 12 musiciens\, propose un répertoire entièrement original au tempo rapide et dansant dominé par une puissante section de cuivres de 3 trombones et un saxophone baryton qui lui confèrent une sonorité particulière. \n\n\n\nGratuit \n\n\n\nEntrée libre \n\n\n\nSource: montreal.ca \n\n\n\nDates et horaires sont sujets à changement sans préavis. Avant de vous déplacer\, vérifier ces informations sur montreal.ca \n\n\n\nAteliers de cirque offerts par Le Gros Orteil
URL:https://journalmetro.com/evenement/fete-de-quartier-spectacle-lengaia-salsa-brava/
LOCATION:Place Chaumont\, 8616 avenue Chaumont\, Montréal\, QC\, Canada
ATTACH;FMTTYPE=image/jpeg:https://journalmetro.com/wp-content/uploads/2023/06/salsa-brava-2-1.jpg
END:VEVENT
BEGIN:VEVENT
DTSTART;TZID=America/Toronto:20230705T180000
DTEND;TZID=America/Toronto:20230705T184500
DTSTAMP:20231016T144233
CREATED:20230620T191457Z
LAST-MODIFIED:20230620T191459Z
UID:10018230-1688580000-1688582700@journalmetro.com
SUMMARY:Voyageurs - Kaoso en tournée
DESCRIPTION:Deux voyageurs se retrouvent séparés par un gouffre imaginaire et tentent de se rejoindre. \n\n\n\nAvec la complicité du public et\, grâce à un fil tendu entre leurs deux valises\, un minuscule messager entreprend la périlleuse traversée qui permettra de réunir à nouveau les voyageurs. \n\n\n\nEn intégrant le public sous les parapluies\, un tableau d’ensemble et un théâtre de proximité sont à la fois créés\, permettant ainsi une complicité avec les spectateurs et les protégeant de l’inévitable averse. \n\n\n\nCréateur et interprète : Mathieu RielCréatrice et interprète : Marie-Christine Simoneau \n\n\n\nDans le cadre de la Fête de quartier du 5 juillet sur la Place Chaumont! En première partie du groupe Lengaïa Salsa Brava qui performera à 19h. \n\n\n\nGratuit. Entrée libre. \n\n\n\nSource: montreal.ca \n\n\n\nDates et horaires sont sujets à changement sans préavis. Avant de vous déplacer\, vérifier ces informations sur montreal.ca \n\n\n\nDeux voyageurs de Kaoso\n\n\n\nUn événement présenté dans le cadre du CAM en tournée.
URL:https://journalmetro.com/evenement/voyageurs-kaoso-en-tournee-4/
LOCATION:Place Chaumont\, 8616 avenue Chaumont\, Montréal\, QC\, Canada
CATEGORIES:Communautaire
ATTACH;FMTTYPE=image/jpeg:https://journalmetro.com/wp-content/uploads/2023/06/voyageurs-2.jpg
END:VEVENT
END:VCALENDAR