BEGIN:VCALENDAR
VERSION:2.0
PRODID:-//Journal Métro - ECPv6.0.13//NONSGML v1.0//EN
CALSCALE:GREGORIAN
METHOD:PUBLISH
X-WR-CALNAME:Journal Métro
X-ORIGINAL-URL:https://journalmetro.com
X-WR-CALDESC:évènements pour Journal Métro
REFRESH-INTERVAL;VALUE=DURATION:PT1H
X-Robots-Tag:noindex
X-PUBLISHED-TTL:PT1H
BEGIN:VTIMEZONE
TZID:America/Toronto
BEGIN:DAYLIGHT
TZOFFSETFROM:-0500
TZOFFSETTO:-0400
TZNAME:EDT
DTSTART:20230312T070000
END:DAYLIGHT
BEGIN:STANDARD
TZOFFSETFROM:-0400
TZOFFSETTO:-0500
TZNAME:EST
DTSTART:20231105T060000
END:STANDARD
END:VTIMEZONE
BEGIN:VEVENT
DTSTART;TZID=America/Toronto:20230622T190000
DTEND;TZID=America/Toronto:20230622T200000
DTSTAMP:20231016T164032
CREATED:20230607T172112Z
LAST-MODIFIED:20230607T172115Z
UID:10017987-1687460400-1687464000@journalmetro.com
SUMMARY:Les coups de coeur d'Enfabulation
DESCRIPTION:Quatre invités racontent des histoires vraies qui leur sont arrivées\, sans note\, ni costume\, ni accessoire\, sur une thématique donnée. \n\n\n\nAuteurs\, autrices\, comédiens\, comédiennes ou journalistes\, entre autres\, se prêtent à l’exercice dirigé par l’écrivaine Juliana Léveillé-Trudel\, aussi en charge de l’animation. \n\n\n\nS’inscrivant dans la tradition anglaise de la mise en récit (storytelling)\, Enfabulation propose\, depuis 2017 ces histoires véridiques étonnantes. \n\n\n\nPour cette première tournée des Maisons de la culture\, quatre invités présenteront leurs récits choisis parmi les coups de cœur des dernières années. \n\n\n\nDirection artistique : Juliana Léveillé-Trudel et Nisha ColemanAnimation : Juliana Léveillé-TrudelTexte et interprétation (4 invités par représentation) : Mélissa Verreault\, Maxime Plamondon\, Maxime D.-Pomerleau\, Andrew Katz\, Rachel Jean-Pierre\, Amanda Perry\, Thierry Leblanc\, Thomas Mundinger\, Nisha Coleman\, Frédérick Lavoie\, Paul Hernandez\, Rashel Bessette\, Jean-Pierre Gorkynian et Ahmad Hamdan \n\n\n\nSource: montreal.ca \n\n\n\nDates et horaires sont sujets à changement sans préavis. Avant de vous déplacer\, vérifier ces informations sur montreal.ca \n\n\n\nUn invité raconte une histoire vraie qui lui est arrivée.\n\n\n\nUn événement présenté dans le cadre du CAM en tournée
URL:https://journalmetro.com/evenement/les-coups-de-coeur-denfabulation/
LOCATION:Place de la création\, À l'angle des rues Parthenais et Ontario Est\, Montréal\, QC\, Canada
CATEGORIES:Communautaire
ATTACH;FMTTYPE=image/jpeg:https://journalmetro.com/wp-content/uploads/2023/06/enfabulation-2.jpg
END:VEVENT
END:VCALENDAR