BEGIN:VCALENDAR
VERSION:2.0
PRODID:-//Journal Métro - ECPv6.0.13//NONSGML v1.0//EN
CALSCALE:GREGORIAN
METHOD:PUBLISH
X-WR-CALNAME:Journal Métro
X-ORIGINAL-URL:https://journalmetro.com
X-WR-CALDESC:évènements pour Journal Métro
REFRESH-INTERVAL;VALUE=DURATION:PT1H
X-Robots-Tag:noindex
X-PUBLISHED-TTL:PT1H
BEGIN:VTIMEZONE
TZID:America/Toronto
BEGIN:DAYLIGHT
TZOFFSETFROM:-0500
TZOFFSETTO:-0400
TZNAME:EDT
DTSTART:20230312T070000
END:DAYLIGHT
BEGIN:STANDARD
TZOFFSETFROM:-0400
TZOFFSETTO:-0500
TZNAME:EST
DTSTART:20231105T060000
END:STANDARD
END:VTIMEZONE
BEGIN:VEVENT
DTSTART;TZID=America/Toronto:20230626T174500
DTEND;TZID=America/Toronto:20230821T194500
DTSTAMP:20231016T140141
CREATED:20230613T160605Z
LAST-MODIFIED:20230613T160606Z
UID:10018051-1687801500-1692647100@journalmetro.com
SUMMARY:Lundis ludiques sur la terrasse
DESCRIPTION:Animation de jeux de société en plein air. Venez en profiter en famille ou entre amis de cette activité multigénérationnelle par excellence. \n\n\n\nDans un ambiance décontractée\, sur le terrasse arrière de la bibliothèque Jean-Corbeil\, venez découvrir ou redécouvrir des jeux de société en tous genres avec un animateur ou une animatrice chevronnée de ludopolis. Plaisirs ludiques garantis! \n\n\n\nEn cas de pluie\, l’activité aura lieu dans la bibliothèque. \n\n\n\nL’activité est destinée aux 8 ans et plus. Les enfants plus jeunes accompagnés d’un adulte sont aussi les bienvenus. \n\n\n\nVenez jouer avec nous ! \n\n\n\nSource: montreal.ca \n\n\n\nDates et horaires sont sujets à changement sans préavis. Avant de vous déplacer\, vérifier ces informations sur montreal.ca \n\n\n\nJeu de société
URL:https://journalmetro.com/evenement/lundis-ludiques-sur-la-terrasse/
LOCATION:Place des Angevins\, 7130 avenue Goncourt\, Montréal\, QC\, Canada
ATTACH;FMTTYPE=image/jpeg:https://journalmetro.com/wp-content/uploads/2023/06/lundis-ludiques-terrasse-2.jpg
END:VEVENT
BEGIN:VEVENT
DTSTART;TZID=America/Toronto:20230706T190000
DTEND;TZID=America/Toronto:20230706T201500
DTSTAMP:20231016T140141
CREATED:20230620T192215Z
LAST-MODIFIED:20230620T192217Z
UID:10018232-1688670000-1688674500@journalmetro.com
SUMMARY:PAPILLON - We All Fall Down
DESCRIPTION:S’inspirant de l’esthétique de la danse de rue et de la danse contemporaine\, PAPILLON juxtapose trois solos et une bande sonore expérimentale jouée en direct. \n\n\n\nAux fines limites de l’ordre et du désordre\, deux danseuses et un danseur s’entremêlent et se désynchronisent à travers une partition chorégraphique complexe. Celle-ci est soutenue par une bande sonore musicale hypnotique jouée en direct qui mêle les sons et les rythmes du jazz\, du hip-hop et de la drum’n’bass. \n\n\n\nInspiré par la théorie du chaos et les équations mathématiques\, PAPILLON est une réflexion crue et enveloppante sur la solitude et l’unité\, la singularité et la similarité\, la métamorphose et surtout\, l’importance des liens humains. \n\n\n\nChoréographie : Helen Simard \n\n\n\nInterprètes : Nindy Banks\, Mecdy Jean-Pierre\, Victoria Mackenzie \n\n\n\nMusiciens : Rémy Saminadin\, Roger White\, Ted Yates \n\n\n\nDirection de répétitions : Stephanie Fromentin\, Kaia McAuliffe \n\n\n\nDramaturge : Mathieu Leroux \n\n\n\nConseils artistiques : Alexandra Landé\, Sophie Corriveau \n\n\n\nConception des éclairages et direction technique : Hannah Kirby \n\n\n\nCo-production : We All Fall Down\, Danse-Cité \n\n\n\nSoutien financier : Conseil des arts du Canada\, Conseil des arts et des lettres du Québec\, Conseil des arts de Montréal \n\n\n\nUn spectacle de danse hypnotisant! \n\n\n\nSource: montreal.ca \n\n\n\nDates et horaires sont sujets à changement sans préavis. Avant de vous déplacer\, vérifier ces informations sur montreal.ca \n\n\n\nNindy Banks – PAPILLON\n\n\n\nUn événement présenté dans le cadre du CAM en tournée
URL:https://journalmetro.com/evenement/papillon-we-all-fall-down/
LOCATION:Place des Angevins\, 7130 avenue Goncourt\, Montréal\, QC\, Canada
CATEGORIES:Communautaire
ATTACH;FMTTYPE=image/jpeg:https://journalmetro.com/wp-content/uploads/2023/06/papillon-2.jpg
END:VEVENT
BEGIN:VEVENT
DTSTART;TZID=America/Toronto:20230713T173000
DTEND;TZID=America/Toronto:20230713T203000
DTSTAMP:20231016T140141
CREATED:20230621T141858Z
LAST-MODIFIED:20230621T141900Z
UID:10018244-1689269400-1689280200@journalmetro.com
SUMMARY:Wazo et la tournée des quartiers - Montréal Complètement Cirque
DESCRIPTION:La tournée des quartiers de Montréal Complètement Cirque vous propose le spectacle Wazo de la compagnie 1+(1+1)\, des ateliers animés par la compagnie Moulin à vent ainsi que des numéros déambulatoires des artistes Élodie Sanna et Sofiia Vasylevich. \n\n\n\nConçu pour la tournée des quartiers\, Wazo met en scène un trio d’artistes de cirque qui s’unissent et explorent les multiples facettes des relations humaines. Coincés ensemble\, ils devront surmonter de nouveaux défis. Cette expérience ludique et touchante allie main à main\, acrobaties et contorsions. \n\n\n\nAnimations participatives\n\n\n\nDans une ambiance de fête foraine\, la compagnie « Le Moulin à Vent Productions » installe ses structures acrobatiques uniques et offre aux personnes de tous âges l’occasion de jouer à l’acrobate! Qu’il tournoie autour du mât de Cocagne\, joue au trapéziste\, au fildefériste\, ou remporte un concours de Hula Hoop juché sur les épaules d’un animateur\, ici le public\, c’est LA star du moment! \n\n\n\nCirque déambulatoire\n\n\n\nDeux artistes de cirque animent le public avec leurs accessoires :  roue allemande\, vélo acrobatique\, hula-hoops\, monocycle\, jonglerie de couteau et corde à sauter. \n\n\n\nOuvrez l’œil ! MONTRÉAL COMPLÈTEMENT CIRQUE s’invite à nouveau dans Anjou avec un spectacle de cirque\, des ateliers participatifs\, ainsi que des numéros déambulatoires ! \n\n\n\nSource: montreal.ca \n\n\n\nDates et horaires sont sujets à changement sans préavis. Avant de vous déplacer\, vérifier ces informations sur montreal.ca \n\n\n\nSofiia Vasylevych
URL:https://journalmetro.com/evenement/wazo-et-la-tournee-des-quartiers-montreal-completement-cirque-3/
LOCATION:Place des Angevins\, 7130 avenue Goncourt\, Montréal\, QC\, Canada
CATEGORIES:Communautaire
ATTACH;FMTTYPE=image/jpeg:https://journalmetro.com/wp-content/uploads/2023/06/wazo-2.jpg
END:VEVENT
BEGIN:VEVENT
DTSTART;TZID=America/Toronto:20230719T170000
DTEND;TZID=America/Toronto:20230719T220000
DTSTAMP:20231016T140141
CREATED:20230621T143652Z
LAST-MODIFIED:20230621T143654Z
UID:10018256-1689786000-1689804000@journalmetro.com
SUMMARY:Fête de quartier - Spectacle de Guylaine Tanguay
DESCRIPTION:Structures gonflables et ateliers participatifs: une foule d’activités familiales pour vous sur notre superbe place publique!  La soirée se terminera avec un grand spectacle offert par la bien appréciée Guylaine Tanguay! \n\n\n\nÀ l’horaire \n\n\n\nBMX – SPCTCL :  à partir de 18 h  \n\n\n\nAtelier d’initiation aux sports du TAZ (trottinettes\, planche à roulette\, etc.): à partir de 18h30 \n\n\n\nUn spectacle de BMX qui saura impressionner les petits comme les grands avec des cascades à couper le souffle! Le tout accompagné d’une initiation aux sports extrêmes accessible à tous \n\n\n\nGuylaine Tanguay – Spectacle de musique country : à 19 h  \n\n\n\nGuylaine Tanguay\, grande figure dans l’univers country québécois\, saura vous éblouir  avec son immense talent et son énergie débordante et contagieuse. \n\n\n\n*Attention* – Fermeture de 50% du stationnement du Parc Goncourt \n\n\n\nGratuit \n\n\n\nEntrée libre \n\n\n\nSource: montreal.ca \n\n\n\nDates et horaires sont sujets à changement sans préavis. Avant de vous déplacer\, vérifier ces informations sur montreal.ca \n\n\n\nBMX SPCTCL
URL:https://journalmetro.com/evenement/fete-de-quartier-spectacle-de-guylaine-tanguay/
LOCATION:Place des Angevins\, 7130 avenue Goncourt\, Montréal\, QC\, Canada
CATEGORIES:Communautaire
ATTACH;FMTTYPE=image/jpeg:https://journalmetro.com/wp-content/uploads/2023/06/guylaine-2.jpg
END:VEVENT
BEGIN:VEVENT
DTSTART;TZID=America/Toronto:20230802T180000
DTEND;TZID=America/Toronto:20230802T210000
DTSTAMP:20231016T140141
CREATED:20230627T170040Z
LAST-MODIFIED:20230627T170042Z
UID:10018405-1690999200-1691010000@journalmetro.com
SUMMARY:Trancestral - Oktoécho
DESCRIPTION:Des musiques et danses autochtones et soufies se rencontrent dans Transcestral. Véritable hymne à la vie\, des artistes d’origines diverses y expriment la commune quête perpétuelle de l’harmonie entre l’homme et la nature. \n\n\n\nAutour de la compositrice et directrice artistique Katia Makdissi-Warren se joignent\, entre autres\, la chanteuse métisse Moe Clark\, la chanteuse de gorge Inuit Nina Segalowitz\, le chanteur soufi Anouar Barrada et les chanteurs de pow wow Buffalo Hat Singers. \n\n\n\nLa poétesse innue Joséphine Bacon\, la danseuse Mohawk Barbara Diabo\, le jeune derviche tourneur Adam Barrada et plusieurs musiciens\, dont Didem Basar (kanoun) et Bertil Schulrabe\, font partie du spectacle. \n\n\n\nDirectrice artistique et compositrice : Katia Makdissi-WarrenPoésie innue : Joséphine BaconChant de gorge inuit : Nina Segalowitz Chant soufi : Anouar Barrada Vocaliste\, conceptrice sonore\, compositrice : Moe Clark  \n\n\n\nChant et tambour pow wow : Norman Achneepineskum\, Pedro Diaz (compositeur)\, Normand Raymond  Danseuse mohawk : Barbara Kaneratonni Diabo Derviche tourneur : Adam Barrada Kanoun (cithare traditionnelle du Proche-Orient) : Didem BasarNay (flûte) : Ziad ChbatOud (luth) : Khalil Moqadem Oud solo : Katia Makdissi-Warren Percussions : Mohamed Raky\, Bertil Schulrabe Piano : David Ryshpan \n\n\n\nLes concerts sur l’herbe vous offrent une célébration de la musique en plein air. Apportez votre pique-nique ou profitez des hot-dogs qui seront servis gratuitement. \n\n\n\nSource: montreal.ca \n\n\n\nDates et horaires sont sujets à changement sans préavis. Avant de vous déplacer\, vérifier ces informations sur montreal.ca \n\n\n\nBarbara Kaneratonni Diabo et Adam Barrada\n\n\n\nUn événement présenté dans le cadre du CAM en tournée.
URL:https://journalmetro.com/evenement/trancestral-oktoecho/
LOCATION:Place des Angevins\, 7130 avenue Goncourt\, Montréal\, QC\, Canada
CATEGORIES:Communautaire
ATTACH;FMTTYPE=image/jpeg:https://journalmetro.com/wp-content/uploads/2023/06/transcestral-2.jpg
END:VEVENT
END:VCALENDAR