BEGIN:VCALENDAR
VERSION:2.0
PRODID:-//Journal Métro - ECPv6.0.13//NONSGML v1.0//EN
CALSCALE:GREGORIAN
METHOD:PUBLISH
X-WR-CALNAME:Journal Métro
X-ORIGINAL-URL:https://journalmetro.com
X-WR-CALDESC:évènements pour Journal Métro
REFRESH-INTERVAL;VALUE=DURATION:PT1H
X-Robots-Tag:noindex
X-PUBLISHED-TTL:PT1H
BEGIN:VTIMEZONE
TZID:America/Toronto
BEGIN:DAYLIGHT
TZOFFSETFROM:-0500
TZOFFSETTO:-0400
TZNAME:EDT
DTSTART:20230312T070000
END:DAYLIGHT
BEGIN:STANDARD
TZOFFSETFROM:-0400
TZOFFSETTO:-0500
TZNAME:EST
DTSTART:20231105T060000
END:STANDARD
END:VTIMEZONE
BEGIN:VEVENT
DTSTART;TZID=America/Toronto:20230805T130000
DTEND;TZID=America/Toronto:20230805T153000
DTSTAMP:20231016T192150
CREATED:20230801T185234Z
LAST-MODIFIED:20230801T185235Z
UID:10019298-1691240400-1691249400@journalmetro.com
SUMMARY:Journée verte à la Place éphémère du Sanctuaire
DESCRIPTION:Venez participer à un après-midi d’activités sous le thème de l’environnement! Seront présents sur place pour des ateliers sur l’environnement et le développement durable : l’organisme Jour de la Terre\, l’Éco de la Pointe-aux-Prairies\, SOVERDI ainsi que des artistes déambulatoires sur échasses! \n\n\n\nVenez rencontrer des spécialistes du développement durable et découvrez comment vous pouvez adopter des habitudes plus vertes. De plus\, grâce à l’Éco de la Pointe-aux-Prairies\, apprenez à reconnaître les envahisseurs de vos jardins. \n\n\n\nAmusez-vous en faisant la connaissance de Kalbacius l’ensorceleur. Une créature étrange aux dons magiques vivant entre deux mondes. Il est le gardien des portes entre l’univers des fées\, des esprits\, des créatures magiques et notre monde. Il y a aussi l’homme arbre\, un grand sage\, protecteur et gardien des forêts qui se promène avec lenteur tout en surveillant la nature et ses habitants. \n\n\n\nLa Place éphémère du Sanctuaire est un aménagement transitoire ludique aménagé dans le cadre du projet de requalification du site. Venez découvrir son parcours pour vélos\, sa zone détente\, son œuvre interactive créée par l’artiste Dino et ses panneaux racontant la fabuleuse histoire du Sanctuaire. \n\n\n\nSource: montreal.ca \n\n\n\nDates et horaires sont sujets à changement sans préavis. Avant de vous déplacer\, vérifier ces informations sur montreal.ca
URL:https://journalmetro.com/evenement/journee-verte-a-la-place-ephemere-du-sanctuaire/
LOCATION:Place éphémère du Sanctuaire\, 3650 boulevard de la Rousselière\, Montréal\, QC\, Canada
CATEGORIES:Communautaire
ATTACH;FMTTYPE=image/jpeg:https://journalmetro.com/wp-content/uploads/2023/08/journee-verte-2.jpg
END:VEVENT
END:VCALENDAR