BEGIN:VCALENDAR
VERSION:2.0
PRODID:-//Journal Métro - ECPv6.0.13//NONSGML v1.0//EN
CALSCALE:GREGORIAN
METHOD:PUBLISH
X-WR-CALNAME:Journal Métro
X-ORIGINAL-URL:https://journalmetro.com
X-WR-CALDESC:évènements pour Journal Métro
REFRESH-INTERVAL;VALUE=DURATION:PT1H
X-Robots-Tag:noindex
X-PUBLISHED-TTL:PT1H
BEGIN:VTIMEZONE
TZID:America/Toronto
BEGIN:DAYLIGHT
TZOFFSETFROM:-0500
TZOFFSETTO:-0400
TZNAME:EDT
DTSTART:20230312T070000
END:DAYLIGHT
BEGIN:STANDARD
TZOFFSETFROM:-0400
TZOFFSETTO:-0500
TZNAME:EST
DTSTART:20231105T060000
END:STANDARD
END:VTIMEZONE
BEGIN:VEVENT
DTSTART;TZID=America/Toronto:20230816T180000
DTEND;TZID=America/Toronto:20230816T200000
DTSTAMP:20231016T184447
CREATED:20230720T202401Z
LAST-MODIFIED:20230720T202404Z
UID:10019071-1692208800-1692216000@journalmetro.com
SUMMARY:Danse en ligne - Place Sun-Yat-Sen
DESCRIPTION:Bougez tout en vous amusant grâce à la danse en ligne. L’occasion est parfaite pour partager un moment entre amis ou faire de nouvelles rencontres. \n\n\n\nLa danse en ligne à la place Sun-Yat-Sen a lieu tous les mercredis\, de 18 h à 20 h\, du 5 juillet au 16 août. \n\n\n\nL’activité est annulée en cas de pluie. \n\n\n\nSource: montreal.ca \n\n\n\nDates et horaires sont sujets à changement sans préavis. Avant de vous déplacer\, vérifier ces informations sur montreal.ca
URL:https://journalmetro.com/evenement/danse-en-ligne-place-sun-yat-sen/2023-08-16/
LOCATION:Place Sun-Yat-Sen\, 1055\, rue Clark\, Montréal\, QC\, H2Z 1K3\, Canada
ATTACH;FMTTYPE=image/jpeg:https://journalmetro.com/wp-content/uploads/2023/07/dgrbctvpsamgidx0cc8m-Cropped.jpg
END:VEVENT
END:VCALENDAR