BEGIN:VCALENDAR
VERSION:2.0
PRODID:-//Journal Métro - ECPv6.0.13//NONSGML v1.0//EN
CALSCALE:GREGORIAN
METHOD:PUBLISH
X-WR-CALNAME:Journal Métro
X-ORIGINAL-URL:https://journalmetro.com
X-WR-CALDESC:évènements pour Journal Métro
REFRESH-INTERVAL;VALUE=DURATION:PT1H
X-Robots-Tag:noindex
X-PUBLISHED-TTL:PT1H
BEGIN:VTIMEZONE
TZID:America/Toronto
BEGIN:DAYLIGHT
TZOFFSETFROM:-0500
TZOFFSETTO:-0400
TZNAME:EDT
DTSTART:20230312T070000
END:DAYLIGHT
BEGIN:STANDARD
TZOFFSETFROM:-0400
TZOFFSETTO:-0500
TZNAME:EST
DTSTART:20231105T060000
END:STANDARD
END:VTIMEZONE
BEGIN:VEVENT
DTSTART;TZID=America/Toronto:20230826T140000
DTEND;TZID=America/Toronto:20230826T150000
DTSTAMP:20231016T171832
CREATED:20230508T191007Z
LAST-MODIFIED:20230727T182801Z
UID:10017471-1693058400-1693062000@journalmetro.com
SUMMARY:Voix de la jungle en tournée - Franck Sylvestre
DESCRIPTION:Voix de la Jungle est un spectacle pour enfants de contes africain et martiniquais; une rencontre avec tous les animaux de la jungle : le lion\, le perroquet\, le singe et bien d’autres\, se parlent\, se questionnent\, s’aiment\, se rejettent ou essayent de se dévorer… naturellement! \n\n\n\nChaque histoire est accompagnée par un instrument de musique africain différent (djembé\, balafon\, tamboa\, kalimba)\, ce qui rend le spectacle très dynamique et attrayant pour les enfants. C’est un joyeux voyage tropical ou les multiples voix de la jungle\, nous livrent leur secret! \n\n\n\nLe conteur Franck Sylvestre vous crée l’Afrique en quelques animaux… Ces animaux nous en disent plus sur nous-mêmes que notre propre vie\, avec une solide morale à la clef. \n\n\n\nEn cas de pluie\, la représentation sera remise le dimanche 27 août\, 14 h. \n\n\n\nSource: montreal.ca \n\n\n\nDates et horaires sont sujets à changement sans préavis. Avant de vous déplacer\, vérifier ces informations sur montreal.ca \n\n\n\nFranck Sylvestre\n\n\n\nUn événement présenté dans le cadre du CAM en tournée.
URL:https://journalmetro.com/evenement/voix-de-la-jungle-en-tournee-franck-sylvestre/
LOCATION:Placottoir Louvain\, 9515 rue Saint-Hubert\, Montréal\, QC\, Canada
CATEGORIES:Communautaire
ATTACH;FMTTYPE=image/jpeg:https://journalmetro.com/wp-content/uploads/2023/05/voix-de-la-jungle-en-tournee-2.jpg
END:VEVENT
END:VCALENDAR