BEGIN:VCALENDAR
VERSION:2.0
PRODID:-//Journal Métro - ECPv6.0.13//NONSGML v1.0//EN
CALSCALE:GREGORIAN
METHOD:PUBLISH
X-WR-CALNAME:Journal Métro
X-ORIGINAL-URL:https://journalmetro.com
X-WR-CALDESC:évènements pour Journal Métro
REFRESH-INTERVAL;VALUE=DURATION:PT1H
X-Robots-Tag:noindex
X-PUBLISHED-TTL:PT1H
BEGIN:VTIMEZONE
TZID:America/Toronto
BEGIN:DAYLIGHT
TZOFFSETFROM:-0500
TZOFFSETTO:-0400
TZNAME:EDT
DTSTART:20230312T070000
END:DAYLIGHT
BEGIN:STANDARD
TZOFFSETFROM:-0400
TZOFFSETTO:-0500
TZNAME:EST
DTSTART:20231105T060000
END:STANDARD
END:VTIMEZONE
BEGIN:VEVENT
DTSTART;TZID=America/Toronto:20230620T190000
DTEND;TZID=America/Toronto:20230620T213000
DTSTAMP:20231018T163018
CREATED:20230607T170753Z
LAST-MODIFIED:20230607T170754Z
UID:10017984-1687287600-1687296600@journalmetro.com
SUMMARY:L'audience - Ciné-Club du Quai 5160
DESCRIPTION:Réalisation : Émilie B. Guérette & Peggy Nkunga Ndona \n\n\n\nProduction : Colonelle films – Justine Chevarie-Cossette\, Fanny Drew\, Sarah Mannering \n\n\n\nLangues : français\, lingala \n\n\n\nAprès avoir traversé 11 pays clandestinement\, Peggy\, Simon et leurs trois enfants attendent l’audience qui déterminera s’ils seront acceptés comme réfugiés au Canada. Ayant fui la répression politique en République démocratique du Congo\, la famille tente de refaire sa vie à Montréal\, dans la douceur d’un quotidien fragilisé par la menace omniprésente de devoir quitter. Entre fantômes du passé\, espoirs pour l’avenir et dédales juridiques\, le film plonge au coeur de la lutte de la famille Nkunga Mbala pour rester au Canada. Offrant un accès inédit à leur audience devant la Commission de l’immigration et du statut de réfugié\, le film lève le voile sur le processus complexe de demande d’asile au Canada. \n\n\n\nEn présence des coréalisatrices Peggy Nkunga Ndona et Émilie B. Guérette \n\n\n\nDans le cadre du Ciné-Club du Quai 5160\, en collaboration avec Ciné-Quartier et en partenariat avec le Centre social d’aide aux immigrants (CSAI) pour souligner la Journée mondiale des réfugié·e·s. \n\n\n\nSource: montreal.ca \n\n\n\nDates et horaires sont sujets à changement sans préavis. Avant de vous déplacer\, vérifier ces informations sur montreal.ca
URL:https://journalmetro.com/evenement/laudience-cine-club-du-quai-5160/
LOCATION:Quai 5160 – Maison de la culture de Verdun\, 5160\, boulevard LaSalle\, Montréal\, QC\, H4H 1N8\, Canada
ATTACH;FMTTYPE=image/jpeg:https://journalmetro.com/wp-content/uploads/2023/06/laudience-2.jpg
END:VEVENT
BEGIN:VEVENT
DTSTART;TZID=America/Toronto:20230708T080000
DTEND;TZID=America/Toronto:20230827T170000
DTSTAMP:20231018T163018
CREATED:20230616T153302Z
LAST-MODIFIED:20230620T145156Z
UID:10018134-1688803200-1693155600@journalmetro.com
SUMMARY:Jean-Sébastien Denis - Aberrations
DESCRIPTION:Jean-Sébastien Denis présente l’exposition Aberrations. Une installation picturale immersive où chaque canevas raconte une histoire matérielle de la peinture en train de se faire. \n\n\n\nDepuis un certain temps\, Jean-Sébastien Denis est fasciné par l’expérience de la couleur ainsi que par les liens qui unissent la peinture\, la photographie et l’univers numérique. Reprenant sa signature visuelle d’où émergent des références à l’histoire de l’art de la peinture abstraite (géométrique et expressionniste)\, ses dernières créations se sont matérialisées en de véritables expérimentations de la couleur\, devenue maîtresse de la composition comme de l’expérience esthétique. Si l’espace demeure toujours et encore au cœur des lubies plastiques de l’artiste\, c’est dorénavant par le truchement de la couleur que ces désirs s’incarnent pleinement. Avec cette approche\, il tente d’utiliser la couleur comme un élément à la fois séduisant et inconfortable. La tension s’articule souvent sur les dichotomies et les états limites de la peinture. Le malaise n’est jamais bien loin. \n\n\n\nLes tableaux récents de Jean-Sébastien Denis s’offrent donc comme un terrain fertile où se sédimentent les aplats de matière\, les épanchements de pigments\, les fragments de toiles anciennes ou bien les impressions sur toile. Les différents états – découpée\, superposée\, tailladée\, brossée\, imbibée\, tracée\, photographiée\, collée – prennent aussi forme à l’intérieur d’un espace qui est à la fois structuré et désarticulé. Cet espace se nourrit de jeux de perception et de faux-semblants qui engagent le corps tout entier dans l’expérience de l’œuvre\, dans l’expérience de la peinture. \n\n\n\nCette exposition\, sera le second volet de son exposition Constructions et aberrations chromatiques présentée à la galerie Simon Blais en 2022. Pour cette suite\, Jean-Sébastien Denis a l’intention de réagencer et retransformer ses œuvres des dernières années en une grande installation immersive afin de créer une seule œuvre.
URL:https://journalmetro.com/evenement/jean-sebastien-denis-aberrations/
LOCATION:Quai 5160 – Maison de la culture de Verdun\, 5160\, boulevard LaSalle\, Montréal\, QC\, H4H 1N8\, Canada
CATEGORIES:Communautaire
ATTACH;FMTTYPE=image/jpeg:https://journalmetro.com/wp-content/uploads/2023/06/gtywfkyremamn8vqcymi-Cropped.jpg
END:VEVENT
END:VCALENDAR