BEGIN:VCALENDAR
VERSION:2.0
PRODID:-//Journal Métro - ECPv6.0.13//NONSGML v1.0//EN
CALSCALE:GREGORIAN
METHOD:PUBLISH
X-WR-CALNAME:Journal Métro
X-ORIGINAL-URL:https://journalmetro.com
X-WR-CALDESC:évènements pour Journal Métro
REFRESH-INTERVAL;VALUE=DURATION:PT1H
X-Robots-Tag:noindex
X-PUBLISHED-TTL:PT1H
BEGIN:VTIMEZONE
TZID:America/Toronto
BEGIN:DAYLIGHT
TZOFFSETFROM:-0500
TZOFFSETTO:-0400
TZNAME:EDT
DTSTART:20230312T070000
END:DAYLIGHT
BEGIN:STANDARD
TZOFFSETFROM:-0400
TZOFFSETTO:-0500
TZNAME:EST
DTSTART:20231105T060000
END:STANDARD
END:VTIMEZONE
BEGIN:VEVENT
DTSTART;TZID=America/Toronto:20230622T180000
DTEND;TZID=America/Toronto:20230622T210000
DTSTAMP:20231016T112646
CREATED:20230620T135801Z
LAST-MODIFIED:20230620T135803Z
UID:10018201-1687456800-1687467600@journalmetro.com
SUMMARY:Sumak Brass Band
DESCRIPTION:Énergétique et émouvante\, la fanfare met de l’avant improvisation modales et rythmes asymétriques qui saura faire danser son audience! \n\n\n\nSumak Brass Band est une fanfare balkanique qui se distingue par sa forte influence Rom à travers son large répertoire du Sud des Balkans (Albanie\, Bulgarie\, Macédoine\, etc)\, en passant par la Turquie et la Grèce. \n\n\n\nLe band se produira trois fois  : à 18h\, à 19h et à 20h en formule déambulatoire sur la Rue Wellington. \n\n\n\nAnnulé en cas de pluie – suivez l’événement sur le Facebook du Quai 5160 pour les annonces de dernières minutes. \n\n\n\nSource: montreal.ca \n\n\n\nDates et horaires sont sujets à changement sans préavis. Avant de vous déplacer\, vérifier ces informations sur montreal.ca
URL:https://journalmetro.com/evenement/sumak-brass-band-2/
LOCATION:Rue Wellington entre la 6e avenue et la rue Régina\, Rue Wellington entre la 6e avenue et la rue Régina\, Montréal\, QC\, Canada
CATEGORIES:Communautaire
ATTACH;FMTTYPE=image/jpeg:https://journalmetro.com/wp-content/uploads/2023/06/sumak-brass-band-2.jpg
END:VEVENT
BEGIN:VEVENT
DTSTART;TZID=America/Toronto:20230629T180000
DTEND;TZID=America/Toronto:20230629T203000
DTSTAMP:20231016T112646
CREATED:20230609T195011Z
LAST-MODIFIED:20230620T143432Z
UID:10018023-1688061600-1688070600@journalmetro.com
SUMMARY:Pieuvre et Sirène
DESCRIPTION:Un déambulatoire comme vous n’en avez jamais vu ! \n\n\n\nClaire Oderoche est une Pieuvre à anneaux bleus gigantesque! Ses huit bras se meuvent grâce à l’aide de cinq marionnettistes\, on dit d’elle qu’elle est multi communicative. Guidé par le chant de la Sirène\, son impressionnant diamètre de 10 mètres flottera au-dessus des spectateurs et ne laissera personne indifférent. \n\n\n\nLe déambulatoire se produira deux fois : à 18h30 et à 19h30 avec le point de départ autour de l’église Notre-Dame-des-Sept-Douleurs. \n\n\n\nAnnulé en cas de pluie – suivez l’événement sur le Facebook du Quai 5160 \n\n\n\nSource: montreal.ca \n\n\n\nDates et horaires sont sujets à changement sans préavis. Avant de vous déplacer\, vérifier ces informations sur montreal.ca
URL:https://journalmetro.com/evenement/pieuvre-et-sirene/
LOCATION:Rue Wellington entre la 6e avenue et la rue Régina\, Rue Wellington entre la 6e avenue et la rue Régina\, Montréal\, QC\, Canada
CATEGORIES:Communautaire
ATTACH;FMTTYPE=image/jpeg:https://journalmetro.com/wp-content/uploads/2023/06/pieuvre-et-sirene-2.jpg
END:VEVENT
BEGIN:VEVENT
DTSTART;TZID=America/Toronto:20230722T130000
DTEND;TZID=America/Toronto:20230722T160000
DTSTAMP:20231016T112646
CREATED:20230620T171633Z
LAST-MODIFIED:20230620T171635Z
UID:10018222-1690030800-1690041600@journalmetro.com
SUMMARY:Le Dixieband
DESCRIPTION:Depuis 1980\, Le Dixieband excelle à faire revivre le jazz traditionnel de la Nouvelle-Orléans\, mariant harmonieusement les chaudes sonorités et les rythmes explosifs de cette musique haute en couleurs. \n\n\n\nCe groupe dynamique se distingue avantageusement des autres formations musicales de sa catégorie par une maîtrise aguerrie de ce répertoire unique qu’il exécute dans la plus pure tradition de l’époque. \n\n\n\nComposé de six interprètes (banjo\, trombone\, clarinette\, trompette\, batterie et sousaphone)\, Le Dixieband est en outre réputé pour sa qualité musicale et la tonicité de ses arrangements. Il l’est également pour son animation qui conjugue humour et verve de même que pour la force de son jeu et ses costumes stylisés. Avec six disques à son actif\, Le Dixieband rend donc brillamment hommage à la musique des années ’20\, une musique énergique et contagieuse qui plaît à tous et que tous aiment découvrir ou re-découvrir. \n\n\n\nAnnulé en cas de pluie – suivez l’événement sur le Facebook du Quai 5160 pour les annonces de dernières minutes. \n\n\n\nSource: montreal.ca \n\n\n\nDates et horaires sont sujets à changement sans préavis. Avant de vous déplacer\, vérifier ces informations sur montreal.ca
URL:https://journalmetro.com/evenement/le-dixieband/
LOCATION:Rue Wellington entre la 6e avenue et la rue Régina\, Rue Wellington entre la 6e avenue et la rue Régina\, Montréal\, QC\, Canada
CATEGORIES:Communautaire
ATTACH;FMTTYPE=image/jpeg:https://journalmetro.com/wp-content/uploads/2023/06/dixieband-2.jpg
END:VEVENT
BEGIN:VEVENT
DTSTART;TZID=America/Toronto:20230727T180000
DTEND;TZID=America/Toronto:20230727T210000
DTSTAMP:20231016T112646
CREATED:20230620T174630Z
LAST-MODIFIED:20230620T174632Z
UID:10018225-1690480800-1690491600@journalmetro.com
SUMMARY:Grüv'n Brass
DESCRIPTION:Le GRÜV’N BRASS est une fanfare québécoise des plus innovatrices qui attise les foules! \n\n\n\nTrès actif sur la scène québécoise\, ce groupe est formé exclusivement de cuivres et de percussions et propose une formule mobile inspirée par la musique de la Nouvelle-Orléans\, du jazz et du funk. Les 9 membres du groupe sont également d’éminents instrumentistes qui renouvellent sans cesse la formule de la fanfare. \n\n\n\nSur ce second opus\, GRÜV’N BRASS déborde d’énergie et interprète une musique originale\, dynamique et festive. Avec Brassmobile\, nul doute que vous aurez du«grüv» et des brass plein les oreilles! \n\n\n\nAnnulé en cas de pluie – suivez l’événement sur le Facebook du Quai 5160 pour les annonces de dernières minutes. \n\n\n\nSource: montreal.ca \n\n\n\nDates et horaires sont sujets à changement sans préavis. Avant de vous déplacer\, vérifier ces informations sur montreal.ca
URL:https://journalmetro.com/evenement/gruvn-brass/
LOCATION:Rue Wellington entre la 6e avenue et la rue Régina\, Rue Wellington entre la 6e avenue et la rue Régina\, Montréal\, QC\, Canada
CATEGORIES:Communautaire
ATTACH;FMTTYPE=image/jpeg:https://journalmetro.com/wp-content/uploads/2023/06/gruvn-brass-2.jpg
END:VEVENT
END:VCALENDAR