BEGIN:VCALENDAR
VERSION:2.0
PRODID:-//Journal Métro - ECPv6.0.13//NONSGML v1.0//EN
CALSCALE:GREGORIAN
METHOD:PUBLISH
X-WR-CALNAME:Journal Métro
X-ORIGINAL-URL:https://journalmetro.com
X-WR-CALDESC:évènements pour Journal Métro
REFRESH-INTERVAL;VALUE=DURATION:PT1H
X-Robots-Tag:noindex
X-PUBLISHED-TTL:PT1H
BEGIN:VTIMEZONE
TZID:America/Toronto
BEGIN:DAYLIGHT
TZOFFSETFROM:-0500
TZOFFSETTO:-0400
TZNAME:EDT
DTSTART:20220313T070000
END:DAYLIGHT
BEGIN:STANDARD
TZOFFSETFROM:-0400
TZOFFSETTO:-0500
TZNAME:EST
DTSTART:20221106T060000
END:STANDARD
END:VTIMEZONE
BEGIN:VEVENT
DTSTART;TZID=America/Toronto:20221110T200000
DTEND;TZID=America/Toronto:20221110T200000
DTSTAMP:20231016T181330
CREATED:20220810T143002Z
LAST-MODIFIED:20230217T145929Z
UID:10006975-1668110400-1668110400@journalmetro.com
SUMMARY:Les Soirées Désilets - Ariane Moffatt
DESCRIPTION:INCARNAT \n\n\n\nL’idée de ce micro spectacle émane d’un besoin de dépouillement musical et humain. Une envie de partager ma matière première dans une facture semblable à son état à la naissance. Une manière de laisser les mots\, les mélodies et les sensations occuper tout l’espace\, seule à bord\, libre de voyager où mon instinct me mènera. \n\n\n\nBilletterie \n\n\n\nTéléphone : 514 328-3878
URL:https://journalmetro.com/evenement/les-soirees-desilets-ariane-moffatt/
LOCATION:Salle Désilets\, 7000 rue Marie-Victorin\, Montréal\, QC\, Canada
CATEGORIES:Communautaire
ATTACH;FMTTYPE=image/jpeg:https://journalmetro.com/wp-content/uploads/2022/08/Ariane_Moffat_PHOTO_credit_ROYALGILBERT-2000X1000-1.jpg
END:VEVENT
END:VCALENDAR