BEGIN:VCALENDAR
VERSION:2.0
PRODID:-//Journal Métro - ECPv6.0.13//NONSGML v1.0//EN
CALSCALE:GREGORIAN
METHOD:PUBLISH
X-WR-CALNAME:Journal Métro
X-ORIGINAL-URL:https://journalmetro.com
X-WR-CALDESC:évènements pour Journal Métro
REFRESH-INTERVAL;VALUE=DURATION:PT1H
X-Robots-Tag:noindex
X-PUBLISHED-TTL:PT1H
BEGIN:VTIMEZONE
TZID:America/Toronto
BEGIN:DAYLIGHT
TZOFFSETFROM:-0500
TZOFFSETTO:-0400
TZNAME:EDT
DTSTART:20220313T070000
END:DAYLIGHT
BEGIN:STANDARD
TZOFFSETFROM:-0400
TZOFFSETTO:-0500
TZNAME:EST
DTSTART:20221106T060000
END:STANDARD
END:VTIMEZONE
BEGIN:VEVENT
DTSTART;TZID=America/Toronto:20221022T200000
DTEND;TZID=America/Toronto:20221022T200000
DTSTAMP:20231016T113416
CREATED:20220810T143246Z
LAST-MODIFIED:20230217T151007Z
UID:10006976-1666468800-1666468800@journalmetro.com
SUMMARY:Les Soirées Désilets - Le curieux destin d'Marcel
DESCRIPTION:Texte et interprète Marcel Leboeuf \n\n\n\nMise en scène Luc Senay \n\n\n\nLes meilleurs concepteurs de Monarque offriront à Marcel Leboeuf un incroyable terrain de jeux lui permettant de créer un spectacle inédit\, accomplissement d’une vie pour l’artiste qui a pris part à plus de 60 pièces de théâtre\, donné plus de 2800 conférences et qui détient le record de la LNI avec plus de 5 coupes Charades. Il offrira à son public un savant mélange de ses trois grandes passions : le théâtre\, les conférences et l’improvisation dans une pièce où les faits vécus cohabiteront avec l’imaginaire\, permettant à l’artiste de s’éclater comme acteur et à tous d’apprécier ses talents. \n\n\n\nBilletterie
URL:https://journalmetro.com/evenement/les-soirees-desilets-le-curieux-destin-dmarcel/
LOCATION:Salle Désilets\, 7000 rue Marie-Victorin\, Montréal\, QC\, Canada
CATEGORIES:Communautaire
ATTACH;FMTTYPE=image/jpeg:https://journalmetro.com/wp-content/uploads/2022/08/horiz_curieuxdestin_opt1_logono_credit_photo_shaynelaverdiere-2000x1000-2.jpg
END:VEVENT
END:VCALENDAR