BEGIN:VCALENDAR
VERSION:2.0
PRODID:-//Journal Métro - ECPv6.0.13//NONSGML v1.0//EN
CALSCALE:GREGORIAN
METHOD:PUBLISH
X-WR-CALNAME:Journal Métro
X-ORIGINAL-URL:https://journalmetro.com
X-WR-CALDESC:évènements pour Journal Métro
REFRESH-INTERVAL;VALUE=DURATION:PT1H
X-Robots-Tag:noindex
X-PUBLISHED-TTL:PT1H
BEGIN:VTIMEZONE
TZID:America/Toronto
BEGIN:DAYLIGHT
TZOFFSETFROM:-0500
TZOFFSETTO:-0400
TZNAME:EDT
DTSTART:20220313T070000
END:DAYLIGHT
BEGIN:STANDARD
TZOFFSETFROM:-0400
TZOFFSETTO:-0500
TZNAME:EST
DTSTART:20221106T060000
END:STANDARD
END:VTIMEZONE
BEGIN:VEVENT
DTSTART;TZID=America/Toronto:20220815T080000
DTEND;TZID=America/Toronto:20220815T170000
DTSTAMP:20231017T121107
CREATED:20220815T180004Z
LAST-MODIFIED:20230217T145430Z
UID:10007053-1660550400-1660582800@journalmetro.com
SUMMARY:L'Est en spectacle - Simon Gouache
DESCRIPTION:Titre du spectacle : Simon Gouache travaille sur un troisième spectacle.Descriptif : C’est ça. Simon Gouache travaille sur un troisième spectacle. \n\n\n\nPour vous procurer vos billets \n\n\n\nPrésentez-vous directement à l’accueil du Centre communautaire Roussin ou appelez-nous au 514 645-4519. \n\n\n\nVous pouvez procéder au paiement par carte de crédit et obtenir votre réservation aussitôt.
URL:https://journalmetro.com/evenement/lest-en-spectacle-simon-gouache/
LOCATION:Salle Marie-Claire et Richard Séguin\, 12125 rue Notre-Dame Est\, Montréal\, QC\, Canada
ATTACH;FMTTYPE=image/jpeg:https://journalmetro.com/wp-content/uploads/2022/08/simon-gouache-2.jpg
END:VEVENT
END:VCALENDAR