BEGIN:VCALENDAR
VERSION:2.0
PRODID:-//Journal Métro - ECPv6.0.13//NONSGML v1.0//EN
CALSCALE:GREGORIAN
METHOD:PUBLISH
X-WR-CALNAME:Journal Métro
X-ORIGINAL-URL:https://journalmetro.com
X-WR-CALDESC:évènements pour Journal Métro
REFRESH-INTERVAL;VALUE=DURATION:PT1H
X-Robots-Tag:noindex
X-PUBLISHED-TTL:PT1H
BEGIN:VTIMEZONE
TZID:America/Toronto
BEGIN:DAYLIGHT
TZOFFSETFROM:-0500
TZOFFSETTO:-0400
TZNAME:EDT
DTSTART:20230312T070000
END:DAYLIGHT
BEGIN:STANDARD
TZOFFSETFROM:-0400
TZOFFSETTO:-0500
TZNAME:EST
DTSTART:20231105T060000
END:STANDARD
END:VTIMEZONE
BEGIN:VEVENT
DTSTART;TZID=America/Toronto:20230610T143000
DTEND;TZID=America/Toronto:20230610T193000
DTSTAMP:20231016T093909
CREATED:20230526T164003Z
LAST-MODIFIED:20230526T171433Z
UID:10017725-1686407400-1686425400@journalmetro.com
SUMMARY:Complètement British!
DESCRIPTION:Une fois par semaine\, depuis 2002\, plusieurs dizaines de choristes amateurs\, de tous âges et de tous horizons\, se retrouvent pour chanter. Ils le font avec rigueur\, et dans la bonne humeur… Parce que la musique fait du bien.  \n\n\n\nMenés de main de maître par un chef et directeur musical passionné\, Frédéric Vogel\, et accompagnés par la talentueuse pianiste Amélie Fortin\, nous découvrons et apprenons des airs tirés de répertoires variés que nous interprétons sur scène\, deux fois l’an. \n\n\n\n​Prochain concert : COMPLÈTEMENT BRITISH! Led Zeppelin\, Queen\, Beatles\, Genesis\, The Police\, Elton John\, David Bowie\, Supertramp\, Eurythmics\, Rolling Stones\, The Who\, Pink Floyd… Ça vous rappelle de bons souvenirs? Mis sur la glace à cause de la pandémie\, Complètement British verra enfin le jour ! Sur scène: 60 choristes et 6 musiciens Deux représentations : 14h30 et 19h30On vous espère nombreux! \n\n\n\nBillets: choralecarpediem@hotmail.com \n\n\n\n​ \n\n\n\nSuivez-nous sur Facebook pour rester au courant de notre actualité. \n\n\n\n​Communiquez avec nous pour en savoir plus.
URL:https://journalmetro.com/evenement/completement-british/
LOCATION:Salle Oscar Peterson\, 7141 rue Sherbrooke Ouest\, Montréal\, QC\, Canada
CATEGORIES:Communautaire
ATTACH;FMTTYPE=image/jpeg:https://journalmetro.com/wp-content/uploads/2023/05/EnsembleVocalCarpeDiem_1200x600.jpg
END:VEVENT
END:VCALENDAR