BEGIN:VCALENDAR
VERSION:2.0
PRODID:-//Journal Métro - ECPv6.0.13//NONSGML v1.0//EN
CALSCALE:GREGORIAN
METHOD:PUBLISH
X-WR-CALNAME:Journal Métro
X-ORIGINAL-URL:https://journalmetro.com
X-WR-CALDESC:évènements pour Journal Métro
REFRESH-INTERVAL;VALUE=DURATION:PT1H
X-Robots-Tag:noindex
X-PUBLISHED-TTL:PT1H
BEGIN:VTIMEZONE
TZID:America/Toronto
BEGIN:DAYLIGHT
TZOFFSETFROM:-0500
TZOFFSETTO:-0400
TZNAME:EDT
DTSTART:20230312T070000
END:DAYLIGHT
BEGIN:STANDARD
TZOFFSETFROM:-0400
TZOFFSETTO:-0500
TZNAME:EST
DTSTART:20231105T060000
END:STANDARD
END:VTIMEZONE
BEGIN:VEVENT
DTSTART;TZID=America/Toronto:20230616T180000
DTEND;TZID=America/Toronto:20230616T220000
DTSTAMP:20231018T163634
CREATED:20230517T171530Z
LAST-MODIFIED:20230517T171532Z
UID:10017605-1686938400-1686952800@journalmetro.com
SUMMARY:Inauguration Skate Plaza
DESCRIPTION:Le Skate Plaza est un parc de planche à roulettes situé sous le pont Jacques-Cartier\, près du métro Papineau. \n\n\n\nLe nouveau Skate Plaza à l’usage non exclusif des skateurs est une aire de sports sur roues et alternatifs (planche à roulettes\, trottinettes\, vélo BMX ou patins à roues alignées). \n\n\n\nLe port du casque est fortement recommandé. \n\n\n\nSource: montreal.ca \n\n\n\nDates et horaires sont sujets à changement sans préavis. Avant de vous déplacer\, vérifier ces informations sur montreal.ca
URL:https://journalmetro.com/evenement/inauguration-skate-plaza/
LOCATION:Skate Plaza\, Avenue De Lorimier\, Montréal\, QC\, Canada
CATEGORIES:Communautaire
ATTACH;FMTTYPE=image/jpeg:https://journalmetro.com/wp-content/uploads/2023/05/skate-plaza-2.jpg
END:VEVENT
END:VCALENDAR