BEGIN:VCALENDAR
VERSION:2.0
PRODID:-//Journal Métro - ECPv6.0.13//NONSGML v1.0//EN
CALSCALE:GREGORIAN
METHOD:PUBLISH
X-WR-CALNAME:Journal Métro
X-ORIGINAL-URL:https://journalmetro.com
X-WR-CALDESC:évènements pour Journal Métro
REFRESH-INTERVAL;VALUE=DURATION:PT1H
X-Robots-Tag:noindex
X-PUBLISHED-TTL:PT1H
BEGIN:VTIMEZONE
TZID:America/Toronto
BEGIN:DAYLIGHT
TZOFFSETFROM:-0500
TZOFFSETTO:-0400
TZNAME:EDT
DTSTART:20230312T070000
END:DAYLIGHT
BEGIN:STANDARD
TZOFFSETFROM:-0400
TZOFFSETTO:-0500
TZNAME:EST
DTSTART:20231105T060000
END:STANDARD
END:VTIMEZONE
BEGIN:VEVENT
DTSTART;TZID=America/Toronto:20230714T170000
DTEND;TZID=America/Toronto:20230715T170000
DTSTAMP:20231016T141414
CREATED:20230627T135448Z
LAST-MODIFIED:20230627T135450Z
UID:10018392-1689354000-1689440400@journalmetro.com
SUMMARY:Festivités du 14 juillet - Union française de Montréal
DESCRIPTION:Le vendredi 14 juillet 2023\, les Montréalais sont invités à célébrer la fête nationale française au Square Viger \n\n\n\nDans son périmètre historique de Ville-Marie\, l’Union Française de Montréal organise son événement phare\, en l’honneur de la bannière tricolore. La fête débutera d’abord au square Viger de 17h00 à 22h00. Ce lieu propice aux rencontres invite les familles et les amis de la francophonie à découvrir une programmation inédite d’artistes éclectiques. Entre fanfare\, groove et hip hop\, la scène du 14 juillet prévoit une consommation déraisonnée de rythmes universels\, visant à faire danser toute la communauté montréalaise. Côté restauration\, des kiosques de nourriture française seront mis disponible tel que l’Amour du pain\, Les 3 patapoufs\, Simal afro fusion\, Épicerie Euromarket\, Brasero et Passion Madras pour satisfaire les petits et les grands gourmands. \n\n\n\nToute la soirée\, artistes\, musiciens et DJ se relayeront au grand bonheur des mélomanes. Il y en aura pour tous les goûts! Habituée à enflammer les ondes d’Ici Musique (Radio-Canada)\, Catherine Pépin alias DJ CATH PEPS\, ouvrira le bal avec des tubes follement nostalgiques et stimulants de 17h à 18h et animera tout le reste de la soirée. Ariana M et Curtis Thorpe.\, Ariana\, passionnée par la chanson française et le jazz interprétera des monuments de la musique tel que la grandiose Edith Piaf entre autres. \n\n\n\nS’ensuit le groupe Ostie de Français qui interprètera le meilleur du rock francophone jusqu’à 20h\,  puis les Mauvaises Têtes enflammeront la piste de danse jusqu’à 22h. \n\n\n\nÀ partir de 22h\, les festivités du 14 juillet investiront l’immeuble historique de l’Union Française de Montréal. L’ambiance guinguette glissera doucement en rendez-vous pour les noctambules dans un menu de fête. La fameuse Soirée Kitsch\, le meilleur des années 80-90-2000 avec les participations de DJ Arthur Emery\, DJ La Berth et DJ Saysana vous enflammera jusqu’au bout de la nuit pour s’achever aux alentours de 3h. Venez avec vos tenues les plus kitchs! \n\n\n\nÀ propos : L’Union française de Montréal est un organisme québécois fondé à Montréal. Le 20 octobre 1886\, l’homme d’affaires Victor Ollivon (1838-1893) rassemble les différentes associations françaises dans le but de les unir sous un même étendard. À vocation humanitaire et culturelle\, l’Union française demeure aujourd’hui un espace incontournable d’échanges et de solidarité. Presque 140 ans plus tard\, ses administrateurs souhaitent toujours améliorer sa destinée associative\, d’aide à l’intégration et au réseautage. \n\n\n\nIl a aura des tirages de prix de présence offert par: Première moisson marché Atwater
URL:https://journalmetro.com/evenement/festivites-du-14-juillet-union-francaise-de-montreal/
LOCATION:Square-Viger\, Avenue Viger Est\, Montréal\, QC\, Canada
CATEGORIES:Communautaire
ATTACH;FMTTYPE=image/jpeg:https://journalmetro.com/wp-content/uploads/2023/06/Visuel-14-juillet-2023_1200x600.jpg
END:VEVENT
END:VCALENDAR