BEGIN:VCALENDAR
VERSION:2.0
PRODID:-//Journal Métro - ECPv6.0.13//NONSGML v1.0//EN
CALSCALE:GREGORIAN
METHOD:PUBLISH
X-WR-CALNAME:Journal Métro
X-ORIGINAL-URL:https://journalmetro.com
X-WR-CALDESC:évènements pour Journal Métro
REFRESH-INTERVAL;VALUE=DURATION:PT1H
X-Robots-Tag:noindex
X-PUBLISHED-TTL:PT1H
BEGIN:VTIMEZONE
TZID:America/Toronto
BEGIN:DAYLIGHT
TZOFFSETFROM:-0500
TZOFFSETTO:-0400
TZNAME:EDT
DTSTART:20230312T070000
END:DAYLIGHT
BEGIN:STANDARD
TZOFFSETFROM:-0400
TZOFFSETTO:-0500
TZNAME:EST
DTSTART:20231105T060000
END:STANDARD
END:VTIMEZONE
BEGIN:VEVENT
DTSTART;TZID=America/Toronto:20230624T130000
DTEND;TZID=America/Toronto:20230624T130000
DTSTAMP:20231016T142141
CREATED:20230608T193326Z
LAST-MODIFIED:20230608T195648Z
UID:10018015-1687611600-1687611600@journalmetro.com
SUMMARY:Fête nationale solidaire de Verdun
DESCRIPTION:C’est avec grand enthousiasme que nous vous invitons tous et toutes à un événement familial festif le 24 juin prochain afin de célébrer la fête nationale québécoise. Au menu: animation\, musique québécoise\, activités ludiques\, maquillage pour enfants et plus encore! Notre députée solidaire de Verdun\, Alejandra Zaga-Mendez\, sera aussi présente sur place!  (Cliquez ici si vous voulez nous donner un coup de main. On a besoin de bénévoles!)  \n\n\n\nL’événement est divisé en deux (2) parties:  \n\n\n\nLa première partie correspond à un tour de vélo dans Verdun et Saint-Henri-Sainte-Anne! Pour les gens qui disposent d’un vélo\, nous vous invitons à rejoindre le contingent à 13h00\, derrière la station de métro Verdun\, le 24 juin prochain. Le départ s’effectuera officiellement à 13h15 et se terminera à 15h00\, juste à temps pour la deuxième partie de la journée (voir plus bas). N’oubliez pas votre vélo et votre casque! \n\n\n\nÉvénement FB pour le tour de vélo: \n\n\n\nhttps://www.facebook.com/events/1449921109111605 \n\n\n\nPour la deuxième partie\, nous vous invitons à nous retrouver à côté du Natatorium de Verdun (6500 Boul. Lasalle\, voir la carte plus bas)\, dès 15h00 ce 24 juin\, afin de célébrer la fête nationale en bonne compagnie. Nous invitons les participant-e-s à amener leur propre nourriture\, mais nous servirons des hot-dogs sur place (réguliers et végétariens). N’oubliez pas votre crème solaire et vos jeux d’extérieur! \n\n\n\nÉvénement FB pour la fête nationale solidaire de Verdun:  \n\n\n\nhttps://www.facebook.com/events/1914352865601909 \n\n\n\nAu plaisir de se voir le 24 juin prochain!
URL:https://journalmetro.com/evenement/fete-nationale-solidaire-de-verdun/
LOCATION:Station de métro de Verdun\, 4520 rue de Verdun\, Montréal\, QC\, Canada
CATEGORIES:Communautaire
ATTACH;FMTTYPE=image/jpeg:https://journalmetro.com/wp-content/uploads/2023/06/Fete-Quecbec-Verdun_1200x600.jpg
END:VEVENT
END:VCALENDAR