BEGIN:VCALENDAR
VERSION:2.0
PRODID:-//Journal Métro - ECPv6.0.13//NONSGML v1.0//EN
CALSCALE:GREGORIAN
METHOD:PUBLISH
X-WR-CALNAME:Journal Métro
X-ORIGINAL-URL:https://journalmetro.com
X-WR-CALDESC:évènements pour Journal Métro
REFRESH-INTERVAL;VALUE=DURATION:PT1H
X-Robots-Tag:noindex
X-PUBLISHED-TTL:PT1H
BEGIN:VTIMEZONE
TZID:America/Toronto
BEGIN:DAYLIGHT
TZOFFSETFROM:-0500
TZOFFSETTO:-0400
TZNAME:EDT
DTSTART:20230312T070000
END:DAYLIGHT
BEGIN:STANDARD
TZOFFSETFROM:-0400
TZOFFSETTO:-0500
TZNAME:EST
DTSTART:20231105T060000
END:STANDARD
END:VTIMEZONE
BEGIN:VEVENT
DTSTART;TZID=America/Toronto:20230520T130000
DTEND;TZID=America/Toronto:20230520T153000
DTSTAMP:20231016T190201
CREATED:20230418T191643Z
LAST-MODIFIED:20230418T191651Z
UID:10017300-1684587600-1684596600@journalmetro.com
SUMMARY:Découverte de l’art urbain
DESCRIPTION:Admirez le temps d’une promenade des murales uniques et parfois insolites. \n\n\n\nEn compagnie d’un guide expert d’Artgang Montréal\, découvrez les démarches artistiques et les techniques derrière la réalisation de plus d’une vingtaine de murales des secteurs de la promenade Masson et des ruelles vertes avoisinantes. \n\n\n\nChaussez vos souliers confortables pour la visite. \n\n\n\nL’activité sera reportée au dimanche\, même heure\, si la température n’est pas clémente le samedi. Un message vous sera envoyé 24 h à l’avance pour confirmer ou reporter. Si la température n’est toujours pas clémente le dimanche\, l’activité sera annulée. \n\n\n\nSource: montreal.ca \n\n\n\nDates et horaires sont sujets à changement sans préavis. Avant de vous déplacer\, vérifier ces informations sur montreal.ca
URL:https://journalmetro.com/evenement/decouverte-de-lart-urbain/
LOCATION:Station de métro Jean-Talon\, 430 rue Jean-Talon Est\, Montréal\, QC\, Canada
CATEGORIES:Communautaire
ATTACH;FMTTYPE=image/jpeg:https://journalmetro.com/wp-content/uploads/2023/04/decouverte-art-urbain-2.jpg
END:VEVENT
END:VCALENDAR