BEGIN:VCALENDAR
VERSION:2.0
PRODID:-//Journal Métro - ECPv6.0.13//NONSGML v1.0//EN
CALSCALE:GREGORIAN
METHOD:PUBLISH
X-WR-CALNAME:Journal Métro
X-ORIGINAL-URL:https://journalmetro.com
X-WR-CALDESC:évènements pour Journal Métro
REFRESH-INTERVAL;VALUE=DURATION:PT1H
X-Robots-Tag:noindex
X-PUBLISHED-TTL:PT1H
BEGIN:VTIMEZONE
TZID:America/Toronto
BEGIN:DAYLIGHT
TZOFFSETFROM:-0500
TZOFFSETTO:-0400
TZNAME:EDT
DTSTART:20230312T070000
END:DAYLIGHT
BEGIN:STANDARD
TZOFFSETFROM:-0400
TZOFFSETTO:-0500
TZNAME:EST
DTSTART:20231105T060000
END:STANDARD
END:VTIMEZONE
BEGIN:VEVENT
DTSTART;TZID=America/Toronto:20230612T160000
DTEND;TZID=America/Toronto:20230927T160000
DTSTAMP:20231016T105417
CREATED:20230612T202731Z
LAST-MODIFIED:20230612T202733Z
UID:10018034-1686585600-1695830400@journalmetro.com
SUMMARY:Biblio au marché
DESCRIPTION:Profitez de votre visite au marché avec les enfants pour venir réaliser un bricolage avec la bibliothécaire jeunesse et découvrir des suggestions de lecture. \n\n\n\nL’activité a lieu dans le parc devant la bibliothèque. Elle sera annulée en cas de pluie. \n\n\n\nSource: montreal.ca \n\n\n\nDates et horaires sont sujets à changement sans préavis. Avant de vous déplacer\, vérifier ces informations sur montreal.ca
URL:https://journalmetro.com/evenement/biblio-au-marche-2/
LOCATION:Bibliothèque Jacqueline-De Repentigny\, 5955\, avenue Bannantyne\, Montréal\, QC\, H4H 1H6\, Canada
ATTACH;FMTTYPE=image/jpeg:https://journalmetro.com/wp-content/uploads/2023/06/biblio-marche-2.jpg
END:VEVENT
BEGIN:VEVENT
DTSTART;TZID=America/Toronto:20230625T100000
DTEND;TZID=America/Toronto:20231015T140000
DTSTAMP:20231016T105417
CREATED:20230607T182506Z
LAST-MODIFIED:20230607T182508Z
UID:10017994-1687687200-1697378400@journalmetro.com
SUMMARY:Le marché bio-local de L’Île-des-Soeurs
DESCRIPTION:Vous avez envie de profiter de produits frais\, de saison\, sans trop vous éloigner de chez vous? Profitez des marchés saisonniers de Verdun! \n\n\n\nFaites le plein de légumes frais et de produits locaux au marché bio-local de L’Île-des-Soeurs. \n\n\n\nSource: montreal.ca \n\n\n\nDates et horaires sont sujets à changement sans préavis. Avant de vous déplacer\, vérifier ces informations sur montreal.ca
URL:https://journalmetro.com/evenement/le-marche-bio-local-de-lile-des-soeurs-2/
LOCATION:Place de la Grande-Marguerite\, 40 Pl. du Commerce\, Verdun\, QC\, H3E 1J6\, Canada
ATTACH;FMTTYPE=image/jpeg:https://journalmetro.com/wp-content/uploads/2023/05/marche-bio-local-ids-2.jpg
END:VEVENT
BEGIN:VEVENT
DTSTART;TZID=America/Toronto:20230901T190000
DTEND;TZID=America/Toronto:20230924T220000
DTSTAMP:20231016T105417
CREATED:20230811T172906Z
LAST-MODIFIED:20230811T183324Z
UID:10019618-1693594800-1695592800@journalmetro.com
SUMMARY:Danse en ligne à Verdun!
DESCRIPTION:Venez vous amuser dans une belle ambiance musicale et dans un paysage avec vue sur le fleuve Saint-Laurent. Les gens y sont sympathiques et le sourire y est contagieux! \n\n\n\nL’activité est offerte dans le cadre de notre programmation Verdun actif. Elle peut être annulée en cas de pluie. \n\n\n\nEn collaboration avec Johanne Riel. \n\n\n\nSource: montreal.ca \n\n\n\nDates et horaires sont sujets à changement sans préavis. Avant de vous déplacer\, vérifier ces informations sur montreal.ca
URL:https://journalmetro.com/evenement/danse-en-ligne-a-verdun/
LOCATION:Piste de danse de l’ilot John-Gallagher\, 7000\, boulevard LaSalle\, Montréal\, QC\, H4H 1R4\, Canada
ATTACH;FMTTYPE=image/jpeg:https://journalmetro.com/wp-content/uploads/2023/08/danse-ligne-verdun-2.jpg
END:VEVENT
BEGIN:VEVENT
DTSTART;TZID=America/Toronto:20230911T200000
DTEND;TZID=America/Toronto:20230918T200000
DTSTAMP:20231016T105417
CREATED:20230324T212559Z
LAST-MODIFIED:20230324T212602Z
UID:10009672-1694462400-1695067200@journalmetro.com
SUMMARY:Les Funny Lundis au Benelux
DESCRIPTION:C’est le retour hivernal des Funny Lundis au Benelux ! LA soirée d’humour à Verdun qui se déroule chaque Lundi\, dans la tendre ambiance du Benelux\, en plein DOWNTOWN verdun. \n\n\n\nPour seulement 10$\, vous verrez des humoristes qui viendront vous faire rire. C’est vraiment moins cher et plus près que d’aller à Québec voir un Gala. \n\n\n\nLe tout animé par notre nouvel animateur William Bernaquez ! Rafaële Bolduc et Guillaume Pelletier en alternance chaque semaine à la chronique ! \n\n\n\nOn a vraiment hâte de vous voir la face et de tripper avec vous ! \n\n\n\nLa porte à 19h – Spectacle 20h  \n\n\n\nBilletterie \n\n\n\nBillets aussi disponibles à la porte (paiement en argent comptant ou par carte débit)
URL:https://journalmetro.com/evenement/les-funny-lundis-au-benelux-2/2023-09-11/
LOCATION:Benelux\, 4026 rue Wellington\, Montréal\, QC\, Canada
ATTACH;FMTTYPE=image/jpeg:https://journalmetro.com/wp-content/uploads/2023/01/les-funny-lundis-2.jpg
END:VEVENT
BEGIN:VEVENT
DTSTART;TZID=America/Toronto:20230913T200000
DTEND;TZID=America/Toronto:20230920T200000
DTSTAMP:20231016T105417
CREATED:20230324T213121Z
LAST-MODIFIED:20230324T213125Z
UID:10009907-1694635200-1695240000@journalmetro.com
SUMMARY:Pet pis répète s'en vont au Palco (soirée d'humour)
DESCRIPTION:Le Palco est très fier pour la nouvelle année de lancer sa toute première soirée d’humour! \n\n\n\nÀ partir du mercredi 11 janvier\, tous les mercredis\, dès 20h avec @greluche_samson à l’animation et @shradeglavoie à la chronique !
URL:https://journalmetro.com/evenement/pet-pis-repete-sen-vont-au-palco-soiree-dhumour-2/2023-09-13/
LOCATION:Bar Palco\, 4019 rue Wellington\, Montréal\, Canada
ATTACH;FMTTYPE=image/jpeg:https://journalmetro.com/wp-content/uploads/2023/01/pet-pis-repete.jpg
END:VEVENT
BEGIN:VEVENT
DTSTART;TZID=America/Toronto:20230917T080000
DTEND;TZID=America/Toronto:20230924T170000
DTSTAMP:20231016T105417
CREATED:20230324T213307Z
LAST-MODIFIED:20230324T213416Z
UID:10009568-1694937600-1695574800@journalmetro.com
SUMMARY:Le brunch aux folles
DESCRIPTION:Venez nous rejoindre tous les premiers dimanches du mois* pour un brunch à ne pas manquer !! Misty Waterfalls sera rejoint par deux invités spéciaux à chaque spectacle pour vous faire rire\, pleurer\, mais surtout\, fêter!! \n\n\n\nLe brunch est trop tôt pour vous ? ! Nous avons tout ce qu’il vous faut ! Venez à l’After Party du spectacle tardif pour passer un moment tout aussi fou\, dès 17h. \n\n\n\n$10 à la porte \n\n\n\n*L’horaire est susceptible d’être modifié
URL:https://journalmetro.com/evenement/le-brunch-aux-folles-2/2023-09-17/
LOCATION:Bar Social Verdun\, 3819 rue Wellington\, Montréal\, QC\, Canada
ATTACH;FMTTYPE=image/jpeg:https://journalmetro.com/wp-content/uploads/2023/01/le-brunch-aux-folles-2.jpg
END:VEVENT
BEGIN:VEVENT
DTSTART;TZID=America/Toronto:20230918T080000
DTEND;TZID=America/Toronto:20230925T170000
DTSTAMP:20231016T105417
CREATED:20230324T212452Z
LAST-MODIFIED:20230324T212456Z
UID:10010011-1695024000-1695661200@journalmetro.com
SUMMARY:Le Social Comédie Club
DESCRIPTION:Le Social Comédie Club est une soirée Open-Mic animée par Yasmeen Gregs avec Caro Monast et Thibault Varin à la chronique qui a lieu tous les premiers lundis du mois!  \n\n\n\nDates: les 6 février – 6 mars – 3 avril – 1er mai \n\n\n\nRéservez votre place sur les réseaux sociaux – Instagram\, Facebook \n\n\n\nPour info: socialcomedieclub@gmail.com
URL:https://journalmetro.com/evenement/le-social-comedie-club-3/2023-09-18/
LOCATION:Bar Social Verdun\, 3819 rue Wellington\, Montréal\, QC\, Canada
ATTACH;FMTTYPE=image/jpeg:https://journalmetro.com/wp-content/uploads/2023/01/comedie-social-club-2.jpg
END:VEVENT
BEGIN:VEVENT
DTSTART;TZID=America/Toronto:20230918T200000
DTEND;TZID=America/Toronto:20230925T200000
DTSTAMP:20231016T105417
CREATED:20230324T212559Z
LAST-MODIFIED:20230324T212602Z
UID:10009673-1695067200-1695672000@journalmetro.com
SUMMARY:Les Funny Lundis au Benelux
DESCRIPTION:C’est le retour hivernal des Funny Lundis au Benelux ! LA soirée d’humour à Verdun qui se déroule chaque Lundi\, dans la tendre ambiance du Benelux\, en plein DOWNTOWN verdun. \n\n\n\nPour seulement 10$\, vous verrez des humoristes qui viendront vous faire rire. C’est vraiment moins cher et plus près que d’aller à Québec voir un Gala. \n\n\n\nLe tout animé par notre nouvel animateur William Bernaquez ! Rafaële Bolduc et Guillaume Pelletier en alternance chaque semaine à la chronique ! \n\n\n\nOn a vraiment hâte de vous voir la face et de tripper avec vous ! \n\n\n\nLa porte à 19h – Spectacle 20h  \n\n\n\nBilletterie \n\n\n\nBillets aussi disponibles à la porte (paiement en argent comptant ou par carte débit)
URL:https://journalmetro.com/evenement/les-funny-lundis-au-benelux-2/2023-09-18/
LOCATION:Benelux\, 4026 rue Wellington\, Montréal\, QC\, Canada
ATTACH;FMTTYPE=image/jpeg:https://journalmetro.com/wp-content/uploads/2023/01/les-funny-lundis-2.jpg
END:VEVENT
BEGIN:VEVENT
DTSTART;TZID=America/Toronto:20230919T200000
DTEND;TZID=America/Toronto:20230919T200000
DTSTAMP:20231016T105417
CREATED:20230324T213155Z
LAST-MODIFIED:20230324T213158Z
UID:10009803-1695153600-1695153600@journalmetro.com
SUMMARY:Les p'tits Galas de l'humour
DESCRIPTION:Les P’tits galas de l’humour ont lieu tous les mardis au Trèfle de Verdun avec Frédérick Côté à l’animation et Martin Lauzon et Ben Essiambre en alternance à la chronique. Au menu\, 5 humoristes et une bouteille de Carlsberg! \n\n\n\nLes P’tits Galas de l’humour sont de retour pour la saison Hivernale  \n\n\n\n14 $ + frais\, et le billet inclut une bouteille de Carlsberg  \n\n\n\nOn a hâte de vous revoir au Le Trèfle – Verdun !  \n\n\n\nDépêchez-vous\, c’est toujours SOLDOUT\, au moins une semaine à l’avance ! \n\n\n\nBillets en ligne seulement\, aucun billet à la porte \n\n\n\nBilletterie
URL:https://journalmetro.com/evenement/les-ptits-galas-de-lhumour-3/2023-09-19/
LOCATION:Le Trèfle – Taverne Irlandaise\, 4718 rue Wellington\, Montréal\, QC\, Canada
ATTACH;FMTTYPE=image/jpeg:https://journalmetro.com/wp-content/uploads/2023/01/les-ptits-galas-de-lhumour-2.jpg
END:VEVENT
BEGIN:VEVENT
DTSTART;TZID=America/Toronto:20230920T200000
DTEND;TZID=America/Toronto:20230927T200000
DTSTAMP:20231016T105417
CREATED:20230324T213121Z
LAST-MODIFIED:20230324T213125Z
UID:10009908-1695240000-1695844800@journalmetro.com
SUMMARY:Pet pis répète s'en vont au Palco (soirée d'humour)
DESCRIPTION:Le Palco est très fier pour la nouvelle année de lancer sa toute première soirée d’humour! \n\n\n\nÀ partir du mercredi 11 janvier\, tous les mercredis\, dès 20h avec @greluche_samson à l’animation et @shradeglavoie à la chronique !
URL:https://journalmetro.com/evenement/pet-pis-repete-sen-vont-au-palco-soiree-dhumour-2/2023-09-20/
LOCATION:Bar Palco\, 4019 rue Wellington\, Montréal\, Canada
ATTACH;FMTTYPE=image/jpeg:https://journalmetro.com/wp-content/uploads/2023/01/pet-pis-repete.jpg
END:VEVENT
BEGIN:VEVENT
DTSTART;TZID=America/Toronto:20230924T080000
DTEND;TZID=America/Toronto:20231001T170000
DTSTAMP:20231016T105417
CREATED:20230324T213307Z
LAST-MODIFIED:20230324T213416Z
UID:10009569-1695542400-1696179600@journalmetro.com
SUMMARY:Le brunch aux folles
DESCRIPTION:Venez nous rejoindre tous les premiers dimanches du mois* pour un brunch à ne pas manquer !! Misty Waterfalls sera rejoint par deux invités spéciaux à chaque spectacle pour vous faire rire\, pleurer\, mais surtout\, fêter!! \n\n\n\nLe brunch est trop tôt pour vous ? ! Nous avons tout ce qu’il vous faut ! Venez à l’After Party du spectacle tardif pour passer un moment tout aussi fou\, dès 17h. \n\n\n\n$10 à la porte \n\n\n\n*L’horaire est susceptible d’être modifié
URL:https://journalmetro.com/evenement/le-brunch-aux-folles-2/2023-09-24/
LOCATION:Bar Social Verdun\, 3819 rue Wellington\, Montréal\, QC\, Canada
ATTACH;FMTTYPE=image/jpeg:https://journalmetro.com/wp-content/uploads/2023/01/le-brunch-aux-folles-2.jpg
END:VEVENT
END:VCALENDAR