BEGIN:VCALENDAR
VERSION:2.0
PRODID:-//Journal Métro - ECPv6.0.13//NONSGML v1.0//EN
CALSCALE:GREGORIAN
METHOD:PUBLISH
X-WR-CALNAME:Journal Métro
X-ORIGINAL-URL:https://journalmetro.com
X-WR-CALDESC:évènements pour Journal Métro
REFRESH-INTERVAL;VALUE=DURATION:PT1H
X-Robots-Tag:noindex
X-PUBLISHED-TTL:PT1H
BEGIN:VTIMEZONE
TZID:America/Toronto
BEGIN:DAYLIGHT
TZOFFSETFROM:-0500
TZOFFSETTO:-0400
TZNAME:EDT
DTSTART:20230312T070000
END:DAYLIGHT
BEGIN:STANDARD
TZOFFSETFROM:-0400
TZOFFSETTO:-0500
TZNAME:EST
DTSTART:20231105T060000
END:STANDARD
END:VTIMEZONE
BEGIN:VEVENT
DTSTART;TZID=America/Toronto:20231008T080000
DTEND;TZID=America/Toronto:20231015T170000
DTSTAMP:20231016T105155
CREATED:20230324T213307Z
LAST-MODIFIED:20230324T213416Z
UID:10009571-1696752000-1697389200@journalmetro.com
SUMMARY:Le brunch aux folles
DESCRIPTION:Venez nous rejoindre tous les premiers dimanches du mois* pour un brunch à ne pas manquer !! Misty Waterfalls sera rejoint par deux invités spéciaux à chaque spectacle pour vous faire rire\, pleurer\, mais surtout\, fêter!! \n\n\n\nLe brunch est trop tôt pour vous ? ! Nous avons tout ce qu’il vous faut ! Venez à l’After Party du spectacle tardif pour passer un moment tout aussi fou\, dès 17h. \n\n\n\n$10 à la porte \n\n\n\n*L’horaire est susceptible d’être modifié
URL:https://journalmetro.com/evenement/le-brunch-aux-folles-2/2023-10-08/
LOCATION:Bar Social Verdun\, 3819 rue Wellington\, Montréal\, QC\, Canada
ATTACH;FMTTYPE=image/jpeg:https://journalmetro.com/wp-content/uploads/2023/01/le-brunch-aux-folles-2.jpg
END:VEVENT
END:VCALENDAR