BEGIN:VCALENDAR
VERSION:2.0
PRODID:-//Journal Métro - ECPv6.0.13//NONSGML v1.0//EN
CALSCALE:GREGORIAN
METHOD:PUBLISH
X-WR-CALNAME:Journal Métro
X-ORIGINAL-URL:https://journalmetro.com
X-WR-CALDESC:évènements pour Journal Métro
REFRESH-INTERVAL;VALUE=DURATION:PT1H
X-Robots-Tag:noindex
X-PUBLISHED-TTL:PT1H
BEGIN:VTIMEZONE
TZID:America/Toronto
BEGIN:DAYLIGHT
TZOFFSETFROM:-0500
TZOFFSETTO:-0400
TZNAME:EDT
DTSTART:20230312T070000
END:DAYLIGHT
BEGIN:STANDARD
TZOFFSETFROM:-0400
TZOFFSETTO:-0500
TZNAME:EST
DTSTART:20231105T060000
END:STANDARD
END:VTIMEZONE
BEGIN:VEVENT
DTSTART;TZID=America/Toronto:20230908T130000
DTEND;TZID=America/Toronto:20231105T170000
DTSTAMP:20231016T125848
CREATED:20230721T194249Z
LAST-MODIFIED:20230721T194250Z
UID:10019138-1694178000-1699203600@journalmetro.com
SUMMARY:Something’s aJar - Simon Davies et collectif de collaborateur.rices
DESCRIPTION:Ici\, le bocal est le point de départ commun de toutes les œuvres exposées. \n\n\n\nLe bocal devient le récipient où l’on trouve les souvenirs\, idées\, rêves et réflexions d’une communauté fracturée par une pandémie qui a perduré. C’est le dépositaire d’une caractéristique\, d’un sentiment ou même\, d’un esprit. L’ordinaire s’y transforme en extraordinaire. \n\n\n\nVernissage : Samedi 9 septembre de 14 h à 16 h \n\n\n\nSource: montreal.ca \n\n\n\nDates et horaires sont sujets à changement sans préavis. Avant de vous déplacer\, vérifier ces informations sur montreal.ca
URL:https://journalmetro.com/evenement/somethings-ajar-simon-davies-et-collectif-de-collaborateur-rices/
LOCATION:Maison de la culture Notre-Dame-de-Grâce – Botrel\, 3755 rue Botrel\, Montréal\, QC\, Canada
CATEGORIES:Communautaire
ATTACH;FMTTYPE=image/jpeg:https://journalmetro.com/wp-content/uploads/2023/07/somethings-ajar-2.jpg
END:VEVENT
BEGIN:VEVENT
DTSTART;TZID=America/Toronto:20230908T180000
DTEND;TZID=America/Toronto:20231022T190000
DTSTAMP:20231016T125848
CREATED:20230714T190035Z
LAST-MODIFIED:20230714T190037Z
UID:10018874-1694196000-1698001200@journalmetro.com
SUMMARY:Genèse - Normand Besner
DESCRIPTION:L’exposition temporaire Genèse de Normand Besner sera présentée à L’Entrepôt de Lachine\, du 8 septembre au 22 octobre 2023. \n\n\n\nL’artiste lachinois Normand Besner nous propose une réflexion sur la genèse et les générations au fil du temps : passé\, présent et futur. Dans cette série d’œuvres minimalistes\, marquées par un traitement à la spatule\, le mouvement des lignes de vie est représenté en suspension dans l’espace\, dans le temps. \n\n\n\nLe vernissage aura lieu le 8 septembre\, de 18 h à 21 h. \n\n\n\nLes heures d’ouverture de l’exposition sont les vendredis de 18 h à 21 h ainsi que les samedis et les dimanches\, de 12 h à 17 h. Ouvert également pendant le ciné-club et les spectacles. \n\n\n\nSource: montreal.ca \n\n\n\nDates et horaires sont sujets à changement sans préavis. Avant de vous déplacer\, vérifier ces informations sur montreal.ca
URL:https://journalmetro.com/evenement/genese-normand-besner/
LOCATION:L’Entrepôt – maison de la culture de Lachine\, 2901\, boulevard Saint-Joseph\, Montréal\, QC\, H8S4B7\, Canada
ATTACH;FMTTYPE=image/jpeg:https://journalmetro.com/wp-content/uploads/2023/07/genese-2.jpg
END:VEVENT
BEGIN:VEVENT
DTSTART;TZID=America/Toronto:20230909T130000
DTEND;TZID=America/Toronto:20231105T170000
DTSTAMP:20231016T125848
CREATED:20230721T201543Z
LAST-MODIFIED:20230721T201544Z
UID:10019144-1694264400-1699203600@journalmetro.com
SUMMARY:Tout le monde a un plan - Moe Piuze
DESCRIPTION:Série d’assemblages en bois fabriqués à partir d’esquisses agrandies et reproduites\, en conservant la spontanéité du trait de départ\, au moyen d’une juxtaposition intuitive de larges champs colorés. \n\n\n\nEn résultent des œuvres à la fois picturales et sculpturales au vocabulaire visuel succinct – une main-crayons-de-couleurs\, un pied nu\, un carré\, un cercle\, un rectangle\, un triangle\, une arche\, un tenon\, une mortaise\, une fleur\, un oiseau. Quelques formes géométriques\, abstraites\, organiques et anthropomorphiques se recoupant d’une composition à l’autre. Le titre du projet « Tout le monde a un plan » se réfère à une citation du boxeur Joe Louis : « everyone’s got a plan until they get hit! » En d’autres mots\, dans la vie comme dans l’arène\, les stratégies prennent souvent fin quand le combat commence. Car les bouleversements que nous expérimentons au quotidien de manière individuelle et collective\, nous incitent à redéfinir continuellement nos schèmes de pensée. Ainsi\, face à la précarité de nos sociétés contemporaines\, l’inquiétude\, l’agitation\, la rage\, la crispation et l’épuisement apparaissent parfois comme des psychodrames inéluctables. Y poser un regard doux\, tendre et bienveillant peut devenir\, dans bien des cas\, une nécessité. Pour retrouver son souffle\, reprendre ses esprits et entre deux soubresauts\, essayer de s’aménager une vie\, réelle comme imaginaire\, habitable et bonne. \n\n\n\nMoe Piuze est né à Knowlton (Lac-Brome). Enfant créatif\, adolescent touche-à-tout\, il détient aujourd’hui une maîtrise en arts visuels et médiatiques. Au gré des années\, il présente son travail en Amérique et en Europe\, notamment au Musée d’art contemporain de Montréal (Canada)\, au Musée d’art de l’Université de Bogotá (Colombie)\, au Festival international d’art vidéo de Casablanca (Maroc) et\, plus récemment\, au Musée d’Art de Joliette (Canada).Lorsque Moe Piuze se définit comme chercheur-bricoleur — réflexion notamment tirée de la définition du bricoleur selon Lévi Strauss — il évoque avant tout l’acte de créer. Il place l’accent sur le « faire »\, sur un mode de création au sein duquel le processus tient une place importante. L’artiste multiplie le type de matériaux dont il fait usage\, du plus ancien\, comme le bois de grange marqué par le temps\, au plus synthétique\, comme le Plexiglas\, qui recouvre parfois les parties photographiques de ses œuvres. Il élabore une nouvelle réalité à partir de l’assemblage de ces différents éléments\, tout en préservant la singularité de chacun. Formes et couleurs semblent conserver leur autonomie\, mais\, ensemble\, racontent une histoire. Par leur agencement\, il crée un dialogue. Du reste\, le procédé se situe à la frontière de la thérapeutique si l’on considère son travail d’assemblage comme un acte de réparation\, de renaissance. Fouiller\, accumuler\, recycler\, Moe Piuze compose par plaisir\, couleurs et matériaux traduisant son imaginaire. Trois pistes de réflexion en forment la clé de voûte : le corps\, l’habitat\, et le paysage. Ainsi est évoquée la réalité de sa création\, soit l’imbrication de l’humain avec son environnement.  \n\n\n\nVernissage : Samedi 9 septembre de 14 h à 16 h \n\n\n\nSource: montreal.ca \n\n\n\nDates et horaires sont sujets à changement sans préavis. Avant de vous déplacer\, vérifier ces informations sur montreal.ca
URL:https://journalmetro.com/evenement/tout-le-monde-a-un-plan-moe-piuze/
LOCATION:Maison de la culture Notre-Dame-de-Grâce – Botrel\, 3755 rue Botrel\, Montréal\, QC\, Canada
ATTACH;FMTTYPE=image/jpeg:https://journalmetro.com/wp-content/uploads/2023/07/tout-le-monde-a-un-plan-2.jpg
END:VEVENT
BEGIN:VEVENT
DTSTART;TZID=America/Toronto:20230915T133000
DTEND;TZID=America/Toronto:20231110T160000
DTSTAMP:20231016T125848
CREATED:20230726T174520Z
LAST-MODIFIED:20230726T174655Z
UID:10019179-1694784600-1699632000@journalmetro.com
SUMMARY:Retraite branchée : formation sur tablette électronique (iPad)
DESCRIPTION:Série d’ateliers informatiques pour les gens de 50 ans et plus \n\n\n\nApprenez à utiliser la tablette électronique! Ce cours complet de 10 semaines offert par le Centre de services scolaire Marguerite-Bourgeoys permet aux inscrits de se familiariser avec l’environnement informatique\, naviguer sur Internet\, communiquer par courriel et médias sociaux\, gérer des photos\, gérer ses comptes personnels et télécharger diverses applications. La tablette est fournie durant les ateliers (iPad).  \n\n\n\nLes participants doivent être présents aux 10 séances. \n\n\n\nInscription sur place uniquement à compter du vendredi 18 août à 10h30. Les places sont limitées! \n\n\n\nVeuillez noter que les participants devront fournir obligatoirement les 2 documents suivants : \n\n\n\n– Photocopie de la carte d’assurance maladie \n\n\n\n– Photocopie du certificat de naissance ou du document d’immigration \n\n\n\nSource: montreal.ca \n\n\n\nDates et horaires sont sujets à changement sans préavis. Avant de vous déplacer\, vérifier ces informations sur montreal.ca
URL:https://journalmetro.com/evenement/retraite-branchee-formation-sur-tablette-electronique-ipad-2/
LOCATION:Bibliothèque Langelier\, 6473 rue Sherbrooke Est\, QC\, Canada
ATTACH;FMTTYPE=image/jpeg:https://journalmetro.com/wp-content/uploads/2023/07/retraite-branchee-2.jpg
END:VEVENT
BEGIN:VEVENT
DTSTART;TZID=America/Toronto:20230924T140000
DTEND;TZID=America/Toronto:20231203T153000
DTSTAMP:20231016T125848
CREATED:20230726T165803Z
LAST-MODIFIED:20230726T165805Z
UID:10019196-1695564000-1701617400@journalmetro.com
SUMMARY:Cours d'échecs
DESCRIPTION:Tout sur les échecs à Rivière-des-Prairies–Pointe-aux-Trembles! \n\n\n\nGrâce à une ou un professeur d’expérience\, apprends les bases des échecs ou approfondis tes connaissances pour devenir un joueur de plus en plus redoutable et\, qui sait\, réussir à te classer parmi les meilleurs de la province! \n\n\n\nSource: montreal.ca \n\n\n\nDates et horaires sont sujets à changement sans préavis. Avant de vous déplacer\, vérifier ces informations sur montreal.ca
URL:https://journalmetro.com/evenement/cours-dechecs/
LOCATION:Bibliothèque Serge Bouchard (Pointe-aux-Trembles)\, 14001 rue Notre-Dame Est\, Montréal\, QC\, Canada
ATTACH;FMTTYPE=image/jpeg:https://journalmetro.com/wp-content/uploads/2023/07/echecs-pat-2.jpg
END:VEVENT
BEGIN:VEVENT
DTSTART;TZID=America/Toronto:20231009T200000
DTEND;TZID=America/Toronto:20231016T200000
DTSTAMP:20231016T125848
CREATED:20230324T212559Z
LAST-MODIFIED:20230324T212602Z
UID:10009676-1696881600-1697486400@journalmetro.com
SUMMARY:Les Funny Lundis au Benelux
DESCRIPTION:C’est le retour hivernal des Funny Lundis au Benelux ! LA soirée d’humour à Verdun qui se déroule chaque Lundi\, dans la tendre ambiance du Benelux\, en plein DOWNTOWN verdun. \n\n\n\nPour seulement 10$\, vous verrez des humoristes qui viendront vous faire rire. C’est vraiment moins cher et plus près que d’aller à Québec voir un Gala. \n\n\n\nLe tout animé par notre nouvel animateur William Bernaquez ! Rafaële Bolduc et Guillaume Pelletier en alternance chaque semaine à la chronique ! \n\n\n\nOn a vraiment hâte de vous voir la face et de tripper avec vous ! \n\n\n\nLa porte à 19h – Spectacle 20h  \n\n\n\nBilletterie \n\n\n\nBillets aussi disponibles à la porte (paiement en argent comptant ou par carte débit)
URL:https://journalmetro.com/evenement/les-funny-lundis-au-benelux-2/2023-10-09/
LOCATION:Benelux\, 4026 rue Wellington\, Montréal\, QC\, Canada
ATTACH;FMTTYPE=image/jpeg:https://journalmetro.com/wp-content/uploads/2023/01/les-funny-lundis-2.jpg
END:VEVENT
BEGIN:VEVENT
DTSTART;TZID=America/Toronto:20231010T153000
DTEND;TZID=America/Toronto:20231017T193000
DTSTAMP:20231016T125848
CREATED:20230811T191923Z
LAST-MODIFIED:20230811T191925Z
UID:10019635-1696951800-1697571000@journalmetro.com
SUMMARY:Mardis jeux vidéo
DESCRIPTION:Les mardis on joue! Viens essayer la console et les jeux mis à ta disposition pour jouer librement\, en solo ou avec des camarades. \n\n\n\nL’activité a lieu tous les mardis\, de 15 h 30 à 19 h 30. \n\n\n\nElle est destinée aux enfants de 7 ans et plus. \n\n\n\nSource: montreal.ca \n\n\n\nDates et horaires sont sujets à changement sans préavis. Avant de vous déplacer\, vérifier ces informations sur montreal.ca
URL:https://journalmetro.com/evenement/mardis-jeux-video-21/2023-10-10/
LOCATION:Bibliothèque Serge Bouchard (Pointe-aux-Trembles)\, 14001 rue Notre-Dame Est\, Montréal\, QC\, Canada
ATTACH;FMTTYPE=image/jpeg:https://journalmetro.com/wp-content/uploads/2023/08/mardis-jeux-video-rdp-pat-2.jpg
END:VEVENT
BEGIN:VEVENT
DTSTART;TZID=America/Toronto:20231010T153000
DTEND;TZID=America/Toronto:20231017T193000
DTSTAMP:20231016T125848
CREATED:20230811T192125Z
LAST-MODIFIED:20230811T192126Z
UID:10019651-1696951800-1697571000@journalmetro.com
SUMMARY:Mardis jeux vidéo
DESCRIPTION:Les mardis on joue! Viens essayer la console et les jeux mis à ta disposition pour jouer librement\, en solo ou avec des camarades. \n\n\n\nL’activité a lieu tous les mardis\, de 15 h 30 à 19 h 30. \n\n\n\nElle est destinée aux enfants de 7 ans et plus. \n\n\n\nSource: montreal.ca \n\n\n\nDates et horaires sont sujets à changement sans préavis. Avant de vous déplacer\, vérifier ces informations sur montreal.ca
URL:https://journalmetro.com/evenement/mardis-jeux-video-22/2023-10-10/
LOCATION:Bibliothèque de Rivière-des-Prairies\, 9001 boulevard Perras\, Montréal\, QC\, H1C!W3\, Canada
ATTACH;FMTTYPE=image/jpeg:https://journalmetro.com/wp-content/uploads/2023/08/mardis-jeux-video-rdp-pat-2.jpg
END:VEVENT
BEGIN:VEVENT
DTSTART;TZID=America/Toronto:20231011T200000
DTEND;TZID=America/Toronto:20231018T200000
DTSTAMP:20231016T125848
CREATED:20230324T213121Z
LAST-MODIFIED:20230324T213125Z
UID:10009911-1697054400-1697659200@journalmetro.com
SUMMARY:Pet pis répète s'en vont au Palco (soirée d'humour)
DESCRIPTION:Le Palco est très fier pour la nouvelle année de lancer sa toute première soirée d’humour! \n\n\n\nÀ partir du mercredi 11 janvier\, tous les mercredis\, dès 20h avec @greluche_samson à l’animation et @shradeglavoie à la chronique !
URL:https://journalmetro.com/evenement/pet-pis-repete-sen-vont-au-palco-soiree-dhumour-2/2023-10-11/
LOCATION:Bar Palco\, 4019 rue Wellington\, Montréal\, Canada
ATTACH;FMTTYPE=image/jpeg:https://journalmetro.com/wp-content/uploads/2023/01/pet-pis-repete.jpg
END:VEVENT
BEGIN:VEVENT
DTSTART;TZID=America/Toronto:20231015T080000
DTEND;TZID=America/Toronto:20231022T170000
DTSTAMP:20231016T125848
CREATED:20230324T213307Z
LAST-MODIFIED:20230324T213416Z
UID:10009572-1697356800-1697994000@journalmetro.com
SUMMARY:Le brunch aux folles
DESCRIPTION:Venez nous rejoindre tous les premiers dimanches du mois* pour un brunch à ne pas manquer !! Misty Waterfalls sera rejoint par deux invités spéciaux à chaque spectacle pour vous faire rire\, pleurer\, mais surtout\, fêter!! \n\n\n\nLe brunch est trop tôt pour vous ? ! Nous avons tout ce qu’il vous faut ! Venez à l’After Party du spectacle tardif pour passer un moment tout aussi fou\, dès 17h. \n\n\n\n$10 à la porte \n\n\n\n*L’horaire est susceptible d’être modifié
URL:https://journalmetro.com/evenement/le-brunch-aux-folles-2/2023-10-15/
LOCATION:Bar Social Verdun\, 3819 rue Wellington\, Montréal\, QC\, Canada
ATTACH;FMTTYPE=image/jpeg:https://journalmetro.com/wp-content/uploads/2023/01/le-brunch-aux-folles-2.jpg
END:VEVENT
BEGIN:VEVENT
DTSTART;TZID=America/Toronto:20231016T080000
DTEND;TZID=America/Toronto:20231023T170000
DTSTAMP:20231016T125848
CREATED:20230324T212452Z
LAST-MODIFIED:20230324T212456Z
UID:10010012-1697443200-1698080400@journalmetro.com
SUMMARY:Le Social Comédie Club
DESCRIPTION:Le Social Comédie Club est une soirée Open-Mic animée par Yasmeen Gregs avec Caro Monast et Thibault Varin à la chronique qui a lieu tous les premiers lundis du mois!  \n\n\n\nDates: les 6 février – 6 mars – 3 avril – 1er mai \n\n\n\nRéservez votre place sur les réseaux sociaux – Instagram\, Facebook \n\n\n\nPour info: socialcomedieclub@gmail.com
URL:https://journalmetro.com/evenement/le-social-comedie-club-3/2023-10-16/
LOCATION:Bar Social Verdun\, 3819 rue Wellington\, Montréal\, QC\, Canada
ATTACH;FMTTYPE=image/jpeg:https://journalmetro.com/wp-content/uploads/2023/01/comedie-social-club-2.jpg
END:VEVENT
BEGIN:VEVENT
DTSTART;TZID=America/Toronto:20231016T200000
DTEND;TZID=America/Toronto:20231023T200000
DTSTAMP:20231016T125848
CREATED:20230324T212559Z
LAST-MODIFIED:20230324T212602Z
UID:10009677-1697486400-1698091200@journalmetro.com
SUMMARY:Les Funny Lundis au Benelux
DESCRIPTION:C’est le retour hivernal des Funny Lundis au Benelux ! LA soirée d’humour à Verdun qui se déroule chaque Lundi\, dans la tendre ambiance du Benelux\, en plein DOWNTOWN verdun. \n\n\n\nPour seulement 10$\, vous verrez des humoristes qui viendront vous faire rire. C’est vraiment moins cher et plus près que d’aller à Québec voir un Gala. \n\n\n\nLe tout animé par notre nouvel animateur William Bernaquez ! Rafaële Bolduc et Guillaume Pelletier en alternance chaque semaine à la chronique ! \n\n\n\nOn a vraiment hâte de vous voir la face et de tripper avec vous ! \n\n\n\nLa porte à 19h – Spectacle 20h  \n\n\n\nBilletterie \n\n\n\nBillets aussi disponibles à la porte (paiement en argent comptant ou par carte débit)
URL:https://journalmetro.com/evenement/les-funny-lundis-au-benelux-2/2023-10-16/
LOCATION:Benelux\, 4026 rue Wellington\, Montréal\, QC\, Canada
ATTACH;FMTTYPE=image/jpeg:https://journalmetro.com/wp-content/uploads/2023/01/les-funny-lundis-2.jpg
END:VEVENT
BEGIN:VEVENT
DTSTART;TZID=America/Toronto:20231017T000000
DTEND;TZID=America/Toronto:20231028T235959
DTSTAMP:20231016T125848
CREATED:20230123T211741Z
LAST-MODIFIED:20230501T204952Z
UID:10012787-1697500800-1698537599@journalmetro.com
SUMMARY:« L'Espèce fabulatrice » au Théâtre Aux Écuries
DESCRIPTION:Contenu promotionnel \n\n\n\nLe 4 avril 2022\, le GIEC annonçait que la majorité des changements climatiques sont désormais irréversibles et que plusieurs risques « sont inévitables à court terme ». En d’autres mots\, le monde comme nous le connaissons et ses systèmes seraient voués à s’effondrer\, que ce soit de façon intentionnelle ou imposée. Pour surmonter la confusion et le désespoir\, il faut commencer à nous libérer du système de valeurs de la civilisation industrielle.En invitant dans la création un chœur de personnes qui se sont déjà retrouvées au cœur d’un effondrement\, la compagnie s’inspirera de « L’Espèce fabulatrice » de Nancy Houston. Les performeur·euse·s partageront les manières dont ils·elles ont habité le trouble et ce qui pétrit leurs « après ». Au fil des dix représentations\, ils·elles devront s’occuper d’un jardin sur scène. Sans sol ni soleil\, le résultat est imprévisible. Dans quel état sera laissée la vie ? \n\n\n\nPour en savoir plus\, rendez-vous au auxecuries.com ou consultez leurs médias sociaux \n\n\n\nInstagram\n\nYouTube\n\n\n\n28$ tarif régulier | 18-25$ tarifs réduits \n\n\n\nCrédit photo : Stéphane Garon
URL:https://journalmetro.com/evenement/lespece-fabulatrice-au-theatre-aux-ecuries/
LOCATION:Théâtre aux Écuries\, 7285\, rue Chabot\, MONTREAL\, Québec\, H2E 2K7
CATEGORIES:Promotionnel
ATTACH;FMTTYPE=image/jpeg:https://journalmetro.com/wp-content/uploads/2023/01/TAE_ILLUSTRATIONS_SPECTACLES_1000x1000_VISUELS12.jpg
END:VEVENT
BEGIN:VEVENT
DTSTART;TZID=America/Toronto:20231017T153000
DTEND;TZID=America/Toronto:20231024T193000
DTSTAMP:20231016T125848
CREATED:20230811T191923Z
LAST-MODIFIED:20230811T191925Z
UID:10019636-1697556600-1698175800@journalmetro.com
SUMMARY:Mardis jeux vidéo
DESCRIPTION:Les mardis on joue! Viens essayer la console et les jeux mis à ta disposition pour jouer librement\, en solo ou avec des camarades. \n\n\n\nL’activité a lieu tous les mardis\, de 15 h 30 à 19 h 30. \n\n\n\nElle est destinée aux enfants de 7 ans et plus. \n\n\n\nSource: montreal.ca \n\n\n\nDates et horaires sont sujets à changement sans préavis. Avant de vous déplacer\, vérifier ces informations sur montreal.ca
URL:https://journalmetro.com/evenement/mardis-jeux-video-21/2023-10-17/
LOCATION:Bibliothèque Serge Bouchard (Pointe-aux-Trembles)\, 14001 rue Notre-Dame Est\, Montréal\, QC\, Canada
ATTACH;FMTTYPE=image/jpeg:https://journalmetro.com/wp-content/uploads/2023/08/mardis-jeux-video-rdp-pat-2.jpg
END:VEVENT
BEGIN:VEVENT
DTSTART;TZID=America/Toronto:20231017T153000
DTEND;TZID=America/Toronto:20231024T193000
DTSTAMP:20231016T125848
CREATED:20230811T192125Z
LAST-MODIFIED:20230811T192126Z
UID:10019652-1697556600-1698175800@journalmetro.com
SUMMARY:Mardis jeux vidéo
DESCRIPTION:Les mardis on joue! Viens essayer la console et les jeux mis à ta disposition pour jouer librement\, en solo ou avec des camarades. \n\n\n\nL’activité a lieu tous les mardis\, de 15 h 30 à 19 h 30. \n\n\n\nElle est destinée aux enfants de 7 ans et plus. \n\n\n\nSource: montreal.ca \n\n\n\nDates et horaires sont sujets à changement sans préavis. Avant de vous déplacer\, vérifier ces informations sur montreal.ca
URL:https://journalmetro.com/evenement/mardis-jeux-video-22/2023-10-17/
LOCATION:Bibliothèque de Rivière-des-Prairies\, 9001 boulevard Perras\, Montréal\, QC\, H1C!W3\, Canada
ATTACH;FMTTYPE=image/jpeg:https://journalmetro.com/wp-content/uploads/2023/08/mardis-jeux-video-rdp-pat-2.jpg
END:VEVENT
BEGIN:VEVENT
DTSTART;TZID=America/Toronto:20231017T200000
DTEND;TZID=America/Toronto:20231017T200000
DTSTAMP:20231016T125848
CREATED:20230324T213155Z
LAST-MODIFIED:20230324T213158Z
UID:10009807-1697572800-1697572800@journalmetro.com
SUMMARY:Les p'tits Galas de l'humour
DESCRIPTION:Les P’tits galas de l’humour ont lieu tous les mardis au Trèfle de Verdun avec Frédérick Côté à l’animation et Martin Lauzon et Ben Essiambre en alternance à la chronique. Au menu\, 5 humoristes et une bouteille de Carlsberg! \n\n\n\nLes P’tits Galas de l’humour sont de retour pour la saison Hivernale  \n\n\n\n14 $ + frais\, et le billet inclut une bouteille de Carlsberg  \n\n\n\nOn a hâte de vous revoir au Le Trèfle – Verdun !  \n\n\n\nDépêchez-vous\, c’est toujours SOLDOUT\, au moins une semaine à l’avance ! \n\n\n\nBillets en ligne seulement\, aucun billet à la porte \n\n\n\nBilletterie
URL:https://journalmetro.com/evenement/les-ptits-galas-de-lhumour-3/2023-10-17/
LOCATION:Le Trèfle – Taverne Irlandaise\, 4718 rue Wellington\, Montréal\, QC\, Canada
ATTACH;FMTTYPE=image/jpeg:https://journalmetro.com/wp-content/uploads/2023/01/les-ptits-galas-de-lhumour-2.jpg
END:VEVENT
BEGIN:VEVENT
DTSTART;TZID=America/Toronto:20231018T200000
DTEND;TZID=America/Toronto:20231025T200000
DTSTAMP:20231016T125848
CREATED:20230324T213121Z
LAST-MODIFIED:20230324T213125Z
UID:10009912-1697659200-1698264000@journalmetro.com
SUMMARY:Pet pis répète s'en vont au Palco (soirée d'humour)
DESCRIPTION:Le Palco est très fier pour la nouvelle année de lancer sa toute première soirée d’humour! \n\n\n\nÀ partir du mercredi 11 janvier\, tous les mercredis\, dès 20h avec @greluche_samson à l’animation et @shradeglavoie à la chronique !
URL:https://journalmetro.com/evenement/pet-pis-repete-sen-vont-au-palco-soiree-dhumour-2/2023-10-18/
LOCATION:Bar Palco\, 4019 rue Wellington\, Montréal\, Canada
ATTACH;FMTTYPE=image/jpeg:https://journalmetro.com/wp-content/uploads/2023/01/pet-pis-repete.jpg
END:VEVENT
BEGIN:VEVENT
DTSTART;TZID=America/Toronto:20231021T100000
DTEND;TZID=America/Toronto:20231022T170000
DTSTAMP:20231016T125848
CREATED:20230809T174440Z
LAST-MODIFIED:20230810T224117Z
UID:10019514-1697882400-1697994000@journalmetro.com
SUMMARY:Le marché de l'automne et de l'étrange
DESCRIPTION:Pour les amoureux de l’automne et d’Halloween\, le marché de l’automne et de l’étrange se veut un événement ouvert\, inclusif\, familial et inoubliable. Vous y trouverez plus de 40 exposants comprenant des créateurs locaux de qualité\, des antiquaires\, une ambiance électrisante\, une musique d’ambiance\, des surprises et du plaisir garanti !  \n\n\n\nVenez parcourir le décor de la grande scène pour une expérience unique. Découvrez les déguisements de notre quarantaine d’exposants\, déguster notre menu concocté spécialement pour l’événement et profiter des activités avec la famille\, les amis et les enfants ! \n\n\n\nTout cela et plus encore le 21 et 22 octobre\, de 10h à 17h\, au sous-sol de l’Église Notre-Dame-De-Lourdes à Verdun. \n\n\n\n\n\n\n\n\n\n\n\n\n\n\n\n\n\n\n\nSuivez le Bazar Verdunois sur leurs réseaux sociaux pour avoir des nouvelles sur les Marchés à venir. \n\n\n\n\n\n\n\nFacebook\n\nInstagram
URL:https://journalmetro.com/evenement/le-marche-de-lautomne-et-de-letrange/
LOCATION:Église Notre-Dame-de-Lourdes\, 630 4ième avenue\, Montréal\, QC\, H4G 1N4\, Canada
CATEGORIES:Promotionnel
ATTACH;FMTTYPE=image/jpeg:https://journalmetro.com/wp-content/uploads/2023/08/iStock-1327813387-2.jpg
END:VEVENT
BEGIN:VEVENT
DTSTART;TZID=America/Toronto:20231022T080000
DTEND;TZID=America/Toronto:20231029T170000
DTSTAMP:20231016T125848
CREATED:20230324T213307Z
LAST-MODIFIED:20230324T213416Z
UID:10009573-1697961600-1698598800@journalmetro.com
SUMMARY:Le brunch aux folles
DESCRIPTION:Venez nous rejoindre tous les premiers dimanches du mois* pour un brunch à ne pas manquer !! Misty Waterfalls sera rejoint par deux invités spéciaux à chaque spectacle pour vous faire rire\, pleurer\, mais surtout\, fêter!! \n\n\n\nLe brunch est trop tôt pour vous ? ! Nous avons tout ce qu’il vous faut ! Venez à l’After Party du spectacle tardif pour passer un moment tout aussi fou\, dès 17h. \n\n\n\n$10 à la porte \n\n\n\n*L’horaire est susceptible d’être modifié
URL:https://journalmetro.com/evenement/le-brunch-aux-folles-2/2023-10-22/
LOCATION:Bar Social Verdun\, 3819 rue Wellington\, Montréal\, QC\, Canada
ATTACH;FMTTYPE=image/jpeg:https://journalmetro.com/wp-content/uploads/2023/01/le-brunch-aux-folles-2.jpg
END:VEVENT
END:VCALENDAR