Workbook

Sheet Titles
A2: Housing Start Data in Centres 10,000 Population and Over
A4: septembre 2025 - 2026
A5: janvier - septembre 2025 - 2026
A7: Footnotes
A8: Données de 2024, 2025 et 2026 fondées sur les définitions du recensement de 2021.
A10: Source : Enquête sur les mises en chantier et les achèvements et Enquête sur les logements écoulés de la SCHL
A12: Données de 2024, 2025 et 2026 fondées sur les définitions du recensement de 2021.
A14: Données de 2024, 2025 et 2026 fondées sur les définitions du recensement de 2021.
A18: Données révisées sur les mises en chantier d'habitations
A19: Données provisoires sur les mises en chantier d'habitations
A20: Données provisoires sur les mises en chantier d'habitations
A21: 2024 | B21: 2024 2
A22: 2025 | B22: 2025 2
A23: 2026

Sheet Index
B1: CMHC HOUSING MARKET INFORMATION
B2: Mises en chantier mensuelles et autres données sur la construction résidentielle
B4: Source : Enquête sur les mises en chantier et les achèvements de la SCHL et enquête sur l’absorption du marché
B5: © Société canadienne d'hypothèques et de logement, 2026
B7: TABLE DES MATIÈRES
B8: La table des matières ci-dessous donne une brève description du contenu de chaque onglet.
B10: Notes
B12: Tableau 1: Données sur les mises en chantier d'habitations de 10 000 habitants et plus
B14: Tableau 2: Données sur les mises en chantier d'habitations de 10 000 habitants et plus (Cumulative)
B16: Tableau 3: Mises en chantier de logements dans les centres urbains et l'ensemble du pays, nombres désaisonnalisés annualisés
B18: Tableau 4: Mises en chantier de logements dans les centres urbains, par région nombres désaisonnalisés annualisés
B20: Tableau 5: Mises en chantier de logements dans les centres urbains, par région,nombres désaisonnalisés annualisés
... B36: Concepts et Définitions

Sheet Notes
A1: Note aux lecteurs:
A3: Les notes aux lecteurs suivantes ont pour but d'informer les clients des modifications ou corrections apportées à la méthodologie ou aux données relatives à nos enquêtes sur le logement.
A5: Régions géographiques
A6: En date de janvier 2023, les données contenues dans cette publication reflètent la géographie du Recensement de 2021 conformément à la Classification géographique type (CGT) de Statistique Canada. Voici un résumé des changements géographiques :
A8: Modifications apportées aux régions métropolitaines de recensement (RMR) et aux agglomérations de recensement (AR) :
A9: 6 nouveaux RMRs: Chilliwack, Drummondville, Fredericton, Kamloops, Nanaimo and Red Deer
A10: Ottawa CMA: Arnprior T et Carleton Place T sont maintenant fusionnés à la RMR d'Ottawa
A11: East Hants MD: fusionné avec la RMR de Halifax
A12: Essex T: fusionné avec la RMR de Windsor
A13: Leamington MU: fusionné avec la RMR de Windsor
A14: Joliette V: maintenant une grande AR (population 50 000+)
A15: Victoriaville V: maintenant une grande AR (population 50 000+)
... A32: Publication d'avril 2024 : Les nombres désaisonnalisés annualisés de mises en chantier de logements pour Sudbury / Grand Sudbury pour les mois de janvier, février et mars 2024 (Tableau 12) ont fait l'objet d'une révision spéciale.

Sheet Table 1
A1: Tableau 1
A2: Données sur les mises en chantier d'habitations de 10 000 habitants et plus
A4: =Titles!A4 -> septembre 2025 - 2026
A5: Province | C5: Maisons individuelles | F5: Autres | I5: Total
C7: =Titles!A22 -> 2025 | D7: =Titles!A23 -> 2026 | E7: % | F7: =Titles!A22 -> 2025 | G7: =Titles!A23 -> 2026 | H7: % | I7: =Titles!A22 -> 2025 | J7: =Titles!A23 -> 2026 | K7: %
A8: T.-N.-L. | C8: 80 | D8: 63 | E8: =IF(C8=D8,"-",IF((C8=0),"##",IF(ABS((D8/C8-1)*100)>=200,"##",(D8/C8-1)*100))) -> -21.25 | F8: 35 | G8: 39 | H8: =IF(F8=G8,"-",IF((F8=0),"##",IF(ABS((G8/F8-1)*100)>=200,"##",(G8/F8-1)*100))) -> 11.428571 | I8: =C8+F8 -> 115 | J8: =D8+G8 -> 102 | K8: =IF(I8=J8,"-",IF((I8=0),"##",IF(ABS((J8/I8-1)*100)>=200,"##",(J8/I8-1)*100))) -> -11.304348
A9: Î.-P.-É. | C9: 37 | D9: 34 | E9: =IF(C9=D9,"-",IF((C9=0),"##",IF(ABS((D9/C9-1)*100)>=200,"##",(D9/C9-1)*100))) -> -8.1081081 | F9: 41 | G9: 123 | H9: =IF(F9=G9,"-",IF((F9=0),"##",IF(ABS((G9/F9-1)*100)>=200,"##",(G9/F9-1)*100))) -> ## | I9: =C9+F9 -> 78 | J9: =D9+G9 -> 157 | K9: =IF(I9=J9,"-",IF((I9=0),"##",IF(ABS((J9/I9-1)*100)>=200,"##",(J9/I9-1)*100))) -> 101.28205
A10: N.-É. | C10: 193 | D10: 109 | E10: =IF(C10=D10,"-",IF((C10=0),"##",IF(ABS((D10/C10-1)*100)>=200,"##",(D10/C10-1)*100))) -> -43.523316 | F10: 370 | G10: 386 | H10: =IF(F10=G10,"-",IF((F10=0),"##",IF(ABS((G10/F10-1)*100)>=200,"##",(G10/F10-1)*100))) -> 4.3243243 | I10: =C10+F10 -> 563 | J10: =D10+G10 -> 495 | K10: =IF(I10=J10,"-",IF((I10=0),"##",IF(ABS((J10/I10-1)*100)>=200,"##",(J10/I10-1)*100))) -> -12.078153
A11: N.-B. | C11: 112 | D11: 91 | E11: =IF(C11=D11,"-",IF((C11=0),"##",IF(ABS((D11/C11-1)*100)>=200,"##",(D11/C11-1)*100))) -> -18.75 | F11: 312 | G11: 960 | H11: =IF(F11=G11,"-",IF((F11=0),"##",IF(ABS((G11/F11-1)*100)>=200,"##",(G11/F11-1)*100))) -> ## | I11: =C11+F11 -> 424 | J11: =D11+G11 -> 1051 | K11: =IF(I11=J11,"-",IF((I11=0),"##",IF(ABS((J11/I11-1)*100)>=200,"##",(J11/I11-1)*100))) -> 147.87736
A12: Atlantique | C12: =SUM(C8:C11) -> 422 | D12: =SUM(D8:D11) -> 297 | E12: =IF(C12=D12,"-",IF((C12=0),"##",IF(ABS((D12/C12-1)*100)>=200,"##",(D12/C12-1)*100))) -> -29.620853 | F12: =SUM(F8:F11) -> 758 | G12: =SUM(G8:G11) -> 1508 | H12: =IF(F12=G12,"-",IF((F12=0),"##",IF(ABS((G12/F12-1)*100)>=200,"##",(G12/F12-1)*100))) -> 98.944591 | I12: =C12+F12 -> 1180 | J12: =D12+G12 -> 1805 | K12: =IF(I12=J12,"-",IF((I12=0),"##",IF(ABS((J12/I12-1)*100)>=200,"##",(J12/I12-1)*100))) -> 52.966102
A13: Qc | C13: 443 | D13: 438 | E13: =IF(C13=D13,"-",IF((C13=0),"##",IF(ABS((D13/C13-1)*100)>=200,"##",(D13/C13-1)*100))) -> -1.1286682 | F13: 4158 | G13: 3455 | H13: =IF(F13=G13,"-",IF((F13=0),"##",IF(ABS((G13/F13-1)*100)>=200,"##",(G13/F13-1)*100))) -> -16.907167 | I13: =C13+F13 -> 4601 | J13: =D13+G13 -> 3893 | K13: =IF(I13=J13,"-",IF((I13=0),"##",IF(ABS((J13/I13-1)*100)>=200,"##",(J13/I13-1)*100))) -> -15.387959
A14: Ont. | C14: 868 | D14: 1060 | E14: =IF(C14=D14,"-",IF((C14=0),"##",IF(ABS((D14/C14-1)*100)>=200,"##",(D14/C14-1)*100))) -> 22.119816 | F14: 6597 | G14: 2994 | H14: =IF(F14=G14,"-",IF((F14=0),"##",IF(ABS((G14/F14-1)*100)>=200,"##",(G14/F14-1)*100))) -> -54.615734 | I14: =C14+F14 -> 7465 | J14: =D14+G14 -> 4054 | K14: =IF(I14=J14,"-",IF((I14=0),"##",IF(ABS((J14/I14-1)*100)>=200,"##",(J14/I14-1)*100))) -> -45.693235
A15: Man. | C15: 200 | D15: 214 | E15: =IF(C15=D15,"-",IF((C15=0),"##",IF(ABS((D15/C15-1)*100)>=200,"##",(D15/C15-1)*100))) -> 7 | F15: 736 | G15: 662 | H15: =IF(F15=G15,"-",IF((F15=0),"##",IF(ABS((G15/F15-1)*100)>=200,"##",(G15/F15-1)*100))) -> -10.054348 | I15: =C15+F15 -> 936 | J15: =D15+G15 -> 876 | K15: =IF(I15=J15,"-",IF((I15=0),"##",IF(ABS((J15/I15-1)*100)>=200,"##",(J15/I15-1)*100))) -> -6.4102564
A16: Sask. | C16: 182 | D16: 171 | E16: =IF(C16=D16,"-",IF((C16=0),"##",IF(ABS((D16/C16-1)*100)>=200,"##",(D16/C16-1)*100))) -> -6.043956 | F16: 552 | G16: 245 | H16: =IF(F16=G16,"-",IF((F16=0),"##",IF(ABS((G16/F16-1)*100)>=200,"##",(G16/F16-1)*100))) -> -55.615942 | I16: =C16+F16 -> 734 | J16: =D16+G16 -> 416 | K16: =IF(I16=J16,"-",IF((I16=0),"##",IF(ABS((J16/I16-1)*100)>=200,"##",(J16/I16-1)*100))) -> -43.324251
A17: Alb. | C17: 1405 | D17: 1160 | E17: =IF(C17=D17,"-",IF((C17=0),"##",IF(ABS((D17/C17-1)*100)>=200,"##",(D17/C17-1)*100))) -> -17.437722 | F17: 3132 | G17: 3416 | H17: =IF(F17=G17,"-",IF((F17=0),"##",IF(ABS((G17/F17-1)*100)>=200,"##",(G17/F17-1)*100))) -> 9.0676884 | I17: =C17+F17 -> 4537 | J17: =D17+G17 -> 4576 | K17: =IF(I17=J17,"-",IF((I17=0),"##",IF(ABS((J17/I17-1)*100)>=200,"##",(J17/I17-1)*100))) -> 0.85959885
A18: Prairies | C18: =SUM(C15:C17) -> 1787 | D18: =SUM(D15:D17) -> 1545 | E18: =IF(C18=D18,"-",IF((C18=0),"##",IF(ABS((D18/C18-1)*100)>=200,"##",(D18/C18-1)*100))) -> -13.54225 | F18: =SUM(F15:F17) -> 4420 | G18: =SUM(G15:G17) -> 4323 | H18: =IF(F18=G18,"-",IF((F18=0),"##",IF(ABS((G18/F18-1)*100)>=200,"##",(G18/F18-1)*100))) -> -2.1945701 | I18: =C18+F18 -> 6207 | J18: =D18+G18 -> 5868 | K18: =IF(I18=J18,"-",IF((I18=0),"##",IF(ABS((J18/I18-1)*100)>=200,"##",(J18/I18-1)*100))) -> -5.4615756
A19: C.-B. | C19: 383 | D19: 328 | E19: =IF(C19=D19,"-",IF((C19=0),"##",IF(ABS((D19/C19-1)*100)>=200,"##",(D19/C19-1)*100))) -> -14.360313 | F19: 2539 | G19: 4036 | H19: =IF(F19=G19,"-",IF((F19=0),"##",IF(ABS((G19/F19-1)*100)>=200,"##",(G19/F19-1)*100))) -> 58.960221 | I19: =C19+F19 -> 2922 | J19: =D19+G19 -> 4364 | K19: =IF(I19=J19,"-",IF((I19=0),"##",IF(ABS((J19/I19-1)*100)>=200,"##",(J19/I19-1)*100))) -> 49.34976
A20: Canada | C20: =SUM(C12:C14,C18:C19) -> 3903 | D20: =SUM(D12:D14,D18:D19) -> 3668 | E20: =IF(C20=D20,"-",IF((C20=0),"##",IF(ABS((D20/C20-1)*100)>=200,"##",(D20/C20-1)*100))) -> -6.0210095 | F20: =SUM(F12:F14,F18:F19) -> 18472 | G20: =SUM(G12:G14,G18:G19) -> 16316 | H20: =IF(F20=G20,"-",IF((F20=0),"##",IF(ABS((G20/F20-1)*100)>=200,"##",(G20/F20-1)*100))) -> -11.671719 | I20: =C20+F20 -> 22375 | J20: =D20+G20 -> 19984 | K20: =IF(I20=J20,"-",IF((I20=0),"##",IF(ABS((J20/I20-1)*100)>=200,"##",(J20/I20-1)*100))) -> -10.686034
A21: Régions métropolitaines
A23: Abbotsford-Mission | C23: 9 | D23: 14 | E23: =IF(C23=D23,"-",IF((C23=0),"##",IF(ABS((D23/C23-1)*100)>=200,"##",(D23/C23-1)*100))) -> 55.555556 | F23: 226 | G23: 78 | H23: =IF(F23=G23,"-",IF((F23=0),"##",IF(ABS((G23/F23-1)*100)>=200,"##",(G23/F23-1)*100))) -> -65.486726 | I23: =C23+F23 -> 235 | J23: =D23+G23 -> 92 | K23: =IF(I23=J23,"-",IF((I23=0),"##",IF(ABS((J23/I23-1)*100)>=200,"##",(J23/I23-1)*100))) -> -60.851064
A24: Barrie | C24: 27 | D24: 14 | E24: =IF(C24=D24,"-",IF((C24=0),"##",IF(ABS((D24/C24-1)*100)>=200,"##",(D24/C24-1)*100))) -> -48.148148 | F24: 9 | G24: 13 | H24: =IF(F24=G24,"-",IF((F24=0),"##",IF(ABS((G24/F24-1)*100)>=200,"##",(G24/F24-1)*100))) -> 44.444444 | I24: =C24+F24 -> 36 | J24: =D24+G24 -> 27 | K24: =IF(I24=J24,"-",IF((I24=0),"##",IF(ABS((J24/I24-1)*100)>=200,"##",(J24/I24-1)*100))) -> -25
A25: Belleville - Quinte West | C25: 13 | D25: 13 | E25: =IF(C25=D25,"-",IF((C25=0),"##",IF(ABS((D25/C25-1)*100)>=200,"##",(D25/C25-1)*100))) -> - | F25: 78 | G25: 0 | H25: =IF(F25=G25,"-",IF((F25=0),"##",IF(ABS((G25/F25-1)*100)>=200,"##",(G25/F25-1)*100))) -> -100 | I25: =C25+F25 -> 91 | J25: =D25+G25 -> 13 | K25: =IF(I25=J25,"-",IF((I25=0),"##",IF(ABS((J25/I25-1)*100)>=200,"##",(J25/I25-1)*100))) -> -85.714286
A26: Brantford | C26: 12 | D26: 9 | E26: =IF(C26=D26,"-",IF((C26=0),"##",IF(ABS((D26/C26-1)*100)>=200,"##",(D26/C26-1)*100))) -> -25 | F26: 68 | G26: 54 | H26: =IF(F26=G26,"-",IF((F26=0),"##",IF(ABS((G26/F26-1)*100)>=200,"##",(G26/F26-1)*100))) -> -20.588235 | I26: =C26+F26 -> 80 | J26: =D26+G26 -> 63 | K26: =IF(I26=J26,"-",IF((I26=0),"##",IF(ABS((J26/I26-1)*100)>=200,"##",(J26/I26-1)*100))) -> -21.25
A27: Calgary | C27: 635 | D27: 384 | E27: =IF(C27=D27,"-",IF((C27=0),"##",IF(ABS((D27/C27-1)*100)>=200,"##",(D27/C27-1)*100))) -> -39.527559 | F27: 1626 | G27: 2151 | H27: =IF(F27=G27,"-",IF((F27=0),"##",IF(ABS((G27/F27-1)*100)>=200,"##",(G27/F27-1)*100))) -> 32.287823 | I27: =C27+F27 -> 2261 | J27: =D27+G27 -> 2535 | K27: =IF(I27=J27,"-",IF((I27=0),"##",IF(ABS((J27/I27-1)*100)>=200,"##",(J27/I27-1)*100))) -> 12.118532
A28: Chilliwack | C28: 13 | D28: 10 | E28: =IF(C28=D28,"-",IF((C28=0),"##",IF(ABS((D28/C28-1)*100)>=200,"##",(D28/C28-1)*100))) -> -23.076923 | F28: 93 | G28: 119 | H28: =IF(F28=G28,"-",IF((F28=0),"##",IF(ABS((G28/F28-1)*100)>=200,"##",(G28/F28-1)*100))) -> 27.956989 | I28: =C28+F28 -> 106 | J28: =D28+G28 -> 129 | K28: =IF(I28=J28,"-",IF((I28=0),"##",IF(ABS((J28/I28-1)*100)>=200,"##",(J28/I28-1)*100))) -> 21.698113
A29: Drummondville | C29: 12 | D29: 16 | E29: =IF(C29=D29,"-",IF((C29=0),"##",IF(ABS((D29/C29-1)*100)>=200,"##",(D29/C29-1)*100))) -> 33.333333 | F29: 130 | G29: 27 | H29: =IF(F29=G29,"-",IF((F29=0),"##",IF(ABS((G29/F29-1)*100)>=200,"##",(G29/F29-1)*100))) -> -79.230769 | I29: =C29+F29 -> 142 | J29: =D29+G29 -> 43 | K29: =IF(I29=J29,"-",IF((I29=0),"##",IF(ABS((J29/I29-1)*100)>=200,"##",(J29/I29-1)*100))) -> -69.71831
A30: Edmonton | C30: 547 | D30: 600 | E30: =IF(C30=D30,"-",IF((C30=0),"##",IF(ABS((D30/C30-1)*100)>=200,"##",(D30/C30-1)*100))) -> 9.6892139 | F30: 1236 | G30: 948 | H30: =IF(F30=G30,"-",IF((F30=0),"##",IF(ABS((G30/F30-1)*100)>=200,"##",(G30/F30-1)*100))) -> -23.300971 | I30: =C30+F30 -> 1783 | J30: =D30+G30 -> 1548 | K30: =IF(I30=J30,"-",IF((I30=0),"##",IF(ABS((J30/I30-1)*100)>=200,"##",(J30/I30-1)*100))) -> -13.180034
A31: Fredericton | C31: 35 | D31: 29 | E31: =IF(C31=D31,"-",IF((C31=0),"##",IF(ABS((D31/C31-1)*100)>=200,"##",(D31/C31-1)*100))) -> -17.142857 | F31: 32 | G31: 292 | H31: =IF(F31=G31,"-",IF((F31=0),"##",IF(ABS((G31/F31-1)*100)>=200,"##",(G31/F31-1)*100))) -> ## | I31: =C31+F31 -> 67 | J31: =D31+G31 -> 321 | K31: =IF(I31=J31,"-",IF((I31=0),"##",IF(ABS((J31/I31-1)*100)>=200,"##",(J31/I31-1)*100))) -> ##
A32: Greater/Grand Sudbury | C32: 6 | D32: 18 | E32: =IF(C32=D32,"-",IF((C32=0),"##",IF(ABS((D32/C32-1)*100)>=200,"##",(D32/C32-1)*100))) -> ## | F32: 2 | G32: 44 | H32: =IF(F32=G32,"-",IF((F32=0),"##",IF(ABS((G32/F32-1)*100)>=200,"##",(G32/F32-1)*100))) -> ## | I32: =C32+F32 -> 8 | J32: =D32+G32 -> 62 | K32: =IF(I32=J32,"-",IF((I32=0),"##",IF(ABS((J32/I32-1)*100)>=200,"##",(J32/I32-1)*100))) -> ##
A33: Guelph | C33: 2 | D33: 1 | E33: =IF(C33=D33,"-",IF((C33=0),"##",IF(ABS((D33/C33-1)*100)>=200,"##",(D33/C33-1)*100))) -> -50 | F33: 40 | G33: 98 | H33: =IF(F33=G33,"-",IF((F33=0),"##",IF(ABS((G33/F33-1)*100)>=200,"##",(G33/F33-1)*100))) -> 145 | I33: =C33+F33 -> 42 | J33: =D33+G33 -> 99 | K33: =IF(I33=J33,"-",IF((I33=0),"##",IF(ABS((J33/I33-1)*100)>=200,"##",(J33/I33-1)*100))) -> 135.71429
A34: Halifax | C34: 85 | D34: 40 | E34: =IF(C34=D34,"-",IF((C34=0),"##",IF(ABS((D34/C34-1)*100)>=200,"##",(D34/C34-1)*100))) -> -52.941176 | F34: 290 | G34: 348 | H34: =IF(F34=G34,"-",IF((F34=0),"##",IF(ABS((G34/F34-1)*100)>=200,"##",(G34/F34-1)*100))) -> 20 | I34: =C34+F34 -> 375 | J34: =D34+G34 -> 388 | K34: =IF(I34=J34,"-",IF((I34=0),"##",IF(ABS((J34/I34-1)*100)>=200,"##",(J34/I34-1)*100))) -> 3.4666667
... A45: Oshawa | C45: 43 | D45: 39 | E45: =IF(C45=D45,"-",IF((C45=0),"##",IF(ABS((D45/C45-1)*100)>=200,"##",(D45/C45-1)*100))) -> -9.3023256 | F45: 56 | G45: 37 | H45: =IF(F45=G45,"-",IF((F45=0),"##",IF(ABS((G45/F45-1)*100)>=200,"##",(G45/F45-1)*100))) -> -33.928571 | I45: =C45+F45 -> 99 | J45: =D45+G45 -> 76 | K45: =IF(I45=J45,"-",IF((I45=0),"##",IF(ABS((J45/I45-1)*100)>=200,"##",(J45/I45-1)*100))) -> -23.232323
A46: Ottawa-Gatineau | C46: =SUM(C47:C48) -> 115 | D46: =SUM(D47:D48) -> 266 | E46: =IF(C46=D46,"-",IF((C46=0),"##",IF(ABS((D46/C46-1)*100)>=200,"##",(D46/C46-1)*100))) -> 131.30435 | F46: =SUM(F47:F48) -> 421 | G46: =SUM(G47:G48) -> 713 | H46: =IF(F46=G46,"-",IF((F46=0),"##",IF(ABS((G46/F46-1)*100)>=200,"##",(G46/F46-1)*100))) -> 69.35867 | I46: =C46+F46 -> 536 | J46: =D46+G46 -> 979 | K46: =IF(I46=J46,"-",IF((I46=0),"##",IF(ABS((J46/I46-1)*100)>=200,"##",(J46/I46-1)*100))) -> 82.649254
A47: Gatineau | C47: 22 | D47: 26 | E47: =IF(C47=D47,"-",IF((C47=0),"##",IF(ABS((D47/C47-1)*100)>=200,"##",(D47/C47-1)*100))) -> 18.181818 | F47: 40 | G47: 39 | H47: =IF(F47=G47,"-",IF((F47=0),"##",IF(ABS((G47/F47-1)*100)>=200,"##",(G47/F47-1)*100))) -> -2.5 | I47: =C47+F47 -> 62 | J47: =D47+G47 -> 65 | K47: =IF(I47=J47,"-",IF((I47=0),"##",IF(ABS((J47/I47-1)*100)>=200,"##",(J47/I47-1)*100))) -> 4.8387097
A48: Ottawa | C48: 93 | D48: 240 | E48: =IF(C48=D48,"-",IF((C48=0),"##",IF(ABS((D48/C48-1)*100)>=200,"##",(D48/C48-1)*100))) -> 158.06452 | F48: 381 | G48: 674 | H48: =IF(F48=G48,"-",IF((F48=0),"##",IF(ABS((G48/F48-1)*100)>=200,"##",(G48/F48-1)*100))) -> 76.902887 | I48: =C48+F48 -> 474 | J48: =D48+G48 -> 914 | K48: =IF(I48=J48,"-",IF((I48=0),"##",IF(ABS((J48/I48-1)*100)>=200,"##",(J48/I48-1)*100))) -> 92.827004
A49: Peterborough | C49: 7 | D49: 4 | E49: =IF(C49=D49,"-",IF((C49=0),"##",IF(ABS((D49/C49-1)*100)>=200,"##",(D49/C49-1)*100))) -> -42.857143 | F49: 0 | G49: 73 | H49: =IF(F49=G49,"-",IF((F49=0),"##",IF(ABS((G49/F49-1)*100)>=200,"##",(G49/F49-1)*100))) -> ## | I49: =C49+F49 -> 7 | J49: =D49+G49 -> 77 | K49: =IF(I49=J49,"-",IF((I49=0),"##",IF(ABS((J49/I49-1)*100)>=200,"##",(J49/I49-1)*100))) -> ##
A50: Québec | C50: 72 | D50: 79 | E50: =IF(C50=D50,"-",IF((C50=0),"##",IF(ABS((D50/C50-1)*100)>=200,"##",(D50/C50-1)*100))) -> 9.7222222 | F50: 634 | G50: 1306 | H50: =IF(F50=G50,"-",IF((F50=0),"##",IF(ABS((G50/F50-1)*100)>=200,"##",(G50/F50-1)*100))) -> 105.99369 | I50: =C50+F50 -> 706 | J50: =D50+G50 -> 1385 | K50: =IF(I50=J50,"-",IF((I50=0),"##",IF(ABS((J50/I50-1)*100)>=200,"##",(J50/I50-1)*100))) -> 96.175637
A51: Red Deer | C51: 7 | D51: 9 | E51: =IF(C51=D51,"-",IF((C51=0),"##",IF(ABS((D51/C51-1)*100)>=200,"##",(D51/C51-1)*100))) -> 28.571429 | F51: 9 | G51: 10 | H51: =IF(F51=G51,"-",IF((F51=0),"##",IF(ABS((G51/F51-1)*100)>=200,"##",(G51/F51-1)*100))) -> 11.111111 | I51: =C51+F51 -> 16 | J51: =D51+G51 -> 19 | K51: =IF(I51=J51,"-",IF((I51=0),"##",IF(ABS((J51/I51-1)*100)>=200,"##",(J51/I51-1)*100))) -> 18.75
A52: Regina | C52: 49 | D52: 30 | E52: =IF(C52=D52,"-",IF((C52=0),"##",IF(ABS((D52/C52-1)*100)>=200,"##",(D52/C52-1)*100))) -> -38.77551 | F52: 263 | G52: 38 | H52: =IF(F52=G52,"-",IF((F52=0),"##",IF(ABS((G52/F52-1)*100)>=200,"##",(G52/F52-1)*100))) -> -85.551331 | I52: =C52+F52 -> 312 | J52: =D52+G52 -> 68 | K52: =IF(I52=J52,"-",IF((I52=0),"##",IF(ABS((J52/I52-1)*100)>=200,"##",(J52/I52-1)*100))) -> -78.205128
A53: Saguenay | C53: 16 | D53: 11 | E53: =IF(C53=D53,"-",IF((C53=0),"##",IF(ABS((D53/C53-1)*100)>=200,"##",(D53/C53-1)*100))) -> -31.25 | F53: 56 | G53: 117 | H53: =IF(F53=G53,"-",IF((F53=0),"##",IF(ABS((G53/F53-1)*100)>=200,"##",(G53/F53-1)*100))) -> 108.92857 | I53: =C53+F53 -> 72 | J53: =D53+G53 -> 128 | K53: =IF(I53=J53,"-",IF((I53=0),"##",IF(ABS((J53/I53-1)*100)>=200,"##",(J53/I53-1)*100))) -> 77.777778
...

Sheet Table 2
A1: Tableau 2
A2: Données sur les mises en chantier d'habitations de 10 000 habitants et plus
A4: =Titles!A5 -> janvier - septembre 2025 - 2026
A5: Province | C5: Maisons individuelles | F5: Autres | I5: Total
C7: =Titles!A22 -> 2025 | D7: =Titles!A23 -> 2026 | E7: % | F7: =Titles!A22 -> 2025 | G7: =Titles!A23 -> 2026 | H7: % | I7: =Titles!A22 -> 2025 | J7: =Titles!A23 -> 2026 | K7: %
A8: T.-N.-L. | C8: 510 | D8: 515 | E8: =IF(C8=D8,"-",IF((C8=0),"##",IF(ABS((D8/C8-1)*100)>=200,"##",(D8/C8-1)*100))) -> 0.98039216 | F8: 280 | G8: 508 | H8: =IF(F8=G8,"-",IF((F8=0),"##",IF(ABS((G8/F8-1)*100)>=200,"##",(G8/F8-1)*100))) -> 81.428571 | I8: =C8+F8 -> 790 | J8: =D8+G8 -> 1023 | K8: =IF(I8=J8,"-",IF((I8=0),"##",IF(ABS((J8/I8-1)*100)>=200,"##",(J8/I8-1)*100))) -> 29.493671
A9: Î.-P.-É. | C9: 242 | D9: 199 | E9: =IF(C9=D9,"-",IF((C9=0),"##",IF(ABS((D9/C9-1)*100)>=200,"##",(D9/C9-1)*100))) -> -17.768595 | F9: 840 | G9: 956 | H9: =IF(F9=G9,"-",IF((F9=0),"##",IF(ABS((G9/F9-1)*100)>=200,"##",(G9/F9-1)*100))) -> 13.809524 | I9: =C9+F9 -> 1082 | J9: =D9+G9 -> 1155 | K9: =IF(I9=J9,"-",IF((I9=0),"##",IF(ABS((J9/I9-1)*100)>=200,"##",(J9/I9-1)*100))) -> 6.7467652
A10: N.-É. | C10: 1220 | D10: 939 | E10: =IF(C10=D10,"-",IF((C10=0),"##",IF(ABS((D10/C10-1)*100)>=200,"##",(D10/C10-1)*100))) -> -23.032787 | F10: 5326 | G10: 3632 | H10: =IF(F10=G10,"-",IF((F10=0),"##",IF(ABS((G10/F10-1)*100)>=200,"##",(G10/F10-1)*100))) -> -31.806234 | I10: =C10+F10 -> 6546 | J10: =D10+G10 -> 4571 | K10: =IF(I10=J10,"-",IF((I10=0),"##",IF(ABS((J10/I10-1)*100)>=200,"##",(J10/I10-1)*100))) -> -30.171097
A11: N.-B. | C11: 701 | D11: 663 | E11: =IF(C11=D11,"-",IF((C11=0),"##",IF(ABS((D11/C11-1)*100)>=200,"##",(D11/C11-1)*100))) -> -5.4208274 | F11: 3196 | G11: 3492 | H11: =IF(F11=G11,"-",IF((F11=0),"##",IF(ABS((G11/F11-1)*100)>=200,"##",(G11/F11-1)*100))) -> 9.261577 | I11: =C11+F11 -> 3897 | J11: =D11+G11 -> 4155 | K11: =IF(I11=J11,"-",IF((I11=0),"##",IF(ABS((J11/I11-1)*100)>=200,"##",(J11/I11-1)*100))) -> 6.6204773
A12: Atlantique | C12: =SUM(C8:C11) -> 2673 | D12: =SUM(D8:D11) -> 2316 | E12: =IF(C12=D12,"-",IF((C12=0),"##",IF(ABS((D12/C12-1)*100)>=200,"##",(D12/C12-1)*100))) -> -13.35578 | F12: =SUM(F8:F11) -> 9642 | G12: =SUM(G8:G11) -> 8588 | H12: =IF(F12=G12,"-",IF((F12=0),"##",IF(ABS((G12/F12-1)*100)>=200,"##",(G12/F12-1)*100))) -> -10.931342 | I12: =C12+F12 -> 12315 | J12: =D12+G12 -> 10904 | K12: =IF(I12=J12,"-",IF((I12=0),"##",IF(ABS((J12/I12-1)*100)>=200,"##",(J12/I12-1)*100))) -> -11.457572
A13: Qc | C13: 3477 | D13: 3767 | E13: =IF(C13=D13,"-",IF((C13=0),"##",IF(ABS((D13/C13-1)*100)>=200,"##",(D13/C13-1)*100))) -> 8.3405234 | F13: 34305 | G13: 35304 | H13: =IF(F13=G13,"-",IF((F13=0),"##",IF(ABS((G13/F13-1)*100)>=200,"##",(G13/F13-1)*100))) -> 2.9121119 | I13: =C13+F13 -> 37782 | J13: =D13+G13 -> 39071 | K13: =IF(I13=J13,"-",IF((I13=0),"##",IF(ABS((J13/I13-1)*100)>=200,"##",(J13/I13-1)*100))) -> 3.4116775
A14: Ont. | C14: 7195 | D14: 7280 | E14: =IF(C14=D14,"-",IF((C14=0),"##",IF(ABS((D14/C14-1)*100)>=200,"##",(D14/C14-1)*100))) -> 1.181376 | F14: 38916 | G14: 36714 | H14: =IF(F14=G14,"-",IF((F14=0),"##",IF(ABS((G14/F14-1)*100)>=200,"##",(G14/F14-1)*100))) -> -5.658341 | I14: =C14+F14 -> 46111 | J14: =D14+G14 -> 43994 | K14: =IF(I14=J14,"-",IF((I14=0),"##",IF(ABS((J14/I14-1)*100)>=200,"##",(J14/I14-1)*100))) -> -4.5910954
A15: Man. | C15: 1711 | D15: 1651 | E15: =IF(C15=D15,"-",IF((C15=0),"##",IF(ABS((D15/C15-1)*100)>=200,"##",(D15/C15-1)*100))) -> -3.5067212 | F15: 3506 | G15: 4420 | H15: =IF(F15=G15,"-",IF((F15=0),"##",IF(ABS((G15/F15-1)*100)>=200,"##",(G15/F15-1)*100))) -> 26.069595 | I15: =C15+F15 -> 5217 | J15: =D15+G15 -> 6071 | K15: =IF(I15=J15,"-",IF((I15=0),"##",IF(ABS((J15/I15-1)*100)>=200,"##",(J15/I15-1)*100))) -> 16.369561
A16: Sask. | C16: 1266 | D16: 1326 | E16: =IF(C16=D16,"-",IF((C16=0),"##",IF(ABS((D16/C16-1)*100)>=200,"##",(D16/C16-1)*100))) -> 4.7393365 | F16: 3042 | G16: 3047 | H16: =IF(F16=G16,"-",IF((F16=0),"##",IF(ABS((G16/F16-1)*100)>=200,"##",(G16/F16-1)*100))) -> 0.16436555 | I16: =C16+F16 -> 4308 | J16: =D16+G16 -> 4373 | K16: =IF(I16=J16,"-",IF((I16=0),"##",IF(ABS((J16/I16-1)*100)>=200,"##",(J16/I16-1)*100))) -> 1.5088208
A17: Alb. | C17: 11911 | D17: 10252 | E17: =IF(C17=D17,"-",IF((C17=0),"##",IF(ABS((D17/C17-1)*100)>=200,"##",(D17/C17-1)*100))) -> -13.928302 | F17: 28803 | G17: 25308 | H17: =IF(F17=G17,"-",IF((F17=0),"##",IF(ABS((G17/F17-1)*100)>=200,"##",(G17/F17-1)*100))) -> -12.134153 | I17: =C17+F17 -> 40714 | J17: =D17+G17 -> 35560 | K17: =IF(I17=J17,"-",IF((I17=0),"##",IF(ABS((J17/I17-1)*100)>=200,"##",(J17/I17-1)*100))) -> -12.659036
A18: Prairies | C18: =SUM(C15:C17) -> 14888 | D18: =SUM(D15:D17) -> 13229 | E18: =IF(C18=D18,"-",IF((C18=0),"##",IF(ABS((D18/C18-1)*100)>=200,"##",(D18/C18-1)*100))) -> -11.143203 | F18: =SUM(F15:F17) -> 35351 | G18: =SUM(G15:G17) -> 32775 | H18: =IF(F18=G18,"-",IF((F18=0),"##",IF(ABS((G18/F18-1)*100)>=200,"##",(G18/F18-1)*100))) -> -7.2869226 | I18: =C18+F18 -> 50239 | J18: =D18+G18 -> 46004 | K18: =IF(I18=J18,"-",IF((I18=0),"##",IF(ABS((J18/I18-1)*100)>=200,"##",(J18/I18-1)*100))) -> -8.429706
A19: C.-B. | C19: 2999 | D19: 2722 | E19: =IF(C19=D19,"-",IF((C19=0),"##",IF(ABS((D19/C19-1)*100)>=200,"##",(D19/C19-1)*100))) -> -9.2364121 | F19: 28587 | G19: 28269 | H19: =IF(F19=G19,"-",IF((F19=0),"##",IF(ABS((G19/F19-1)*100)>=200,"##",(G19/F19-1)*100))) -> -1.1123937 | I19: =C19+F19 -> 31586 | J19: =D19+G19 -> 30991 | K19: =IF(I19=J19,"-",IF((I19=0),"##",IF(ABS((J19/I19-1)*100)>=200,"##",(J19/I19-1)*100))) -> -1.883746
A20: Canada | C20: =SUM(C12:C14,C18:C19) -> 31232 | D20: =SUM(D12:D14,D18:D19) -> 29314 | E20: =IF(C20=D20,"-",IF((C20=0),"##",IF(ABS((D20/C20-1)*100)>=200,"##",(D20/C20-1)*100))) -> -6.1411373 | F20: =SUM(F12:F14,F18:F19) -> 146801 | G20: =SUM(G12:G14,G18:G19) -> 141650 | H20: =IF(F20=G20,"-",IF((F20=0),"##",IF(ABS((G20/F20-1)*100)>=200,"##",(G20/F20-1)*100))) -> -3.5088317 | I20: =C20+F20 -> 178033 | J20: =D20+G20 -> 170964 | K20: =IF(I20=J20,"-",IF((I20=0),"##",IF(ABS((J20/I20-1)*100)>=200,"##",(J20/I20-1)*100))) -> -3.9706122
A21: Régions métropolitaines
A23: Abbotsford-Mission | C23: 127 | D23: 86 | E23: =IF(C23=D23,"-",IF((C23=0),"##",IF(ABS((D23/C23-1)*100)>=200,"##",(D23/C23-1)*100))) -> -32.283465 | F23: 1685 | G23: 830 | H23: =IF(F23=G23,"-",IF((F23=0),"##",IF(ABS((G23/F23-1)*100)>=200,"##",(G23/F23-1)*100))) -> -50.74184 | I23: =C23+F23 -> 1812 | J23: =D23+G23 -> 916 | K23: =IF(I23=J23,"-",IF((I23=0),"##",IF(ABS((J23/I23-1)*100)>=200,"##",(J23/I23-1)*100))) -> -49.448124
A24: Barrie | C24: 129 | D24: 178 | E24: =IF(C24=D24,"-",IF((C24=0),"##",IF(ABS((D24/C24-1)*100)>=200,"##",(D24/C24-1)*100))) -> 37.984496 | F24: 499 | G24: 513 | H24: =IF(F24=G24,"-",IF((F24=0),"##",IF(ABS((G24/F24-1)*100)>=200,"##",(G24/F24-1)*100))) -> 2.8056112 | I24: =C24+F24 -> 628 | J24: =D24+G24 -> 691 | K24: =IF(I24=J24,"-",IF((I24=0),"##",IF(ABS((J24/I24-1)*100)>=200,"##",(J24/I24-1)*100))) -> 10.031847
A25: Belleville - Quinte West | C25: 118 | D25: 114 | E25: =IF(C25=D25,"-",IF((C25=0),"##",IF(ABS((D25/C25-1)*100)>=200,"##",(D25/C25-1)*100))) -> -3.3898305 | F25: 350 | G25: 90 | H25: =IF(F25=G25,"-",IF((F25=0),"##",IF(ABS((G25/F25-1)*100)>=200,"##",(G25/F25-1)*100))) -> -74.285714 | I25: =C25+F25 -> 468 | J25: =D25+G25 -> 204 | K25: =IF(I25=J25,"-",IF((I25=0),"##",IF(ABS((J25/I25-1)*100)>=200,"##",(J25/I25-1)*100))) -> -56.410256
A26: Brantford | C26: 222 | D26: 166 | E26: =IF(C26=D26,"-",IF((C26=0),"##",IF(ABS((D26/C26-1)*100)>=200,"##",(D26/C26-1)*100))) -> -25.225225 | F26: 1298 | G26: 638 | H26: =IF(F26=G26,"-",IF((F26=0),"##",IF(ABS((G26/F26-1)*100)>=200,"##",(G26/F26-1)*100))) -> -50.847458 | I26: =C26+F26 -> 1520 | J26: =D26+G26 -> 804 | K26: =IF(I26=J26,"-",IF((I26=0),"##",IF(ABS((J26/I26-1)*100)>=200,"##",(J26/I26-1)*100))) -> -47.105263
A27: Calgary | C27: 5231 | D27: 4365 | E27: =IF(C27=D27,"-",IF((C27=0),"##",IF(ABS((D27/C27-1)*100)>=200,"##",(D27/C27-1)*100))) -> -16.555152 | F27: 15662 | G27: 13247 | H27: =IF(F27=G27,"-",IF((F27=0),"##",IF(ABS((G27/F27-1)*100)>=200,"##",(G27/F27-1)*100))) -> -15.419487 | I27: =C27+F27 -> 20893 | J27: =D27+G27 -> 17612 | K27: =IF(I27=J27,"-",IF((I27=0),"##",IF(ABS((J27/I27-1)*100)>=200,"##",(J27/I27-1)*100))) -> -15.703824
A28: Chilliwack | C28: 99 | D28: 83 | E28: =IF(C28=D28,"-",IF((C28=0),"##",IF(ABS((D28/C28-1)*100)>=200,"##",(D28/C28-1)*100))) -> -16.161616 | F28: 362 | G28: 549 | H28: =IF(F28=G28,"-",IF((F28=0),"##",IF(ABS((G28/F28-1)*100)>=200,"##",(G28/F28-1)*100))) -> 51.657459 | I28: =C28+F28 -> 461 | J28: =D28+G28 -> 632 | K28: =IF(I28=J28,"-",IF((I28=0),"##",IF(ABS((J28/I28-1)*100)>=200,"##",(J28/I28-1)*100))) -> 37.093275
A29: Drummondville | C29: 166 | D29: 162 | E29: =IF(C29=D29,"-",IF((C29=0),"##",IF(ABS((D29/C29-1)*100)>=200,"##",(D29/C29-1)*100))) -> -2.4096386 | F29: 775 | G29: 689 | H29: =IF(F29=G29,"-",IF((F29=0),"##",IF(ABS((G29/F29-1)*100)>=200,"##",(G29/F29-1)*100))) -> -11.096774 | I29: =C29+F29 -> 941 | J29: =D29+G29 -> 851 | K29: =IF(I29=J29,"-",IF((I29=0),"##",IF(ABS((J29/I29-1)*100)>=200,"##",(J29/I29-1)*100))) -> -9.5642933
A30: Edmonton | C30: 5279 | D30: 4541 | E30: =IF(C30=D30,"-",IF((C30=0),"##",IF(ABS((D30/C30-1)*100)>=200,"##",(D30/C30-1)*100))) -> -13.97992 | F30: 11205 | G30: 9661 | H30: =IF(F30=G30,"-",IF((F30=0),"##",IF(ABS((G30/F30-1)*100)>=200,"##",(G30/F30-1)*100))) -> -13.779563 | I30: =C30+F30 -> 16484 | J30: =D30+G30 -> 14202 | K30: =IF(I30=J30,"-",IF((I30=0),"##",IF(ABS((J30/I30-1)*100)>=200,"##",(J30/I30-1)*100))) -> -13.843727
A31: Fredericton | C31: 199 | D31: 227 | E31: =IF(C31=D31,"-",IF((C31=0),"##",IF(ABS((D31/C31-1)*100)>=200,"##",(D31/C31-1)*100))) -> 14.070352 | F31: 702 | G31: 931 | H31: =IF(F31=G31,"-",IF((F31=0),"##",IF(ABS((G31/F31-1)*100)>=200,"##",(G31/F31-1)*100))) -> 32.621083 | I31: =C31+F31 -> 901 | J31: =D31+G31 -> 1158 | K31: =IF(I31=J31,"-",IF((I31=0),"##",IF(ABS((J31/I31-1)*100)>=200,"##",(J31/I31-1)*100))) -> 28.523862
A32: Greater/Grand Sudbury | C32: 71 | D32: 79 | E32: =IF(C32=D32,"-",IF((C32=0),"##",IF(ABS((D32/C32-1)*100)>=200,"##",(D32/C32-1)*100))) -> 11.267606 | F32: 127 | G32: 151 | H32: =IF(F32=G32,"-",IF((F32=0),"##",IF(ABS((G32/F32-1)*100)>=200,"##",(G32/F32-1)*100))) -> 18.897638 | I32: =C32+F32 -> 198 | J32: =D32+G32 -> 230 | K32: =IF(I32=J32,"-",IF((I32=0),"##",IF(ABS((J32/I32-1)*100)>=200,"##",(J32/I32-1)*100))) -> 16.161616
A33: Guelph | C33: 23 | D33: 17 | E33: =IF(C33=D33,"-",IF((C33=0),"##",IF(ABS((D33/C33-1)*100)>=200,"##",(D33/C33-1)*100))) -> -26.086957 | F33: 118 | G33: 164 | H33: =IF(F33=G33,"-",IF((F33=0),"##",IF(ABS((G33/F33-1)*100)>=200,"##",(G33/F33-1)*100))) -> 38.983051 | I33: =C33+F33 -> 141 | J33: =D33+G33 -> 181 | K33: =IF(I33=J33,"-",IF((I33=0),"##",IF(ABS((J33/I33-1)*100)>=200,"##",(J33/I33-1)*100))) -> 28.368794
A34: Halifax | C34: 609 | D34: 440 | E34: =IF(C34=D34,"-",IF((C34=0),"##",IF(ABS((D34/C34-1)*100)>=200,"##",(D34/C34-1)*100))) -> -27.750411 | F34: 4732 | G34: 3008 | H34: =IF(F34=G34,"-",IF((F34=0),"##",IF(ABS((G34/F34-1)*100)>=200,"##",(G34/F34-1)*100))) -> -36.432798 | I34: =C34+F34 -> 5341 | J34: =D34+G34 -> 3448 | K34: =IF(I34=J34,"-",IF((I34=0),"##",IF(ABS((J34/I34-1)*100)>=200,"##",(J34/I34-1)*100))) -> -35.442801
... A45: Oshawa | C45: 303 | D45: 242 | E45: =IF(C45=D45,"-",IF((C45=0),"##",IF(ABS((D45/C45-1)*100)>=200,"##",(D45/C45-1)*100))) -> -20.132013 | F45: 482 | G45: 329 | H45: =IF(F45=G45,"-",IF((F45=0),"##",IF(ABS((G45/F45-1)*100)>=200,"##",(G45/F45-1)*100))) -> -31.742739 | I45: =C45+F45 -> 785 | J45: =D45+G45 -> 571 | K45: =IF(I45=J45,"-",IF((I45=0),"##",IF(ABS((J45/I45-1)*100)>=200,"##",(J45/I45-1)*100))) -> -27.261146
A46: Ottawa-Gatineau | C46: =+SUM(C47+C48) -> 1239 | D46: =+SUM(D47+D48) -> 1694 | E46: =IF(C46=D46,"-",IF((C46=0),"##",IF(ABS((D46/C46-1)*100)>=200,"##",(D46/C46-1)*100))) -> 36.723164 | F46: =+SUM(F47+F48) -> 7713 | G46: =+SUM(G47+G48) -> 8502 | H46: =IF(F46=G46,"-",IF((F46=0),"##",IF(ABS((G46/F46-1)*100)>=200,"##",(G46/F46-1)*100))) -> 10.229483 | I46: =C46+F46 -> 8952 | J46: =D46+G46 -> 10196 | K46: =IF(I46=J46,"-",IF((I46=0),"##",IF(ABS((J46/I46-1)*100)>=200,"##",(J46/I46-1)*100))) -> 13.896336
A47: Gatineau | C47: 308 | D47: 278 | E47: =IF(C47=D47,"-",IF((C47=0),"##",IF(ABS((D47/C47-1)*100)>=200,"##",(D47/C47-1)*100))) -> -9.7402597 | F47: 1476 | G47: 1750 | H47: =IF(F47=G47,"-",IF((F47=0),"##",IF(ABS((G47/F47-1)*100)>=200,"##",(G47/F47-1)*100))) -> 18.563686 | I47: =C47+F47 -> 1784 | J47: =D47+G47 -> 2028 | K47: =IF(I47=J47,"-",IF((I47=0),"##",IF(ABS((J47/I47-1)*100)>=200,"##",(J47/I47-1)*100))) -> 13.67713
A48: Ottawa | C48: 931 | D48: 1416 | E48: =IF(C48=D48,"-",IF((C48=0),"##",IF(ABS((D48/C48-1)*100)>=200,"##",(D48/C48-1)*100))) -> 52.094522 | F48: 6237 | G48: 6752 | H48: =IF(F48=G48,"-",IF((F48=0),"##",IF(ABS((G48/F48-1)*100)>=200,"##",(G48/F48-1)*100))) -> 8.2571749 | I48: =C48+F48 -> 7168 | J48: =D48+G48 -> 8168 | K48: =IF(I48=J48,"-",IF((I48=0),"##",IF(ABS((J48/I48-1)*100)>=200,"##",(J48/I48-1)*100))) -> 13.950893
A49: Peterborough | C49: 58 | D49: 68 | E49: =IF(C49=D49,"-",IF((C49=0),"##",IF(ABS((D49/C49-1)*100)>=200,"##",(D49/C49-1)*100))) -> 17.241379 | F49: 17 | G49: 141 | H49: =IF(F49=G49,"-",IF((F49=0),"##",IF(ABS((G49/F49-1)*100)>=200,"##",(G49/F49-1)*100))) -> ## | I49: =C49+F49 -> 75 | J49: =D49+G49 -> 209 | K49: =IF(I49=J49,"-",IF((I49=0),"##",IF(ABS((J49/I49-1)*100)>=200,"##",(J49/I49-1)*100))) -> 178.66667
A50: Québec | C50: 529 | D50: 611 | E50: =IF(C50=D50,"-",IF((C50=0),"##",IF(ABS((D50/C50-1)*100)>=200,"##",(D50/C50-1)*100))) -> 15.500945 | F50: 6091 | G50: 6719 | H50: =IF(F50=G50,"-",IF((F50=0),"##",IF(ABS((G50/F50-1)*100)>=200,"##",(G50/F50-1)*100))) -> 10.310294 | I50: =C50+F50 -> 6620 | J50: =D50+G50 -> 7330 | K50: =IF(I50=J50,"-",IF((I50=0),"##",IF(ABS((J50/I50-1)*100)>=200,"##",(J50/I50-1)*100))) -> 10.725076
A51: Red Deer | C51: 96 | D51: 82 | E51: =IF(C51=D51,"-",IF((C51=0),"##",IF(ABS((D51/C51-1)*100)>=200,"##",(D51/C51-1)*100))) -> -14.583333 | F51: 241 | G51: 225 | H51: =IF(F51=G51,"-",IF((F51=0),"##",IF(ABS((G51/F51-1)*100)>=200,"##",(G51/F51-1)*100))) -> -6.6390041 | I51: =C51+F51 -> 337 | J51: =D51+G51 -> 307 | K51: =IF(I51=J51,"-",IF((I51=0),"##",IF(ABS((J51/I51-1)*100)>=200,"##",(J51/I51-1)*100))) -> -8.9020772
A52: Regina | C52: 284 | D52: 311 | E52: =IF(C52=D52,"-",IF((C52=0),"##",IF(ABS((D52/C52-1)*100)>=200,"##",(D52/C52-1)*100))) -> 9.5070423 | F52: 1121 | G52: 1082 | H52: =IF(F52=G52,"-",IF((F52=0),"##",IF(ABS((G52/F52-1)*100)>=200,"##",(G52/F52-1)*100))) -> -3.4790366 | I52: =C52+F52 -> 1405 | J52: =D52+G52 -> 1393 | K52: =IF(I52=J52,"-",IF((I52=0),"##",IF(ABS((J52/I52-1)*100)>=200,"##",(J52/I52-1)*100))) -> -0.85409253
A53: Saguenay | C53: 182 | D53: 154 | E53: =IF(C53=D53,"-",IF((C53=0),"##",IF(ABS((D53/C53-1)*100)>=200,"##",(D53/C53-1)*100))) -> -15.384615 | F53: 327 | G53: 811 | H53: =IF(F53=G53,"-",IF((F53=0),"##",IF(ABS((G53/F53-1)*100)>=200,"##",(G53/F53-1)*100))) -> 148.01223 | I53: =C53+F53 -> 509 | J53: =D53+G53 -> 965 | K53: =IF(I53=J53,"-",IF((I53=0),"##",IF(ABS((J53/I53-1)*100)>=200,"##",(J53/I53-1)*100))) -> 89.587426
...

Sheet Table 3
A1: Tableau 3
A2: Mises en chantier de logements dans les centres urbains et l'ensemble du pays,
A3: nombres désaisonnalisés annualisés
E5: Centres 10,000 Population and Over1
A7: Période | D7: Maisons | E7: Autres | F7: Total | G7: Autres | H7: Canada
D8: individuelles | G8: collectivités
A11: 20242 | D11: 44383 | E11: 183314 | F11: 227697 | G11: 17423 | H11: 245120
A12: 20252 | D12: 41851 | E12: 199320 | F12: 241171 | G12: 17857 | H12: 259028
A13: =Titles!A22 -> 2025 | B13: 1er t. | D13: 42990 | E13: 176150 | F13: 219140 | G13: 10888 | H13: =IF(SUM(F13,G13)=0,"",SUM(F13,G13)) -> 230028
B14: 2e t. | D14: 43587 | E14: 210123 | F14: 253710 | G14: 22333 | H14: =IF(SUM(F14,G14)=0,"",SUM(F14,G14)) -> 276043
B15: 3e t. | D15: 40872 | E15: 207772 | F15: 248644 | G15: 23990 | H15: =IF(SUM(F15,G15)=0,"",SUM(F15,G15)) -> 272634
B16: 4e t. | D16: 40493 | E16: 202276 | F16: 242769 | G16: 13438 | H16: =IF(SUM(F16,G16)=0,"",SUM(F16,G16)) -> 256207
A18: =Titles!A23 -> 2026 | B18: 1er t. | D18: 40275 | E18: 193623 | F18: 233898 | G18: 10651 | H18: =IF(SUM(F18,G18)=0,"",SUM(F18,G18)) -> 244549
B19: 2e t. | D19: 39239 | E19: 195704 | F19: 234943 | G19: 11746 | H19: =IF(SUM(F19,G19)=0,"",SUM(F19,G19)) -> 246689
B20: 3e t. | D20: 39671 | E20: 187971 | F20: 227642 | G20: 20461 | H20: =IF(SUM(F20,G20)=0,"",SUM(F20,G20)) -> 248103
B21: 4e t. | H21: =IF(SUM(F21,G21)=0,"",SUM(F21,G21))
A22: =Titles!A22 -> 2025 | B22: janvier | D22: 44028 | E22: 176269 | F22: 220297 | G22: 13533 | H22: =IF(SUM(F22,G22)=0,"",SUM(F22,G22)) -> 233830
B23: février | D23: 42695 | E23: 166594 | F23: 209289 | G23: 13159 | H23: =IF(SUM(F23,G23)=0,"",SUM(F23,G23)) -> 222448
B24: mars | D24: 42423 | E24: 159826 | F24: 202249 | G24: 12245 | H24: =IF(SUM(F24,G24)=0,"",SUM(F24,G24)) -> 214494
B25: avril | D25: 44333 | E25: 216960 | F25: 261293 | G25: 20533 | H25: =IF(SUM(F25,G25)=0,"",SUM(F25,G25)) -> 281826
B26: mai | D26: 42278 | E26: 215415 | F26: 257693 | G26: 21008 | H26: =IF(SUM(F26,G26)=0,"",SUM(F26,G26)) -> 278701
B27: juin | D27: 42939 | E27: 219862 | F27: 262801 | G27: 21364 | H27: =IF(SUM(F27,G27)=0,"",SUM(F27,G27)) -> 284165
B28: juillet | D28: 42049 | E28: 228167 | F28: 270216 | G28: 23661 | H28: =IF(SUM(F28,G28)=0,"",SUM(F28,G28)) -> 293877
B29: août | D29: 40179 | E29: 180076 | F29: 220255 | G29: 24018 | H29: =IF(SUM(F29,G29)=0,"",SUM(F29,G29)) -> 244273
B30: septembre | D30: 41587 | E30: 215708 | F30: 257295 | G30: 23531 | H30: =IF(SUM(F30,G30)=0,"",SUM(F30,G30)) -> 280826
B31: octobre | D31: 41142 | E31: 177076 | F31: 218218 | G31: 13021 | H31: =IF(SUM(F31,G31)=0,"",SUM(F31,G31)) -> 231239
B32: novembre | D32: 39974 | E32: 200500 | F32: 240474 | G32: 12717 | H32: =IF(SUM(F32,G32)=0,"",SUM(F32,G32)) -> 253191
B33: décembre | D33: 39519 | E33: 230261 | F33: 269780 | G33: 12243 | H33: =IF(SUM(F33,G33)=0,"",SUM(F33,G33)) -> 282023
A35: =Titles!A23 -> 2026 | B35: janvier | D35: 43706 | E35: 180414 | F35: 224120 | G35: 12658 | H35: =IF(SUM(F35,G35)=0,"",SUM(F35,G35)) -> 236778
B36: février | D36: 39947 | E36: 196737 | F36: 236684 | G36: 12147 | H36: =IF(SUM(F36,G36)=0,"",SUM(F36,G36)) -> 248831
B37: mars | D37: 38561 | E37: 189265 | F37: 227826 | G37: 11745 | H37: =IF(SUM(F37,G37)=0,"",SUM(F37,G37)) -> 239571
B38: avril | D38: 35912 | E38: 223392 | F38: 259304 | G38: 11388 | H38: =IF(SUM(F38,G38)=0,"",SUM(F38,G38)) -> 270692
B39: mai | D39: 41100 | E39: 201442 | F39: 242542 | G39: 11935 | H39: =IF(SUM(F39,G39)=0,"",SUM(F39,G39)) -> 254477
B40: juin | D40: 38280 | E40: 190504 | F40: 228784 | G40: 11054 | H40: =IF(SUM(F40,G40)=0,"",SUM(F40,G40)) -> 239838
B41: juillet | D41: 39169 | E41: 187141 | F41: 226310 | G41: 20031 | H41: =IF(SUM(F41,G41)=0,"",SUM(F41,G41)) -> 246341
B42: août | D42: 44070 | E42: 179881 | F42: 223951 | G42: 18272 | H42: =IF(SUM(F42,G42)=0,"",SUM(F42,G42)) -> 242223
B43: septembre | D43: 39885 | E43: 190917 | F43: 230802 | G43: 18094 | H43: =IF(SUM(F43,G43)=0,"",SUM(F43,G43)) -> 248896
B44: octobre | H44: =IF(SUM(F44,G44)=0,"",SUM(F44,G44))
B45: novembre | H45: =IF(SUM(F45,G45)=0,"",SUM(F45,G45))
B46: décembre | H46: =IF(SUM(F46,G46)=0,"",SUM(F46,G46))
...

Sheet Table 4
A1: Tableau 4
A2: Mises en chantier de logements dans les centres urbains1, par région,
A3: nombres désaisonnalisés annualisés
A6: Période | E6: Atlantique | F6: Québec | G6: Ontario | H6: Prairies | I6: C.-B. | J6: Total
A7: 2024 2 | E7: 13998 | F7: 41221 | G7: 72118 | H7: 56787 | I7: 43573 | J7: 227971
A8: 2025 2 | E8: 16856 | F8: 54220 | G8: 62561 | H8: 66002 | I8: 41532 | J8: 241171
A10: Maisons individuelles | B10: 2025 | C10: 2e t. | E10: 3612 | F10: 4586 | G10: 11076 | H10: 20404 | I10: 3909 | J10: =SUM(E10:I10) -> 43587
B11: 2025 | C11: 3e t. | E11: 3714 | F11: 4830 | G11: 9362 | H11: 18891 | I11: 4075 | J11: =SUM(E11:I11) -> 40872
A12: Autres | B12: 2025 | C12: 2e t. | E12: 13494 | F12: 46037 | G12: 54296 | H12: 54627 | I12: 41669 | J12: =SUM(E12:I12) -> 210123
B13: 2025 | C13: 3e t. | E13: 14594 | F13: 45945 | G13: 62307 | H13: 45122 | I13: 39804 | J13: =SUM(E13:I13) -> 207772
A14: Total | B14: 2025 | C14: 2e t. | E14: =SUM(E10,E12) -> 17106 | F14: =SUM(F10,F12) -> 50623 | G14: =SUM(G10,G12) -> 65372 | H14: =SUM(H10,H12) -> 75031 | I14: =SUM(I10,I12) -> 45578 | J14: =SUM(E14:I14) -> 253710
B15: 2025 | C15: 3e t. | E15: =SUM(E11,E13) -> 18308 | F15: =SUM(F11,F13) -> 50775 | G15: =SUM(G11,G13) -> 71669 | H15: =SUM(H11,H13) -> 64013 | I15: =SUM(I11,I13) -> 43879 | J15: =SUM(E15:I15) -> 248644
A17: Maisons individuelles | B17: 2026 | C17: 2e t. | E17: 3246 | F17: 4836 | G17: 10079 | H17: 17693 | I17: 3385 | J17: =SUM(E17:I17) -> 39239
B18: 2026 | C18: 3e t. | E18: 2911 | F18: 4980 | G18: 10261 | H18: 18000 | I18: 3519 | J18: =SUM(E18:I18) -> 39671
A19: Autres | B19: 2026 | C19: 2e t. | E19: 10931 | F19: 45148 | G19: 59727 | H19: 45978 | I19: 33920 | J19: =SUM(E19:I19) -> 195704
B20: 2026 | C20: 3e t. | E20: 13060 | F20: 50299 | G20: 36666 | H20: 47064 | I20: 40882 | J20: =SUM(E20:I20) -> 187971
A21: Total | B21: 2026 | C21: 2e t. | E21: =SUM(E17,E19) -> 14177 | F21: =SUM(F17,F19) -> 49984 | G21: =SUM(G17,G19) -> 69806 | H21: =SUM(H17,H19) -> 63671 | I21: =SUM(I17,I19) -> 37305 | J21: =SUM(E21:I21) -> 234943
B22: 2026 | C22: 3e t. | E22: =SUM(E18,E20) -> 15971 | F22: =SUM(F18,F20) -> 55279 | G22: =SUM(G18,G20) -> 46927 | H22: =SUM(H18,H20) -> 65064 | I22: =SUM(I18,I20) -> 44401 | J22: =SUM(E22:I22) -> 227642
A24: Maisons individuelles | B24: 2025 | C24: juil. | E24: 3908 | F24: 5282 | G24: 9612 | H24: 19306 | I24: 3941 | J24: =SUM(E24:I24) -> 42049
B25: 2025 | C25: août | E25: 3454 | F25: 4864 | G25: 9874 | H25: 17785 | I25: 4202 | J25: =SUM(E25:I25) -> 40179
B26: 2025 | C26: sept. | E26: 3800 | F26: 4819 | G26: 9468 | H26: 19504 | I26: 3996 | J26: =SUM(E26:I26) -> 41587
A27: Autres | B27: 2025 | C27: juil. | E27: 25487 | F27: 48943 | G27: 62990 | H27: 40453 | I27: 50294 | J27: =SUM(E27:I27) -> 228167
B28: 2025 | C28: août | E28: 13264 | F28: 41407 | G28: 44673 | H28: 41261 | I28: 39471 | J28: =SUM(E28:I28) -> 180076
B29: 2025 | C29: sept. | E29: 8864 | F29: 46460 | G29: 76973 | H29: 53255 | I29: 30156 | J29: =SUM(E29:I29) -> 215708
A30: Total | B30: 2025 | C30: juil. | E30: =SUM(E24,E27) -> 29395 | F30: =SUM(F24,F27) -> 54225 | G30: =SUM(G24,G27) -> 72602 | H30: =SUM(H24,H27) -> 59759 | I30: =SUM(I24,I27) -> 54235 | J30: =SUM(J24,J27) -> 270216
B31: 2025 | C31: août | E31: =SUM(E25,E28) -> 16718 | F31: =SUM(F25,F28) -> 46271 | G31: =SUM(G25,G28) -> 54547 | H31: =SUM(H25,H28) -> 59046 | I31: =SUM(I25,I28) -> 43673 | J31: =SUM(J25,J28) -> 220255
B32: 2025 | C32: sept. | E32: =SUM(E26,E29) -> 12664 | F32: =SUM(F26,F29) -> 51279 | G32: =SUM(G26,G29) -> 86441 | H32: =SUM(H26,H29) -> 72759 | I32: =SUM(I26,I29) -> 34152 | J32: =SUM(J26,J29) -> 257295
A34: Maisons individuelles | B34: 2026 | C34: juil. | E34: 2834 | F34: 5078 | G34: 11072 | H34: 16627 | I34: 3558 | J34: =SUM(E34:I34) -> 39169
B35: 2026 | C35: août | E35: 3027 | F35: 5368 | G35: 10491 | H35: 21666 | I35: 3518 | J35: =SUM(E35:I35) -> 44070
B36: 2026 | C36: sept. | E36: 2766 | F36: 4947 | G36: 11442 | H36: 17257 | I36: 3473 | J36: =SUM(E36:I36) -> 39885
A37: Autres | B37: 2026 | C37: juil. | E37: 13067 | F37: 56862 | G37: 42122 | H37: 45397 | I37: 29693 | J37: =SUM(E37:I37) -> 187141
B38: 2026 | C38: août | E38: 10336 | F38: 53087 | G38: 31492 | H38: 44640 | I38: 40326 | J38: =SUM(E38:I38) -> 179881
B39: 2026 | C39: sept. | E39: 17089 | F39: 40287 | G39: 33849 | H39: 52045 | I39: 47647 | J39: =SUM(E39:I39) -> 190917
A40: Total | B40: 2026 | C40: juil. | E40: =SUM(E34,E37) -> 15901 | F40: =SUM(F34,F37) -> 61940 | G40: =SUM(G34,G37) -> 53194 | H40: =SUM(H34,H37) -> 62024 | I40: =SUM(I34,I37) -> 33251 | J40: =SUM(J34,J37) -> 226310
B41: 2026 | C41: août | E41: =SUM(E35,E38) -> 13363 | F41: =SUM(F35,F38) -> 58455 | G41: =SUM(G35,G38) -> 41983 | H41: =SUM(H35,H38) -> 66306 | I41: =SUM(I35,I38) -> 43844 | J41: =SUM(J35,J38) -> 223951
B42: 2026 | C42: sept. | E42: =SUM(E36,E39) -> 19855 | F42: =SUM(F36,F39) -> 45234 | G42: =SUM(G36,G39) -> 45291 | H42: =SUM(H36,H39) -> 69302 | I42: =SUM(I36,I39) -> 51120 | J42: =SUM(J36,J39) -> 230802
A43: =Titles!$A$12 -> Données de 2024, 2025 et 2026 fondées sur les définitions du recensement de 2021.
A44: 2 Données sont des mises en chantier réelles
A45: Source : Enquête sur les mises en chantier et les achèvements et Enquête sur les logements écoulés de la SCHL

Sheet Table 5
A1: Tableau 5
A2: Mises en chantier de logements dans les centres urbains1, par région,
A3: nombres désaisonnalisés annualisés
A6: Période | D6: Atlantique | E6: Québec | F6: Ontario | G6: Prairies | H6: C.-B. | I6: Total
A7: 2024 2 | D7: 13998 | E7: 41221 | F7: 72118 | G7: 56787 | H7: 43573 | I7: 227971
A8: 2025 2 | D8: 16856 | E8: 54220 | F8: 62561 | G8: 66002 | H8: 41532 | I8: 241171
A9: 2024 | B9: 1er t. | D9: 15603 | E9: 35511 | F9: 78452 | G9: 51274 | H9: 48329 | I9: 229169
B10: 2e t. | D10: 15544 | E10: 40155 | F10: 73297 | G10: 54090 | H10: 41531 | I10: 224617
B11: 3e t. | D11: 12436 | E11: 40850 | F11: 73853 | G11: 58856 | H11: 40424 | I11: 226419
B12: 4e t. | D12: 12460 | E12: 46964 | F12: 60927 | G12: 62747 | H12: 41898 | I12: 224996
A13: 2025 | B13: 1er t. | D13: 13912 | E13: 53252 | F13: 49916 | G13: 63407 | H13: 38653 | I13: 219140
B14: 2e t. | D14: 17106 | E14: 50623 | F14: 65372 | G14: 75031 | H14: 45578 | I14: 253710
B15: 3e t. | D15: 18308 | E15: 50775 | F15: 71669 | G15: 64013 | H15: 43879 | I15: 248644
B16: 4e t. | D16: 17978 | E16: 61541 | F16: 63634 | G16: 60935 | H16: 38681 | I16: 242769
A17: 2026 | B17: 1er t. | D17: 13877 | E17: 57870 | F17: 61032 | G17: 57760 | H17: 43359 | I17: 233898
B18: 2e t. | D18: 14177 | E18: 49984 | F18: 69806 | G18: 63671 | H18: 37305 | I18: 234943
B19: 3e t. | D19: 15971 | E19: 55279 | F19: 46927 | G19: 65064 | H19: 44401 | I19: 227642
B20: 4e t.
A21: 2024 | B21: janvier | D21: 12042 | E21: 36988 | F21: 79331 | G21: 47909 | H21: 28841 | I21: =IF(SUM(D21:H21)=0,"",SUM(D21:H21)) -> 205111
B22: février | D22: 17841 | E22: 38179 | F22: 85766 | G22: 54594 | H22: 44738 | I22: =IF(SUM(D22:H22)=0,"",SUM(D22:H22)) -> 241118
B23: mars | D23: 10187 | E23: 34759 | F23: 70319 | G23: 46760 | H23: 58913 | I23: =IF(SUM(D23:H23)=0,"",SUM(D23:H23)) -> 220938
B24: avril | D24: 11509 | E24: 28887 | F24: 71474 | G24: 56966 | H24: 52864 | I24: =IF(SUM(D24:H24)=0,"",SUM(D24:H24)) -> 221700
B25: mai | D25: 17580 | E25: 41384 | F25: 85087 | G25: 52476 | H25: 44376 | I25: =IF(SUM(D25:H25)=0,"",SUM(D25:H25)) -> 240903
B26: juin | D26: 17805 | E26: 52287 | F26: 64541 | G26: 54836 | H26: 38869 | I26: =IF(SUM(D26:H26)=0,"",SUM(D26:H26)) -> 228338
B27: juillet | D27: 12427 | E27: 35630 | F27: 103803 | G27: 65410 | H27: 45906 | I27: =IF(SUM(D27:H27)=0,"",SUM(D27:H27)) -> 263176
B28: août | D28: 13028 | E28: 43471 | F28: 58071 | G28: 56437 | H28: 31467 | I28: =IF(SUM(D28:H28)=0,"",SUM(D28:H28)) -> 202474
B29: septembre | D29: 12981 | E29: 43859 | F29: 61570 | G29: 55173 | H29: 40645 | I29: =IF(SUM(D29:H29)=0,"",SUM(D29:H29)) -> 214228
B30: octobre | D30: 11334 | E30: 40245 | F30: 63184 | G30: 65144 | H30: 41409 | I30: =IF(SUM(D30:H30)=0,"",SUM(D30:H30)) -> 221316
B31: novembre | D31: 13185 | E31: 49794 | F31: 58137 | G31: 72289 | H31: 49432 | I31: =IF(SUM(D31:H31)=0,"",SUM(D31:H31)) -> 242837
B32: décembre | D32: 12630 | E32: 41934 | F32: 62902 | G32: 51883 | H32: 45409 | I32: =IF(SUM(D32:H32)=0,"",SUM(D32:H32)) -> 214758
A33: 2025 | B33: janvier | D33: 12477 | E33: 58604 | F33: 57703 | G33: 54762 | H33: 36751 | I33: =IF(SUM(D33:H33)=0,"",SUM(D33:H33)) -> 220297
B34: février | D34: 12357 | E34: 48033 | F34: 56333 | G34: 64983 | H34: 27583 | I34: =IF(SUM(D34:H34)=0,"",SUM(D34:H34)) -> 209289
B35: mars | D35: 12390 | E35: 54864 | F35: 38451 | G35: 67352 | H35: 29192 | I35: =IF(SUM(D35:H35)=0,"",SUM(D35:H35)) -> 202249
B36: avril | D36: 18561 | E36: 49689 | F36: 65839 | G36: 75097 | H36: 52107 | I36: =IF(SUM(D36:H36)=0,"",SUM(D36:H36)) -> 261293
B37: mai | D37: 16625 | E37: 55429 | F37: 68491 | G37: 80625 | H37: 36523 | I37: =IF(SUM(D37:H37)=0,"",SUM(D37:H37)) -> 257693
B38: juin | D38: 16740 | E38: 51678 | F38: 58984 | G38: 71010 | H38: 64389 | I38: =IF(SUM(D38:H38)=0,"",SUM(D38:H38)) -> 262801
B39: juillet | D39: 29395 | E39: 54225 | F39: 72602 | G39: 59759 | H39: 54235 | I39: =IF(SUM(D39:H39)=0,"",SUM(D39:H39)) -> 270216
B40: août | D40: 16718 | E40: 46271 | F40: 54547 | G40: 59046 | H40: 43673 | I40: =IF(SUM(D40:H40)=0,"",SUM(D40:H40)) -> 220255
B41: septembre | D41: 12664 | E41: 51279 | F41: 86441 | G41: 72759 | H41: 34152 | I41: =IF(SUM(D41:H41)=0,"",SUM(D41:H41)) -> 257295
B42: octobre | D42: 15682 | E42: 57064 | F42: 41798 | G42: 69897 | H42: 33777 | I42: =IF(SUM(D42:H42)=0,"",SUM(D42:H42)) -> 218218
...

Sheet Table 6
A1: Tableau 6
A2: Mises en chantier de logements dans les centres urbains1, provinces de l'Atlantique,
A3: nombres désaisonnalisés annualisés
A5: Période | D5: Terre-Neuve-et-Labrador | E5: Île-du-Prince- | F5: Nouvelle-Écosse | G5: Nouveau-Brunswick | H5: Total
E6: Édouard
A9: 2024 2 | D9: 1014 | E9: 1334 | F9: 6663 | G9: 4987 | H9: 13998
A10: 2025 2 | D10: 1131 | E10: 1276 | F10: 8732 | G10: 5717 | H10: 16856
A11: 2024 | B11: 1er t. | D11: 898 | E11: 1520 | F11: 8554 | G11: 4631 | H11: 15603
B12: 2e t. | D12: 896 | E12: 976 | F12: 8696 | G12: 4976 | H12: 15544
B13: 3e t. | D13: 1098 | E13: 1754 | F13: 4391 | G13: 5193 | H13: 12436
B14: 4e t. | D14: 1152 | E14: 949 | F14: 5061 | G14: 5298 | H14: 12460
A15: 2025 | B15: 1er t. | D15: 1001 | E15: 1402 | F15: 6727 | G15: 4782 | H15: 13912
B16: 2e t. | D16: 1197 | E16: 1123 | F16: 9622 | G16: 5164 | H16: 17106
B17: 3e t. | D17: 1077 | E17: 1845 | F17: 9835 | G17: 5551 | H17: 18308
B18: 4e t. | D18: 1252 | E18: 741 | F18: 8656 | G18: 7329 | H18: 17978
A19: 2026 | B19: 1er t. | D19: 1264 | E19: 1703 | F19: 5862 | G19: 5048 | H19: 13877
B20: 2e t. | D20: 1672 | E20: 1635 | F20: 6482 | G20: 4388 | H20: 14177
B21: 3e t. | D21: 1339 | E21: 1368 | F21: 6120 | G21: 7144 | H21: 15971
B22: 4e t.
A23: 2024 | B23: janvier | D23: 1259 | E23: 1092 | F23: 6029 | G23: 3662 | H23: =IF(SUM(C23:G23)=0,"",SUM(C23:G23)) -> 12042
B24: février | D24: 730 | E24: 287 | F24: 12078 | G24: 4746 | H24: =IF(SUM(C24:G24)=0,"",SUM(C24:G24)) -> 17841
B25: mars | D25: 349 | E25: 791 | F25: 7564 | G25: 1483 | H25: =IF(SUM(C25:G25)=0,"",SUM(C25:G25)) -> 10187
B26: avril | D26: 809 | E26: 231 | F26: 7179 | G26: 3290 | H26: =IF(SUM(C26:G26)=0,"",SUM(C26:G26)) -> 11509
B27: mai | D27: 708 | E27: 1544 | F27: 8103 | G27: 7225 | H27: =IF(SUM(C27:G27)=0,"",SUM(C27:G27)) -> 17580
B28: juin | D28: 1152 | E28: 601 | F28: 10873 | G28: 5179 | H28: =IF(SUM(C28:G28)=0,"",SUM(C28:G28)) -> 17805
B29: juillet | D29: 940 | E29: 2173 | F29: 5559 | G29: 3755 | H29: =IF(SUM(C29:G29)=0,"",SUM(C29:G29)) -> 12427
B30: août | D30: 1200 | E30: 597 | F30: 3380 | G30: 7851 | H30: =IF(SUM(C30:G30)=0,"",SUM(C30:G30)) -> 13028
B31: septembre | D31: 1043 | E31: 400 | F31: 4141 | G31: 7397 | H31: =IF(SUM(C31:G31)=0,"",SUM(C31:G31)) -> 12981
B32: octobre | D32: 1292 | E32: 1272 | F32: 4171 | G32: 4599 | H32: =IF(SUM(C32:G32)=0,"",SUM(C32:G32)) -> 11334
B33: novembre | D33: 1407 | E33: 243 | F33: 5696 | G33: 5839 | H33: =IF(SUM(C33:G33)=0,"",SUM(C33:G33)) -> 13185
B34: décembre | D34: 1099 | E34: 1272 | F34: 5403 | G34: 4856 | H34: =IF(SUM(C34:G34)=0,"",SUM(C34:G34)) -> 12630
A35: 2025 | B35: janvier | D35: 953 | E35: 2466 | F35: 7380 | G35: 1678 | H35: =IF(SUM(C35:G35)=0,"",SUM(C35:G35)) -> 12477
B36: février | D36: 951 | E36: 869 | F36: 6239 | G36: 4298 | H36: =IF(SUM(C36:G36)=0,"",SUM(C36:G36)) -> 12357
B37: mars | D37: 911 | E37: 364 | F37: 6168 | G37: 4947 | H37: =IF(SUM(C37:G37)=0,"",SUM(C37:G37)) -> 12390
B38: avril | D38: 1504 | E38: 1983 | F38: 12527 | G38: 2547 | H38: =IF(SUM(C38:G38)=0,"",SUM(C38:G38)) -> 18561
B39: mai | D39: 1127 | E39: 392 | F39: 8673 | G39: 6433 | H39: =IF(SUM(C39:G39)=0,"",SUM(C39:G39)) -> 16625
B40: juin | D40: 1085 | E40: 545 | F40: 7949 | G40: 7161 | H40: =IF(SUM(C40:G40)=0,"",SUM(C40:G40)) -> 16740
B41: juillet | D41: 1164 | E41: 2708 | F41: 16805 | G41: 8718 | H41: =IF(SUM(C41:G41)=0,"",SUM(C41:G41)) -> 29395
B42: août | D42: 836 | E42: 2306 | F42: 6875 | G42: 6701 | H42: =IF(SUM(C42:G42)=0,"",SUM(C42:G42)) -> 16718
B43: septembre | D43: 1127 | E43: 899 | F43: 5792 | G43: 4846 | H43: =IF(SUM(C43:G43)=0,"",SUM(C43:G43)) -> 12664
...

Sheet Table 7
A1: Tableau 7
A2: Mises en chantier de logements dans les centres urbains1, provinces des Prairies,
A3: nombres désaisonnalisés annualisés
A6: Période | D6: Manitoba | E6: Saskatchewan | F6: Alberta | G6: Total
A7: 2024 2 | D7: 6164 | E7: 3991 | F7: 46632 | G7: 56787
A8: 2025 2 | D8: 7139 | E8: 5679 | F8: 53184 | G8: 66002
A9: 2024 | B9: 1er t. | D9: 4372 | E9: 3149 | F9: 43753 | G9: 51274
B10: 2e t. | D10: 6184 | E10: 3212 | F10: 44694 | G10: 54090
B11: 3e t. | D11: 7007 | E11: 5379 | F11: 46470 | G11: 58856
B12: 4e t. | D12: 7106 | E12: 4272 | F12: 51369 | G12: 62747
A13: 2025 | B13: 1er t. | D13: 5804 | E13: 5841 | F13: 51762 | G13: 63407
B14: 2e t. | D14: 6426 | E14: 5752 | F14: 62853 | G14: 75031
B15: 3e t. | D15: 8569 | E15: 5900 | F15: 49544 | G15: 64013
B16: 4e t. | D16: 7288 | E16: 5241 | F16: 48406 | G16: 60935
A17: 2026 | B17: 1er t. | D17: 7989 | E17: 4249 | F17: 45522 | G17: 57760
B18: 2e t. | D18: 9864 | E18: 7834 | F18: 45973 | G18: 63671
B19: 3e t. | D19: 6932 | E19: 5353 | F19: 52779 | G19: 65064
B20: 4e t.
A21: 2024 | B21: janvier | D21: 3909 | E21: 3164 | F21: 40836 | G21: =IF(SUM(B21:F21)=0,"",SUM(B21:F21)) -> 47909
B22: février | D22: 4297 | E22: 2798 | F22: 47499 | G22: =IF(SUM(B22:F22)=0,"",SUM(B22:F22)) -> 54594
B23: mars | D23: 4692 | E23: 3067 | F23: 39001 | G23: =IF(SUM(B23:F23)=0,"",SUM(B23:F23)) -> 46760
B24: avril | D24: 7551 | E24: 3959 | F24: 45456 | G24: =IF(SUM(B24:F24)=0,"",SUM(B24:F24)) -> 56966
B25: mai | D25: 2701 | E25: 1633 | F25: 48142 | G25: =IF(SUM(B25:F25)=0,"",SUM(B25:F25)) -> 52476
B26: juin | D26: 8461 | E26: 4303 | F26: 42072 | G26: =IF(SUM(B26:F26)=0,"",SUM(B26:F26)) -> 54836
B27: juillet | D27: 8958 | E27: 7260 | F27: 49192 | G27: =IF(SUM(B27:F27)=0,"",SUM(B27:F27)) -> 65410
B28: août | D28: 6961 | E28: 3180 | F28: 46296 | G28: =IF(SUM(B28:F28)=0,"",SUM(B28:F28)) -> 56437
B29: septembre | D29: 5265 | E29: 5740 | F29: 44168 | G29: =IF(SUM(B29:F29)=0,"",SUM(B29:F29)) -> 55173
B30: octobre | D30: 8428 | E30: 4334 | F30: 52382 | G30: =IF(SUM(B30:F30)=0,"",SUM(B30:F30)) -> 65144
B31: novembre | D31: 7813 | E31: 4836 | F31: 59640 | G31: =IF(SUM(B31:F31)=0,"",SUM(B31:F31)) -> 72289
B32: décembre | D32: 4969 | E32: 3349 | F32: 43565 | G32: =IF(SUM(B32:F32)=0,"",SUM(B32:F32)) -> 51883
A33: 2025 | B33: janvier | D33: 5309 | E33: 3152 | F33: 46301 | G33: =IF(SUM(B33:F33)=0,"",SUM(B33:F33)) -> 54762
B34: février | D34: 4185 | E34: 6181 | F34: 54617 | G34: =IF(SUM(B34:F34)=0,"",SUM(B34:F34)) -> 64983
B35: mars | D35: 8024 | E35: 7842 | F35: 51486 | G35: =IF(SUM(B35:F35)=0,"",SUM(B35:F35)) -> 67352
B36: avril | D36: 5951 | E36: 7541 | F36: 61605 | G36: =IF(SUM(B36:F36)=0,"",SUM(B36:F36)) -> 75097
B37: mai | D37: 8324 | E37: 5347 | F37: 66954 | G37: =IF(SUM(B37:F37)=0,"",SUM(B37:F37)) -> 80625
B38: juin | D38: 5068 | E38: 4561 | F38: 61381 | G38: =IF(SUM(B38:F38)=0,"",SUM(B38:F38)) -> 71010
B39: juillet | D39: 5549 | E39: 4682 | F39: 49528 | G39: =IF(SUM(B39:F39)=0,"",SUM(B39:F39)) -> 59759
B40: août | D40: 9047 | E40: 4482 | F40: 45517 | G40: =IF(SUM(B40:F40)=0,"",SUM(B40:F40)) -> 59046
B41: septembre | D41: 11037 | E41: 8356 | F41: 53366 | G41: =IF(SUM(B41:F41)=0,"",SUM(B41:F41)) -> 72759
B42: octobre | D42: 6039 | E42: 7523 | F42: 56335 | G42: =IF(SUM(B42:F42)=0,"",SUM(B42:F42)) -> 69897
...

Sheet Table 8
A1: Tableau 8
A2: Nombres désaisonnalisés annualisés de mises en chantier de logements1
A5: Période | D5: St. John's | E5: Halifax | F5: Moncton | G5: Saint John | H5: Fredericton
A6: 2024 2 | D6: 871 | E6: 5081 | F6: 2997 | G6: 767 | H6: 749
A7: 2025 2 | D7: 1037 | E7: 7000 | F7: 2800 | G7: 666 | H7: 1427
A8: 2024 | B8: janvier | D8: 1072 | E8: 4279 | F8: 1385 | G8: 1334 | H8: 343
B9: février | D9: 519 | E9: 10979 | F9: 2270 | G9: 1695 | H9: 320
B10: mars | D10: 147 | E10: 6179 | F10: 430 | G10: 224 | H10: 325
B11: avril | D11: 668 | E11: 5954 | F11: 2133 | G11: 206 | H11: 375
B12: mai | D12: 585 | E12: 6411 | F12: 4626 | G12: 556 | H12: 1091
B13: juin | D13: 1027 | E13: 9055 | F13: 2572 | G13: 1105 | H13: 795
B14: juillet | D14: 778 | E14: 3707 | F14: 2356 | G14: 593 | H14: 446
B15: août | D15: 1102 | E15: 2452 | F15: 5113 | G15: 492 | H15: 1892
B16: septembre | D16: 915 | E16: 2618 | F16: 5249 | G16: 1126 | H16: 653
B17: octobre | D17: 1192 | E17: 2061 | F17: 3229 | G17: 259 | H17: 815
B18: novembre | D18: 1365 | E18: 3640 | F18: 3034 | G18: 883 | H18: 1621
B19: décembre | D19: 829 | E19: 3796 | F19: 3512 | G19: 738 | H19: 313
A20: 2025 | B20: janvier | D20: 825 | E20: 6392 | F20: 476 | G20: 545 | H20: 347
B21: février | D21: 852 | E21: 5674 | F21: 3432 | G21: 178 | H21: 344
B22: mars | D22: 782 | E22: 5171 | F22: 2183 | G22: 362 | H22: 1532
B23: avril | D23: 1355 | E23: 11011 | F23: 1740 | G23: 189 | H23: 216
B24: mai | D24: 1009 | E24: 6643 | F24: 3434 | G24: 806 | H24: 1526
B25: juin | D25: 976 | E25: 5536 | F25: 3733 | G25: 673 | H25: 2327
B26: juillet | D26: 1169 | E26: 14105 | F26: 4231 | G26: 768 | H26: 2934
B27: août | D27: 880 | E27: 5406 | F27: 4294 | G27: 429 | H27: 848
B28: septembre | D28: 1177 | E28: 4333 | F28: 1716 | G28: 1151 | H28: 698
B29: octobre | D29: 957 | E29: 6723 | F29: 1335 | G29: 454 | H29: 2380
B30: novembre | D30: 1514 | E30: 4783 | F30: 5374 | G30: 1595 | H30: 3149
B31: décembre | D31: 930 | E31: 8404 | F31: 1782 | G31: 850 | H31: 557
A32: 2026 | B32: janvier | D32: 982 | E32: 3499 | F32: 2315 | G32: 461 | H32: 1338
B33: février | D33: 832 | E33: 5139 | F33: 1449 | G33: 270 | H33: 208
B34: mars | D34: 379 | E34: 2828 | F34: 2853 | G34: 391 | H34: 234
B35: avril | D35: 2429 | E35: 2398 | F35: 2946 | G35: 173 | H35: 259
B36: mai | D36: 929 | E36: 9169 | F36: 2483 | G36: 670 | H36: 1513
B37: juin | D37: 1378 | E37: 3557 | F37: 1360 | G37: 104 | H37: 2361
B38: juillet | D38: 1193 | E38: 5360 | F38: 2546 | G38: 660 | H38: 3447
B39: août | D39: 1302 | E39: 4975 | F39: 3686 | G39: 1516 | H39: 585
B40: septembre | D40: 815 | E40: 4609 | F40: 7423 | G40: 751 | H40: 3780
B41: octobre
B42: novembre
...

Sheet Table 9
A1: Tableau 9
A2: Nombres désaisonnalisés annualisés de mises en chantier de logements1
A5: Période | D5: Québec | E5: Sherbrooke | F5: Trois-Rivières | G5: Montréal | H5: Gatineau | I5: Saguenay | J5: Drummondville
A6: 2024 2 | D6: 6905 | E6: 1932 | F6: 1684 | G6: 17570 | H6: 3655 | I6: 908 | J6: 1060
A7: 2025 2 | D7: 8583 | E7: 1813 | F7: 1428 | G7: 27777 | H7: 2120 | I7: 797 | J7: 1389
A8: 2024 | B8: janvier | D8: 6964 | E8: 1082 | F8: 1202 | G8: 14975 | H8: 2514 | I8: 557 | J8: 182
B9: février | D9: 3943 | E9: 550 | F9: 1754 | G9: 10438 | H9: 1876 | I9: 485 | J9: 633
B10: mars | D10: 6633 | E10: 1904 | F10: 485 | G10: 9994 | H10: 2082 | I10: 687 | J10: 558
B11: avril | D11: 8177 | E11: 977 | F11: 392 | G11: 13763 | H11: 790 | I11: 109 | J11: 657
B12: mai | D12: 7581 | E12: 1440 | F12: 1773 | G12: 28275 | H12: 9858 | I12: 348 | J12: 847
B13: juin | D13: 9852 | E13: 2572 | F13: 1052 | G13: 34944 | H13: 1718 | I13: 447 | J13: 1134
B14: juillet | D14: 7443 | E14: 776 | F14: 704 | G14: 8815 | H14: 3773 | I14: 450 | J14: 2650
B15: août | D15: 5111 | E15: 1460 | F15: 1762 | G15: 15656 | H15: 1378 | I15: 398 | J15: 1300
B16: septembre | D16: 7127 | E16: 3246 | F16: 7928 | G16: 13051 | H16: 4453 | I16: 788 | J16: 1000
B17: octobre | D17: 5031 | E17: 4282 | F17: 451 | G17: 16428 | H17: 8443 | I17: 3638 | J17: 1111
B18: novembre | D18: 12734 | E18: 3182 | F18: 985 | G18: 31302 | H18: 4165 | I18: 1151 | J18: 1818
B19: décembre | D19: 2016 | E19: 1710 | F19: 1719 | G19: 13353 | H19: 2821 | I19: 1848 | J19: 829
A20: 2025 | B20: janvier | D20: 6616 | E20: 794 | F20: 643 | G20: 31117 | H20: 4106 | I20: 737 | J20: 452
B21: février | D21: 6547 | E21: 1093 | F21: 473 | G21: 11094 | H21: 1423 | I21: 915 | J21: 1022
B22: mars | D22: 5203 | E22: 1444 | F22: 1425 | G22: 23633 | H22: 1491 | I22: 586 | J22: 1643
B23: avril | D23: 8090 | E23: 2306 | F23: 978 | G23: 22884 | H23: 1883 | I23: 413 | J23: 940
B24: mai | D24: 24353 | E24: 887 | F24: 3886 | G24: 31620 | H24: 5037 | I24: 841 | J24: 1197
B25: juin | D25: 6993 | E25: 3338 | F25: 1226 | G25: 32021 | H25: 1870 | I25: 295 | J25: 2009
B26: juillet | D26: 8267 | E26: 812 | F26: 755 | G26: 28216 | H26: 3304 | I26: 806 | J26: 1235
B27: août | D27: 4923 | E27: 624 | F27: 1567 | G27: 20376 | H27: 1726 | I27: 450 | J27: 1075
B28: septembre | D28: 8417 | E28: 2849 | F28: 1288 | G28: 30951 | H28: 681 | I28: 922 | J28: 1724
B29: octobre | D29: 12504 | E29: 1578 | F29: 2709 | G29: 33618 | H29: 1302 | I29: 747 | J29: 1160
B30: novembre | D30: 8989 | E30: 3475 | F30: 1392 | G30: 39024 | H30: 1274 | I30: 952 | J30: 2414
B31: décembre | D31: 1920 | E31: 2565 | F31: 795 | G31: 29058 | H31: 1422 | I31: 1890 | J31: 1813
A32: 2026 | B32: janvier | D32: 3712 | E32: 717 | F32: 718 | G32: 17541 | H32: 2203 | I32: 1010 | J32: 920
B33: février | D33: 8846 | E33: 2684 | F33: 237 | G33: 12977 | H33: 2850 | I33: 491 | J33: 653
B34: mars | D34: 9135 | E34: 5449 | F34: 2247 | G34: 29653 | H34: 4919 | I34: 3115 | J34: 1272
B35: avril | D35: 10890 | E35: 1641 | F35: 530 | G35: 28056 | H35: 4434 | I35: 763 | J35: 2850
B36: mai | D36: 12198 | E36: 1714 | F36: 1267 | G36: 37263 | H36: 4988 | I36: 573 | J36: 1343
B37: juin | D37: 6244 | E37: 1769 | F37: 2256 | G37: 35369 | H37: 1507 | I37: 1853 | J37: 332
B38: juillet | D38: 12223 | E38: 1796 | F38: 661 | G38: 28908 | H38: 1753 | I38: 987 | J38: 1437
B39: août | D39: 8152 | E39: 1254 | F39: 1013 | G39: 23434 | H39: 981 | I39: 1068 | J39: 856
B40: septembre | D40: 16547 | E40: 1388 | F40: 538 | G40: 15057 | H40: 753 | I40: 1584 | J40: 552
B41: octobre
B42: novembre
...

Sheet Table 10
A1: Tableau 10
