Workbook

Sheet Titles
A2: Housing Start Data in Centres 10,000 Population and Over
A4: septembre 2025 - 2026
A5: janvier - septembre 2025 - 2026
A7: Footnotes
A8: Données de 2024, 2025 et 2026 fondées sur les définitions du recensement de 2021.
A10: Source : Enquête sur les mises en chantier et les achèvements et Enquête sur les logements écoulés de la SCHL
A12: Données de 2024, 2025 et 2026 fondées sur les définitions du recensement de 2021.
A14: Données de 2024, 2025 et 2026 fondées sur les définitions du recensement de 2021.
A18: Données révisées sur les mises en chantier d'habitations
A19: Données provisoires sur les mises en chantier d'habitations
A20: Données provisoires sur les mises en chantier d'habitations
A21: 2024 | B21: 2024 2
A22: 2025 | B22: 2025 2
A23: 2026

Sheet Index
B1: CMHC HOUSING MARKET INFORMATION
B2: Mises en chantier mensuelles et autres données sur la construction résidentielle
B4: Source : Enquête sur les mises en chantier et les achèvements de la SCHL et enquête sur l’absorption du marché
B5: © Société canadienne d'hypothèques et de logement, 2026
B7: TABLE DES MATIÈRES
B8: La table des matières ci-dessous donne une brève description du contenu de chaque onglet.
B10: Notes
B12: Tableau 1: Données sur les mises en chantier d'habitations de 10 000 habitants et plus
B14: Tableau 2: Données sur les mises en chantier d'habitations de 10 000 habitants et plus (Cumulative)
B16: Tableau 3: Mises en chantier de logements dans les centres urbains et l'ensemble du pays, nombres désaisonnalisés annualisés
B18: Tableau 4: Mises en chantier de logements dans les centres urbains, par région nombres désaisonnalisés annualisés
B20: Tableau 5: Mises en chantier de logements dans les centres urbains, par région,nombres désaisonnalisés annualisés
... B36: Concepts et Définitions

Sheet Notes
A1: Note aux lecteurs:
A3: Les notes aux lecteurs suivantes ont pour but d'informer les clients des modifications ou corrections apportées à la méthodologie ou aux données relatives à nos enquêtes sur le logement.
A5: Régions géographiques
A6: En date de janvier 2023, les données contenues dans cette publication reflètent la géographie du Recensement de 2021 conformément à la Classification géographique type (CGT) de Statistique Canada. Voici un résumé des changements géographiques :
A8: Modifications apportées aux régions métropolitaines de recensement (RMR) et aux agglomérations de recensement (AR) :
A9: 6 nouveaux RMRs: Chilliwack, Drummondville, Fredericton, Kamloops, Nanaimo and Red Deer
A10: Ottawa CMA: Arnprior T et Carleton Place T sont maintenant fusionnés à la RMR d'Ottawa
A11: East Hants MD: fusionné avec la RMR de Halifax
A12: Essex T: fusionné avec la RMR de Windsor
A13: Leamington MU: fusionné avec la RMR de Windsor
A14: Joliette V: maintenant une grande AR (population 50 000+)
A15: Victoriaville V: maintenant une grande AR (population 50 000+)
... A32: Publication d'avril 2024 : Les nombres désaisonnalisés annualisés de mises en chantier de logements pour Sudbury / Grand Sudbury pour les mois de janvier, février et mars 2024 (Tableau 12) ont fait l'objet d'une révision spéciale.

Sheet Table 1
A1: Tableau 1
A2: Données sur les mises en chantier d'habitations de 10 000 habitants et plus
A4: =Titles!A4 -> septembre 2025 - 2026
A5: Province | C5: Maisons individuelles | F5: Autres | I5: Total
C7: =Titles!A22 -> 2025 | D7: =Titles!A23 -> 2026 | E7: % | F7: =Titles!A22 -> 2025 | G7: =Titles!A23 -> 2026 | H7: % | I7: =Titles!A22 -> 2025 | J7: =Titles!A23 -> 2026 | K7: %
A8: T.-N.-L. | C8: 80 | D8: 63 | E8: =IF(C8=D8,"-",IF((C8=0),"##",IF(ABS((D8/C8-1)*100)>=200,"##",(D8/C8-1)*100))) -> -21.25 | F8: 35 | G8: 39 | H8: =IF(F8=G8,"-",IF((F8=0),"##",IF(ABS((G8/F8-1)*100)>=200,"##",(G8/F8-1)*100))) -> 11.428571 | I8: =C8+F8 -> 115 | J8: =D8+G8 -> 102 | K8: =IF(I8=J8,"-",IF((I8=0),"##",IF(ABS((J8/I8-1)*100)>=200,"##",(J8/I8-1)*100))) -> -11.304348
A9: Î.-P.-É. | C9: 37 | D9: 34 | E9: =IF(C9=D9,"-",IF((C9=0),"##",IF(ABS((D9/C9-1)*100)>=200,"##",(D9/C9-1)*100))) -> -8.1081081 | F9: 41 | G9: 123 | H9: =IF(F9=G9,"-",IF((F9=0),"##",IF(ABS((G9/F9-1)*100)>=200,"##",(G9/F9-1)*100))) -> ## | I9: =C9+F9 -> 78 | J9: =D9+G9 -> 157 | K9: =IF(I9=J9,"-",IF((I9=0),"##",IF(ABS((J9/I9-1)*100)>=200,"##",(J9/I9-1)*100))) -> 101.28205
A10: N.-É. | C10: 193 | D10: 109 | E10: =IF(C10=D10,"-",IF((C10=0),"##",IF(ABS((D10/C10-1)*100)>=200,"##",(D10/C10-1)*100))) -> -43.523316 | F10: 370 | G10: 386 | H10: =IF(F10=G10,"-",IF((F10=0),"##",IF(ABS((G10/F10-1)*100)>=200,"##",(G10/F10-1)*100))) -> 4.3243243 | I10: =C10+F10 -> 563 | J10: =D10+G10 -> 495 | K10: =IF(I10=J10,"-",IF((I10=0),"##",IF(ABS((J10/I10-1)*100)>=200,"##",(J10/I10-1)*100))) -> -12.078153
A11: N.-B. | C11: 112 | D11: 91 | E11: =IF(C11=D11,"-",IF((C11=0),"##",IF(ABS((D11/C11-1)*100)>=200,"##",(D11/C11-1)*100))) -> -18.75 | F11: 312 | G11: 960 | H11: =IF(F11=G11,"-",IF((F11=0),"##",IF(ABS((G11/F11-1)*100)>=200,"##",(G11/F11-1)*100))) -> ## | I11: =C11+F11 -> 424 | J11: =D11+G11 -> 1051 | K11: =IF(I11=J11,"-",IF((I11=0),"##",IF(ABS((J11/I11-1)*100)>=200,"##",(J11/I11-1)*100))) -> 147.87736
A12: Atlantique | C12: =SUM(C8:C11) -> 422 | D12: =SUM(D8:D11) -> 297 | E12: =IF(C12=D12,"-",IF((C12=0),"##",IF(ABS((D12/C12-1)*100)>=200,"##",(D12/C12-1)*100))) -> -29.620853 | F12: =SUM(F8:F11) -> 758 | G12: =SUM(G8:G11) -> 1508 | H12: =IF(F12=G12,"-",IF((F12=0),"##",IF(ABS((G12/F12-1)*100)>=200,"##",(G12/F12-1)*100))) -> 98.944591 | I12: =C12+F12 -> 1180 | J12: =D12+G12 -> 1805 | K12: =IF(I12=J12,"-",IF((I12=0),"##",IF(ABS((J12/I12-1)*100)>=200,"##",(J12/I12-1)*100))) -> 52.966102
A13: Qc | C13: 443 | D13: 438 | E13: =IF(C13=D13,"-",IF((C13=0),"##",IF(ABS((D13/C13-1)*100)>=200,"##",(D13/C13-1)*100))) -> -1.1286682 | F13: 4158 | G13: 3455 | H13: =IF(F13=G13,"-",IF((F13=0),"##",IF(ABS((G13/F13-1)*100)>=200,"##",(G13/F13-1)*100))) -> -16.907167 | I13: =C13+F13 -> 4601 | J13: =D13+G13 -> 3893 | K13: =IF(I13=J13,"-",IF((I13=0),"##",IF(ABS((J13/I13-1)*100)>=200,"##",(J13/I13-1)*100))) -> -15.387959
A14: Ont. | C14: 868 | D14: 1060 | E14: =IF(C14=D14,"-",IF((C14=0),"##",IF(ABS((D14/C14-1)*100)>=200,"##",(D14/C14-1)*100))) -> 22.119816 | F14: 6597 | G14: 2994 | H14: =IF(F14=G14,"-",IF((F14=0),"##",IF(ABS((G14/F14-1)*100)>=200,"##",(G14/F14-1)*100))) -> -54.615734 | I14: =C14+F14 -> 7465 | J14: =D14+G14 -> 4054 | K14: =IF(I14=J14,"-",IF((I14=0),"##",IF(ABS((J14/I14-1)*100)>=200,"##",(J14/I14-1)*100))) -> -45.693235
A15: Man. | C15: 200 | D15: 214 | E15: =IF(C15=D15,"-",IF((C15=0),"##",IF(ABS((D15/C15-1)*100)>=200,"##",(D15/C15-1)*100))) -> 7 | F15: 736 | G15: 662 | H15: =IF(F15=G15,"-",IF((F15=0),"##",IF(ABS((G15/F15-1)*100)>=200,"##",(G15/F15-1)*100))) -> -10.054348 | I15: =C15+F15 -> 936 | J15: =D15+G15 -> 876 | K15: =IF(I15=J15,"-",IF((I15=0),"##",IF(ABS((J15/I15-1)*100)>=200,"##",(J15/I15-1)*100))) -> -6.4102564
A16: Sask. | C16: 182 | D16: 171 | E16: =IF(C16=D16,"-",IF((C16=0),"##",IF(ABS((D16/C16-1)*100)>=200,"##",(D16/C16-1)*100))) -> -6.043956 | F16: 552 | G16: 245 | H16: =IF(F16=G16,"-",IF((F16=0),"##",IF(ABS((G16/F16-1)*100)>=200,"##",(G16/F16-1)*100))) -> -55.615942 | I16: =C16+F16 -> 734 | J16: =D16+G16 -> 416 | K16: =IF(I16=J16,"-",IF((I16=0),"##",IF(ABS((J16/I16-1)*100)>=200,"##",(J16/I16-1)*100))) -> -43.324251
A17: Alb. | C17: 1405 | D17: 1160 | E17: =IF(C17=D17,"-",IF((C17=0),"##",IF(ABS((D17/C17-1)*100)>=200,"##",(D17/C17-1)*100))) -> -17.437722 | F17: 3132 | G17: 3416 | H17: =IF(F17=G17,"-",IF((F17=0),"##",IF(ABS((G17/F17-1)*100)>=200,"##",(G17/F17-1)*100))) -> 9.0676884 | I17: =C17+F17 -> 4537 | J17: =D17+G17 -> 4576 | K17: =IF(I17=J17,"-",IF((I17=0),"##",IF(ABS((J17/I17-1)*100)>=200,"##",(J17/I17-1)*100))) -> 0.85959885
A18: Prairies | C18: =SUM(C15:C17) -> 1787 | D18: =SUM(D15:D17) -> 1545 | E18: =IF(C18=D18,"-",IF((C18=0),"##",IF(ABS((D18/C18-1)*100)>=200,"##",(D18/C18-1)*100))) -> -13.54225 | F18: =SUM(F15:F17) -> 4420 | G18: =SUM(G15:G17) -> 4323 | H18: =IF(F18=G18,"-",IF((F18=0),"##",IF(ABS((G18/F18-1)*100)>=200,"##",(G18/F18-1)*100))) -> -2.1945701 | I18: =C18+F18 -> 6207 | J18: =D18+G18 -> 5868 | K18: =IF(I18=J18,"-",IF((I18=0),"##",IF(ABS((J18/I18-1)*100)>=200,"##",(J18/I18-1)*100))) -> -5.4615756
A19: C.-B. | C19: 383 | D19: 328 | E19: =IF(C19=D19,"-",IF((C19=0),"##",IF(ABS((D19/C19-1)*100)>=200,"##",(D19/C19-1)*100))) -> -14.360313 | F19: 2539 | G19: 4036 | H19: =IF(F19=G19,"-",IF((F19=0),"##",IF(ABS((G19/F19-1)*100)>=200,"##",(G19/F19-1)*100))) -> 58.960221 | I19: =C19+F19 -> 2922 | J19: =D19+G19 -> 4364 | K19: =IF(I19=J19,"-",IF((I19=0),"##",IF(ABS((J19/I19-1)*100)>=200,"##",(J19/I19-1)*100))) -> 49.34976
A20: Canada | C20: =SUM(C12:C14,C18:C19) -> 3903 | D20: =SUM(D12:D14,D18:D19) -> 3668 | E20: =IF(C20=D20,"-",IF((C20=0),"##",IF(ABS((D20/C20-1)*100)>=200,"##",(D20/C20-1)*100))) -> -6.0210095 | F20: =SUM(F12:F14,F18:F19) -> 18472 | G20: =SUM(G12:G14,G18:G19) -> 16316 | H20: =IF(F20=G20,"-",IF((F20=0),"##",IF(ABS((G20/F20-1)*100)>=200,"##",(G20/F20-1)*100))) -> -11.671719 | I20: =C20+F20 -> 22375 | J20: =D20+G20 -> 19984 | K20: =IF(I20=J20,"-",IF((I20=0),"##",IF(ABS((J20/I20-1)*100)>=200,"##",(J20/I20-1)*100))) -> -10.686034
A21: Régions métropolitaines
A23: Abbotsford-Mission | C23: 9 | D23: 14 | E23: =IF(C23=D23,"-",IF((C23=0),"##",IF(ABS((D23/C23-1)*100)>=200,"##",(D23/C23-1)*100))) -> 55.555556 | F23: 226 | G23: 78 | H23: =IF(F23=G23,"-",IF((F23=0),"##",IF(ABS((G23/F23-1)*100)>=200,"##",(G23/F23-1)*100))) -> -65.486726 | I23: =C23+F23 -> 235 | J23: =D23+G23 -> 92 | K23: =IF(I23=J23,"-",IF((I23=0),"##",IF(ABS((J23/I23-1)*100)>=200,"##",(J23/I23-1)*100))) -> -60.851064
A24: Barrie | C24: 27 | D24: 14 | E24: =IF(C24=D24,"-",IF((C24=0),"##",IF(ABS((D24/C24-1)*100)>=200,"##",(D24/C24-1)*100))) -> -48.148148 | F24: 9 | G24: 13 | H24: =IF(F24=G24,"-",IF((F24=0),"##",IF(ABS((G24/F24-1)*100)>=200,"##",(G24/F24-1)*100))) -> 44.444444 | I24: =C24+F24 -> 36 | J24: =D24+G24 -> 27 | K24: =IF(I24=J24,"-",IF((I24=0),"##",IF(ABS((J24/I24-1)*100)>=200,"##",(J24/I24-1)*100))) -> -25
A25: Belleville - Quinte West | C25: 13 | D25: 13 | E25: =IF(C25=D25,"-",IF((C25=0),"##",IF(ABS((D25/C25-1)*100)>=200,"##",(D25/C25-1)*100))) -> - | F25: 78 | G25: 0 | H25: =IF(F25=G25,"-",IF((F25=0),"##",IF(ABS((G25/F25-1)*100)>=200,"##",(G25/F25-1)*100))) -> -100 | I25: =C25+F25 -> 91 | J25: =D25+G25 -> 13 | K25: =IF(I25=J25,"-",IF((I25=0),"##",IF(ABS((J25/I25-1)*100)>=200,"##",(J25/I25-1)*100))) -> -85.714286
A26: Brantford | C26: 12 | D26: 9 | E26: =IF(C26=D26,"-",IF((C26=0),"##",IF(ABS((D26/C26-1)*100)>=200,"##",(D26/C26-1)*100))) -> -25 | F26: 68 | G26: 54 | H26: =IF(F26=G26,"-",IF((F26=0),"##",IF(ABS((G26/F26-1)*100)>=200,"##",(G26/F26-1)*100))) -> -20.588235 | I26: =C26+F26 -> 80 | J26: =D26+G26 -> 63 | K26: =IF(I26=J26,"-",IF((I26=0),"##",IF(ABS((J26/I26-1)*100)>=200,"##",(J26/I26-1)*100))) -> -21.25
A27: Calgary | C27: 635 | D27: 384 | E27: =IF(C27=D27,"-",IF((C27=0),"##",IF(ABS((D27/C27-1)*100)>=200,"##",(D27/C27-1)*100))) -> -39.527559 | F27: 1626 | G27: 2151 | H27: =IF(F27=G27,"-",IF((F27=0),"##",IF(ABS((G27/F27-1)*100)>=200,"##",(G27/F27-1)*100))) -> 32.287823 | I27: =C27+F27 -> 2261 | J27: =D27+G27 -> 2535 | K27: =IF(I27=J27,"-",IF((I27=0),"##",IF(ABS((J27/I27-1)*100)>=200,"##",(J27/I27-1)*100))) -> 12.118532
A28: Chilliwack | C28: 13 | D28: 10 | E28: =IF(C28=D28,"-",IF((C28=0),"##",IF(ABS((D28/C28-1)*100)>=200,"##",(D28/C28-1)*100))) -> -23.076923 | F28: 93 | G28: 119 | H28: =IF(F28=G28,"-",IF((F28=0),"##",IF(ABS((G28/F28-1)*100)>=200,"##",(G28/F28-1)*100))) -> 27.956989 | I28: =C28+F28 -> 106 | J28: =D28+G28 -> 129 | K28: =IF(I28=J28,"-",IF((I28=0),"##",IF(ABS((J28/I28-1)*100)>=200,"##",(J28/I28-1)*100))) -> 21.698113
A29: Drummondville | C29: 12 | D29: 16 | E29: =IF(C29=D29,"-",IF((C29=0),"##",IF(ABS((D29/C29-1)*100)>=200,"##",(D29/C29-1)*100))) -> 33.333333 | F29: 130 | G29: 27 | H29: =IF(F29=G29,"-",IF((F29=0),"##",IF(ABS((G29/F29-1)*100)>=200,"##",(G29/F29-1)*100))) -> -79.230769 | I29: =C29+F29 -> 142 | J29: =D29+G29 -> 43 | K29: =IF(I29=J29,"-",IF((I29=0),"##",IF(ABS((J29/I29-1)*100)>=200,"##",(J29/I29-1)*100))) -> -69.71831
A30: Edmonton | C30: 547 | D30: 600 | E30: =IF(C30=D30,"-",IF((C30=0),"##",IF(ABS((D30/C30-1)*100)>=200,"##",(D30/C30-1)*100))) -> 9.6892139 | F30: 1236 | G30: 948 | H30: =IF(F30=G30,"-",IF((F30=0),"##",IF(ABS((G30/F30-1)*100)>=200,"##",(G30/F30-1)*100))) -> -23.300971 | I30: =C30+F30 -> 1783 | J30: =D30+G30 -> 1548 | K30: =IF(I30=J30,"-",IF((I30=0),"##",IF(ABS((J30/I30-1)*100)>=200,"##",(J30/I30-1)*100))) -> -13.180034
A31: Fredericton | C31: 35 | D31: 29 | E31: =IF(C31=D31,"-",IF((C31=0),"##",IF(ABS((D31/C31-1)*100)>=200,"##",(D31/C31-1)*100))) -> -17.142857 | F31: 32 | G31: 292 | H31: =IF(F31=G31,"-",IF((F31=0),"##",IF(ABS((G31/F31-1)*100)>=200,"##",(G31/F31-1)*100))) -> ## | I31: =C31+F31 -> 67 | J31: =D31+G31 -> 321 | K31: =IF(I31=J31,"-",IF((I31=0),"##",IF(ABS((J31/I31-1)*100)>=200,"##",(J31/I31-1)*100))) -> ##
A32: Greater/Grand Sudbury | C32: 6 | D32: 18 | E32: =IF(C32=D32,"-",IF((C32=0),"##",IF(ABS((D32/C32-1)*100)>=200,"##",(D32/C32-1)*100))) -> ## | F32: 2 | G32: 44 | H32: =IF(F32=G32,"-",IF((F32=0),"##",IF(ABS((G32/F32-1)*100)>=200,"##",(G32/F32-1)*100))) -> ## | I32: =C32+F32 -> 8 | J32: =D32+G32 -> 62 | K32: =IF(I32=J32,"-",IF((I32=0),"##",IF(ABS((J32/I32-1)*100)>=200,"##",(J32/I32-1)*100))) -> ##
A33: Guelph | C33: 2 | D33: 1 | E33: =IF(C33=D33,"-",IF((C33=0),"##",IF(ABS((D33/C33-1)*100)>=200,"##",(D33/C33-1)*100))) -> -50 | F33: 40 | G33: 98 | H33: =IF(F33=G33,"-",IF((F33=0),"##",IF(ABS((G33/F33-1)*100)>=200,"##",(G33/F33-1)*100))) -> 145 | I33: =C33+F33 -> 42 | J33: =D33+G33 -> 99 | K33: =IF(I33=J33,"-",IF((I33=0),"##",IF(ABS((J33/I33-1)*100)>=200,"##",(J33/I33-1)*100))) -> 135.71429
A34: Halifax | C34: 85 | D34: 40 | E34: =IF(C34=D34,"-",IF((C34=0),"##",IF(ABS((D34/C34-1)*100)>=200,"##",(D34/C34-1)*100))) -> -52.941176 | F34: 290 | G34: 348 | H34: =IF(F34=G34,"-",IF((F34=0),"##",IF(ABS((G34/F34-1)*100)>=200,"##",(G34/F34-1)*100))) -> 20 | I34: =C34+F34 -> 375 | J34: =D34+G34 -> 388 | K34: =IF(I34=J34,"-",IF((I34=0),"##",IF(ABS((J34/I34-1)*100)>=200,"##",(J34/I34-1)*100))) -> 3.4666667
... A45: Oshawa | C45: 43 | D45: 39 | E45: =IF(C45=D45,"-",IF((C45=0),"##",IF(ABS((D45/C45-1)*100)>=200,"##",(D45/C45-1)*100))) -> -9.3023256 | F45: 56 | G45: 37 | H45: =IF(F45=G45,"-",IF((F45=0),"##",IF(ABS((G45/F45-1)*100)>=200,"##",(G45/F45-1)*100))) -> -33.928571 | I45: =C45+F45 -> 99 | J45: =D45+G45 -> 76 | K45: =IF(I45=J45,"-",IF((I45=0),"##",IF(ABS((J45/I45-1)*100)>=200,"##",(J45/I45-1)*100))) -> -23.232323
A46: Ottawa-Gatineau | C46: =SUM(C47:C48) -> 115 | D46: =SUM(D47:D48) -> 266 | E46: =IF(C46=D46,"-",IF((C46=0),"##",IF(ABS((D46/C46-1)*100)>=200,"##",(D46/C46-1)*100))) -> 131.30435 | F46: =SUM(F47:F48) -> 421 | G46: =SUM(G47:G48) -> 713 | H46: =IF(F46=G46,"-",IF((F46=0),"##",IF(ABS((G46/F46-1)*100)>=200,"##",(G46/F46-1)*100))) -> 69.35867 | I46: =C46+F46 -> 536 | J46: =D46+G46 -> 979 | K46: =IF(I46=J46,"-",IF((I46=0),"##",IF(ABS((J46/I46-1)*100)>=200,"##",(J46/I46-1)*100))) -> 82.649254
A47: Gatineau | C47: 22 | D47: 26 | E47: =IF(C47=D47,"-",IF((C47=0),"##",IF(ABS((D47/C47-1)*100)>=200,"##",(D47/C47-1)*100))) -> 18.181818 | F47: 40 | G47: 39 | H47: =IF(F47=G47,"-",IF((F47=0),"##",IF(ABS((G47/F47-1)*100)>=200,"##",(G47/F47-1)*100))) -> -2.5 | I47: =C47+F47 -> 62 | J47: =D47+G47 -> 65 | K47: =IF(I47=J47,"-",IF((I47=0),"##",IF(ABS((J47/I47-1)*100)>=200,"##",(J47/I47-1)*100))) -> 4.8387097
A48: Ottawa | C48: 93 | D48: 240 | E48: =IF(C48=D48,"-",IF((C48=0),"##",IF(ABS((D48/C48-1)*100)>=200,"##",(D48/C48-1)*100))) -> 158.06452 | F48: 381 | G48: 674 | H48: =IF(F48=G48,"-",IF((F48=0),"##",IF(ABS((G48/F48-1)*100)>=200,"##",(G48/F48-1)*100))) -> 76.902887 | I48: =C48+F48 -> 474 | J48: =D48+G48 -> 914 | K48: =IF(I48=J48,"-",IF((I48=0),"##",IF(ABS((J48/I48-1)*100)>=200,"##",(J48/I48-1)*100))) -> 92.827004
A49: Peterborough | C49: 7 | D49: 4 | E49: =IF(C49=D49,"-",IF((C49=0),"##",IF(ABS((D49/C49-1)*100)>=200,"##",(D49/C49-1)*100))) -> -42.857143 | F49: 0 | G49: 73 | H49: =IF(F49=G49,"-",IF((F49=0),"##",IF(ABS((G49/F49-1)*100)>=200,"##",(G49/F49-1)*100))) -> ## | I49: =C49+F49 -> 7 | J49: =D49+G49 -> 77 | K49: =IF(I49=J49,"-",IF((I49=0),"##",IF(ABS((J49/I49-1)*100)>=200,"##",(J49/I49-1)*100))) -> ##
A50: Québec | C50: 72 | D50: 79 | E50: =IF(C50=D50,"-",IF((C50=0),"##",IF(ABS((D50/C50-1)*100)>=200,"##",(D50/C50-1)*100))) -> 9.7222222 | F50: 634 | G50: 1306 | H50: =IF(F50=G50,"-",IF((F50=0),"##",IF(ABS((G50/F50-1)*100)>=200,"##",(G50/F50-1)*100))) -> 105.99369 | I50: =C50+F50 -> 706 | J50: =D50+G50 -> 1385 | K50: =IF(I50=J50,"-",IF((I50=0),"##",IF(ABS((J50/I50-1)*100)>=200,"##",(J50/I50-1)*100))) -> 96.175637
A51: Red Deer | C51: 7 | D51: 9 | E51: =IF(C51=D51,"-",IF((C51=0),"##",IF(ABS((D51/C51-1)*100)>=200,"##",(D51/C51-1)*100))) -> 28.571429 | F51: 9 | G51: 10 | H51: =IF(F51=G51,"-",IF((F51=0),"##",IF(ABS((G51/F51-1)*100)>=200,"##",(G51/F51-1)*100))) -> 11.111111 | I51: =C51+F51 -> 16 | J51: =D51+G51 -> 19 | K51: =IF(I51=J51,"-",IF((I51=0),"##",IF(ABS((J51/I51-1)*100)>=200,"##",(J51/I51-1)*100))) -> 18.75
A52: Regina | C52: 49 | D52: 30 | E52: =IF(C52=D52,"-",IF((C52=0),"##",IF(ABS((D52/C52-1)*100)>=200,"##",(D52/C52-1)*100))) -> -38.77551 | F52: 263 | G52: 38 | H52: =IF(F52=G52,"-",IF((F52=0),"##",IF(ABS((G52/F52-1)*100)>=200,"##",(G52/F52-1)*100))) -> -85.551331 | I52: =C52+F52 -> 312 | J52: =D52+G52 -> 68 | K52: =IF(I52=J52,"-",IF((I52=0),"##",IF(ABS((J52/I52-1)*100)>=200,"##",(J52/I52-1)*100))) -> -78.205128
A53: Saguenay | C53: 16 | D53: 11 | E53: =IF(C53=D53,"-",IF((C53=0),"##",IF(ABS((D53/C53-1)*100)>=200,"##",(D53/C53-1)*100))) -> -31.25 | F53: 56 | G53: 117 | H53: =IF(F53=G53,"-",IF((F53=0),"##",IF(ABS((G53/F53-1)*100)>=200,"##",(G53/F53-1)*100))) -> 108.92857 | I53: =C53+F53 -> 72 | J53: =D53+G53 -> 128 | K53: =IF(I53=J53,"-",IF((I53=0),"##",IF(ABS((J53/I53-1)*100)>=200,"##",(J53/I53-1)*100))) -> 77.777778
A54: St. Catharines-Niagara | C54: 18 | D54: 51 | E54: =IF(C54=D54,"-",IF((C54=0),"##",IF(ABS((D54/C54-1)*100)>=200,"##",(D54/C54-1)*100))) -> 183.33333 | F54: 19 | G54: 126 | H54: =IF(F54=G54,"-",IF((F54=0),"##",IF(ABS((G54/F54-1)*100)>=200,"##",(G54/F54-1)*100))) -> ## | I54: =C54+F54 -> 37 | J54: =D54+G54 -> 177 | K54: =IF(I54=J54,"-",IF((I54=0),"##",IF(ABS((J54/I54-1)*100)>=200,"##",(J54/I54-1)*100))) -> ##
A55: Saint John | C55: 31 | D55: 18 | E55: =IF(C55=D55,"-",IF((C55=0),"##",IF(ABS((D55/C55-1)*100)>=200,"##",(D55/C55-1)*100))) -> -41.935484 | F55: 72 | G55: 52 | H55: =IF(F55=G55,"-",IF((F55=0),"##",IF(ABS((G55/F55-1)*100)>=200,"##",(G55/F55-1)*100))) -> -27.777778 | I55: =C55+F55 -> 103 | J55: =D55+G55 -> 70 | K55: =IF(I55=J55,"-",IF((I55=0),"##",IF(ABS((J55/I55-1)*100)>=200,"##",(J55/I55-1)*100))) -> -32.038835
A56: St. John's | C56: 76 | D56: 47 | E56: =IF(C56=D56,"-",IF((C56=0),"##",IF(ABS((D56/C56-1)*100)>=200,"##",(D56/C56-1)*100))) -> -38.157895 | F56: 34 | G56: 27 | H56: =IF(F56=G56,"-",IF((F56=0),"##",IF(ABS((G56/F56-1)*100)>=200,"##",(G56/F56-1)*100))) -> -20.588235 | I56: =C56+F56 -> 110 | J56: =D56+G56 -> 74 | K56: =IF(I56=J56,"-",IF((I56=0),"##",IF(ABS((J56/I56-1)*100)>=200,"##",(J56/I56-1)*100))) -> -32.727273
A57: Saskatoon | C57: 127 | D57: 135 | E57: =IF(C57=D57,"-",IF((C57=0),"##",IF(ABS((D57/C57-1)*100)>=200,"##",(D57/C57-1)*100))) -> 6.2992126 | F57: 289 | G57: 195 | H57: =IF(F57=G57,"-",IF((F57=0),"##",IF(ABS((G57/F57-1)*100)>=200,"##",(G57/F57-1)*100))) -> -32.525952 | I57: =C57+F57 -> 416 | J57: =D57+G57 -> 330 | K57: =IF(I57=J57,"-",IF((I57=0),"##",IF(ABS((J57/I57-1)*100)>=200,"##",(J57/I57-1)*100))) -> -20.673077
A58: Sherbrooke | C58: 18 | D58: 23 | E58: =IF(C58=D58,"-",IF((C58=0),"##",IF(ABS((D58/C58-1)*100)>=200,"##",(D58/C58-1)*100))) -> 27.777778 | F58: 222 | G58: 94 | H58: =IF(F58=G58,"-",IF((F58=0),"##",IF(ABS((G58/F58-1)*100)>=200,"##",(G58/F58-1)*100))) -> -57.657658 | I58: =C58+F58 -> 240 | J58: =D58+G58 -> 117 | K58: =IF(I58=J58,"-",IF((I58=0),"##",IF(ABS((J58/I58-1)*100)>=200,"##",(J58/I58-1)*100))) -> -51.25
... A65: Winnipeg | C65: 164 | D65: 176 | E65: =IF(C65=D65,"-",IF((C65=0),"##",IF(ABS((D65/C65-1)*100)>=200,"##",(D65/C65-1)*100))) -> 7.3170732 | F65: 650 | G65: 631 | H65: =IF(F65=G65,"-",IF((F65=0),"##",IF(ABS((G65/F65-1)*100)>=200,"##",(G65/F65-1)*100))) -> -2.9230769 | I65: =C65+F65 -> 814 | J65: =D65+G65 -> 807 | K65: =IF(I65=J65,"-",IF((I65=0),"##",IF(ABS((J65/I65-1)*100)>=200,"##",(J65/I65-1)*100))) -> -0.85995086
A66: Total | C66: =SUM(C23:C46,C49:C65) -> 3122 | D66: =SUM(D23:D46,D49:D65) -> 2887 | E66: =IF(C66=D66,"-",IF((C66=0),"##",IF(ABS((D66/C66-1)*100)>=200,"##",(D66/C66-1)*100))) -> -7.5272261 | F66: =SUM(F23:F46,F49:F65) -> 17063 | G66: =SUM(G23:G46,G49:G65) -> 14426 | H66: =IF(F66=G66,"-",IF((F66=0),"##",IF(ABS((G66/F66-1)*100)>=200,"##",(G66/F66-1)*100))) -> -15.454492 | I66: =C66+F66 -> 20185 | J66: =D66+G66 -> 17313 | K66: =IF(I66=J66,"-",IF((I66=0),"##",IF(ABS((J66/I66-1)*100)>=200,"##",(J66/I66-1)*100))) -> -14.228387
A67: =Titles!$A$8 -> Données de 2024, 2025 et 2026 fondées sur les définitions du recensement de 2021.
A68: =Titles!$A$10 -> Source : Enquête sur les mises en chantier et les achèvements et Enquête sur les logements écoulés de la SCHL

Sheet Table 2
A1: Tableau 2
A2: Données sur les mises en chantier d'habitations de 10 000 habitants et plus
A4: =Titles!A5 -> janvier - septembre 2025 - 2026
A5: Province | C5: Maisons individuelles | F5: Autres | I5: Total
C7: =Titles!A22 -> 2025 | D7: =Titles!A23 -> 2026 | E7: % | F7: =Titles!A22 -> 2025 | G7: =Titles!A23 -> 2026 | H7: % | I7: =Titles!A22 -> 2025 | J7: =Titles!A23 -> 2026 | K7: %
A8: T.-N.-L. | C8: 510 | D8: 515 | E8: =IF(C8=D8,"-",IF((C8=0),"##",IF(ABS((D8/C8-1)*100)>=200,"##",(D8/C8-1)*100))) -> 0.98039216 | F8: 280 | G8: 508 | H8: =IF(F8=G8,"-",IF((F8=0),"##",IF(ABS((G8/F8-1)*100)>=200,"##",(G8/F8-1)*100))) -> 81.428571 | I8: =C8+F8 -> 790 | J8: =D8+G8 -> 1023 | K8: =IF(I8=J8,"-",IF((I8=0),"##",IF(ABS((J8/I8-1)*100)>=200,"##",(J8/I8-1)*100))) -> 29.493671
A9: Î.-P.-É. | C9: 242 | D9: 199 | E9: =IF(C9=D9,"-",IF((C9=0),"##",IF(ABS((D9/C9-1)*100)>=200,"##",(D9/C9-1)*100))) -> -17.768595 | F9: 840 | G9: 956 | H9: =IF(F9=G9,"-",IF((F9=0),"##",IF(ABS((G9/F9-1)*100)>=200,"##",(G9/F9-1)*100))) -> 13.809524 | I9: =C9+F9 -> 1082 | J9: =D9+G9 -> 1155 | K9: =IF(I9=J9,"-",IF((I9=0),"##",IF(ABS((J9/I9-1)*100)>=200,"##",(J9/I9-1)*100))) -> 6.7467652
A10: N.-É. | C10: 1220 | D10: 939 | E10: =IF(C10=D10,"-",IF((C10=0),"##",IF(ABS((D10/C10-1)*100)>=200,"##",(D10/C10-1)*100))) -> -23.032787 | F10: 5326 | G10: 3632 | H10: =IF(F10=G10,"-",IF((F10=0),"##",IF(ABS((G10/F10-1)*100)>=200,"##",(G10/F10-1)*100))) -> -31.806234 | I10: =C10+F10 -> 6546 | J10: =D10+G10 -> 4571 | K10: =IF(I10=J10,"-",IF((I10=0),"##",IF(ABS((J10/I10-1)*100)>=200,"##",(J10/I10-1)*100))) -> -30.171097
A11: N.-B. | C11: 701 | D11: 663 | E11: =IF(C11=D11,"-",IF((C11=0),"##",IF(ABS((D11/C11-1)*100)>=200,"##",(D11/C11-1)*100))) -> -5.4208274 | F11: 3196 | G11: 3492 | H11: =IF(F11=G11,"-",IF((F11=0),"##",IF(ABS((G11/F11-1)*100)>=200,"##",(G11/F11-1)*100))) -> 9.261577 | I11: =C11+F11 -> 3897 | J11: =D11+G11 -> 4155 | K11: =IF(I11=J11,"-",IF((I11=0),"##",IF(ABS((J11/I11-1)*100)>=200,"##",(J11/I11-1)*100))) -> 6.6204773
A12: Atlantique | C12: =SUM(C8:C11) -> 2673 | D12: =SUM(D8:D11) -> 2316 | E12: =IF(C12=D12,"-",IF((C12=0),"##",IF(ABS((D12/C12-1)*100)>=200,"##",(D12/C12-1)*100))) -> -13.35578 | F12: =SUM(F8:F11) -> 9642 | G12: =SUM(G8:G11) -> 8588 | H12: =IF(F12=G12,"-",IF((F12=0),"##",IF(ABS((G12/F12-1)*100)>=200,"##",(G12/F12-1)*100))) -> -10.931342 | I12: =C12+F12 -> 12315 | J12: =D12+G12 -> 10904 | K12: =IF(I12=J12,"-",IF((I12=0),"##",IF(ABS((J12/I12-1)*100)>=200,"##",(J12/I12-1)*100))) -> -11.457572
A13: Qc | C13: 3477 | D13: 3767 | E13: =IF(C13=D13,"-",IF((C13=0),"##",IF(ABS((D13/C13-1)*100)>=200,"##",(D13/C13-1)*100))) -> 8.3405234 | F13: 34305 | G13: 35304 | H13: =IF(F13=G13,"-",IF((F13=0),"##",IF(ABS((G13/F13-1)*100)>=200,"##",(G13/F13-1)*100))) -> 2.9121119 | I13: =C13+F13 -> 37782 | J13: =D13+G13 -> 39071 | K13: =IF(I13=J13,"-",IF((I13=0),"##",IF(ABS((J13/I13-1)*100)>=200,"##",(J13/I13-1)*100))) -> 3.4116775
A14: Ont. | C14: 7195 | D14: 7280 | E14: =IF(C14=D14,"-",IF((C14=0),"##",IF(ABS((D14/C14-1)*100)>=200,"##",(D14/C14-1)*100))) -> 1.181376 | F14: 38916 | G14: 36714 | H14: =IF(F14=G14,"-",IF((F14=0),"##",IF(ABS((G14/F14-1)*100)>=200,"##",(G14/F14-1)*100))) -> -5.658341 | I14: =C14+F14 -> 46111 | J14: =D14+G14 -> 43994 | K14: =IF(I14=J14,"-",IF((I14=0),"##",IF(ABS((J14/I14-1)*100)>=200,"##",(J14/I14-1)*100))) -> -4.5910954
A15: Man. | C15: 1711 | D15: 1651 | E15: =IF(C15=D15,"-",IF((C15=0),"##",IF(ABS((D15/C15-1)*100)>=200,"##",(D15/C15-1)*100))) -> -3.5067212 | F15: 3506 | G15: 4420 | H15: =IF(F15=G15,"-",IF((F15=0),"##",IF(ABS((G15/F15-1)*100)>=200,"##",(G15/F15-1)*100))) -> 26.069595 | I15: =C15+F15 -> 5217 | J15: =D15+G15 -> 6071 | K15: =IF(I15=J15,"-",IF((I15=0),"##",IF(ABS((J15/I15-1)*100)>=200,"##",(J15/I15-1)*100))) -> 16.369561
A16: Sask. | C16: 1266 | D16: 1326 | E16: =IF(C16=D16,"-",IF((C16=0),"##",IF(ABS((D16/C16-1)*100)>=200,"##",(D16/C16-1)*100))) -> 4.7393365 | F16: 3042 | G16: 3047 | H16: =IF(F16=G16,"-",IF((F16=0),"##",IF(ABS((G16/F16-1)*100)>=200,"##",(G16/F16-1)*100))) -> 0.16436555 | I16: =C16+F16 -> 4308 | J16: =D16+G16 -> 4373 | K16: =IF(I16=J16,"-",IF((I16=0),"##",IF(ABS((J16/I16-1)*100)>=200,"##",(J16/I16-1)*100))) -> 1.5088208
A17: Alb. | C17: 11911 | D17: 10252 | E17: =IF(C17=D17,"-",IF((C17=0),"##",IF(ABS((D17/C17-1)*100)>=200,"##",(D17/C17-1)*100))) -> -13.928302 | F17: 28803 | G17: 25308 | H17: =IF(F17=G17,"-",IF((F17=0),"##",IF(ABS((G17/F17-1)*100)>=200,"##",(G17/F17-1)*100))) -> -12.134153 | I17: =C17+F17 -> 40714 | J17: =D17+G17 -> 35560 | K17: =IF(I17=J17,"-",IF((I17=0),"##",IF(ABS((J17/I17-1)*100)>=200,"##",(J17/I17-1)*100))) -> -12.659036
A18: Prairies | C18: =SUM(C15:C17) -> 14888 | D18: =SUM(D15:D17) -> 13229 | E18: =IF(C18=D18,"-",IF((C18=0),"##",IF(ABS((D18/C18-1)*100)>=200,"##",(D18/C18-1)*100))) -> -11.143203 | F18: =SUM(F15:F17) -> 35351 | G18: =SUM(G15:G17) -> 32775 | H18: =IF(F18=G18,"-",IF((F18=0),"##",IF(ABS((G18/F18-1)*100)>=200,"##",(G18/F18-1)*100))) -> -7.2869226 | I18: =C18+F18 -> 50239 | J18: =D18+G18 -> 46004 | K18: =IF(I18=J18,"-",IF((I18=0),"##",IF(ABS((J18/I18-1)*100)>=200,"##",(J18/I18-1)*100))) -> -8.429706
A19: C.-B. | C19: 2999 | D19: 2722 | E19: =IF(C19=D19,"-",IF((C19=0),"##",IF(ABS((D19/C19-1)*100)>=200,"##",(D19/C19-1)*100))) -> -9.2364121 | F19: 28587 | G19: 28269 | H19: =IF(F19=G19,"-",IF((F19=0),"##",IF(ABS((G19/F19-1)*100)>=200,"##",(G19/F19-1)*100))) -> -1.1123937 | I19: =C19+F19 -> 31586 | J19: =D19+G19 -> 30991 | K19: =IF(I19=J19,"-",IF((I19=0),"##",IF(ABS((J19/I19-1)*100)>=200,"##",(J19/I19-1)*100))) -> -1.883746
A20: Canada | C20: =SUM(C12:C14,C18:C19) -> 31232 | D20: =SUM(D12:D14,D18:D19) -> 29314 | E20: =IF(C20=D20,"-",IF((C20=0),"##",IF(ABS((D20/C20-1)*100)>=200,"##",(D20/C20-1)*100))) -> -6.1411373 | F20: =SUM(F12:F14,F18:F19) -> 146801 | G20: =SUM(G12:G14,G18:G19) -> 141650 | H20: =IF(F20=G20,"-",IF((F20=0),"##",IF(ABS((G20/F20-1)*100)>=200,"##",(G20/F20-1)*100))) -> -3.5088317 | I20: =C20+F20 -> 178033 | J20: =D20+G20 -> 170964 | K20: =IF(I20=J20,"-",IF((I20=0),"##",IF(ABS((J20/I20-1)*100)>=200,"##",(J20/I20-1)*100))) -> -3.9706122
A21: Régions métropolitaines
A23: Abbotsford-Mission | C23: 127 | D23: 86 | E23: =IF(C23=D23,"-",IF((C23=0),"##",IF(ABS((D23/C23-1)*100)>=200,"##",(D23/C23-1)*100))) -> -32.283465 | F23: 1685 | G23: 830 | H23: =IF(F23=G23,"-",IF((F23=0),"##",IF(ABS((G23/F23-1)*100)>=200,"##",(G23/F23-1)*100))) -> -50.74184 | I23: =C23+F23 -> 1812 | J23: =D23+G23 -> 916 | K23: =IF(I23=J23,"-",IF((I23=0),"##",IF(ABS((J23/I23-1)*100)>=200,"##",(J23/I23-1)*100))) -> -49.448124
A24: Barrie | C24: 129 | D24: 178 | E24: =IF(C24=D24,"-",IF((C24=0),"##",IF(ABS((D24/C24-1)*100)>=200,"##",(D24/C24-1)*100))) -> 37.984496 | F24: 499 | G24: 513 | H24: =IF(F24=G24,"-",IF((F24=0),"##",IF(ABS((G24/F24-1)*100)>=200,"##",(G24/F24-1)*100))) -> 2.8056112 | I24: =C24+F24 -> 628 | J24: =D24+G24 -> 691 | K24: =IF(I24=J24,"-",IF((I24=0),"##",IF(ABS((J24/I24-1)*100)>=200,"##",(J24/I24-1)*100))) -> 10.031847
A25: Belleville - Quinte West | C25: 118 | D25: 114 | E25: =IF(C25=D25,"-",IF((C25=0),"##",IF(ABS((D25/C25-1)*100)>=200,"##",(D25/C25-1)*100))) -> -3.3898305 | F25: 350 | G25: 90 | H25: =IF(F25=G25,"-",IF((F25=0),"##",IF(ABS((G25/F25-1)*100)>=200,"##",(G25/F25-1)*100))) -> -74.285714 | I25: =C25+F25 -> 468 | J25: =D25+G25 -> 204 | K25: =IF(I25=J25,"-",IF((I25=0),"##",IF(ABS((J25/I25-1)*100)>=200,"##",(J25/I25-1)*100))) -> -56.410256
A26: Brantford | C26: 222 | D26: 166 | E26: =IF(C26=D26,"-",IF((C26=0),"##",IF(ABS((D26/C26-1)*100)>=200,"##",(D26/C26-1)*100))) -> -25.225225 | F26: 1298 | G26: 638 | H26: =IF(F26=G26,"-",IF((F26=0),"##",IF(ABS((G26/F26-1)*100)>=200,"##",(G26/F26-1)*100))) -> -50.847458 | I26: =C26+F26 -> 1520 | J26: =D26+G26 -> 804 | K26: =IF(I26=J26,"-",IF((I26=0),"##",IF(ABS((J26/I26-1)*100)>=200,"##",(J26/I26-1)*100))) -> -47.105263
A27: Calgary | C27: 5231 | D27: 4365 | E27: =IF(C27=D27,"-",IF((C27=0),"##",IF(ABS((D27/C27-1)*100)>=200,"##",(D27/C27-1)*100))) -> -16.555152 | F27: 15662 | G27: 13247 | H27: =IF(F27=G27,"-",IF((F27=0),"##",IF(ABS((G27/F27-1)*100)>=200,"##",(G27/F27-1)*100))) -> -15.419487 | I27: =C27+F27 -> 20893 | J27: =D27+G27 -> 17612 | K27: =IF(I27=J27,"-",IF((I27=0),"##",IF(ABS((J27/I27-1)*100)>=200,"##",(J27/I27-1)*100))) -> -15.703824
A28: Chilliwack | C28: 99 | D28: 83 | E28: =IF(C28=D28,"-",IF((C28=0),"##",IF(ABS((D28/C28-1)*100)>=200,"##",(D28/C28-1)*100))) -> -16.161616 | F28: 362 | G28: 549 | H28: =IF(F28=G28,"-",IF((F28=0),"##",IF(ABS((G28/F28-1)*100)>=200,"##",(G28/F28-1)*100))) -> 51.657459 | I28: =C28+F28 -> 461 | J28: =D28+G28 -> 632 | K28: =IF(I28=J28,"-",IF((I28=0),"##",IF(ABS((J28/I28-1)*100)>=200,"##",(J28/I28-1)*100))) -> 37.093275
A29: Drummondville | C29: 166 | D29: 162 | E29: =IF(C29=D29,"-",IF((C29=0),"##",IF(ABS((D29/C29-1)*100)>=200,"##",(D29/C29-1)*100))) -> -2.4096386 | F29: 775 | G29: 689 | H29: =IF(F29=G29,"-",IF((F29=0),"##",IF(ABS((G29/F29-1)*100)>=200,"##",(G29/F29-1)*100))) -> -11.096774 | I29: =C29+F29 -> 941 | J29: =D29+G29 -> 851 | K29: =IF(I29=J29,"-",IF((I29=0),"##",IF(ABS((J29/I29-1)*100)>=200,"##",(J29/I29-1)*100))) -> -9.5642933
A30: Edmonton | C30: 5279 | D30: 4541 | E30: =IF(C30=D30,"-",IF((C30=0),"##",IF(ABS((D30/C30-1)*100)>=200,"##",(D30/C30-1)*100))) -> -13.97992 | F30: 11205 | G30: 9661 | H30: =IF(F30=G30,"-",IF((F30=0),"##",IF(ABS((G30/F30-1)*100)>=200,"##",(G30/F30-1)*100))) -> -13.779563 | I30: =C30+F30 -> 16484 | J30: =D30+G30 -> 14202 | K30: =IF(I30=J30,"-",IF((I30=0),"##",IF(ABS((J30/I30-1)*100)>=200,"##",(J30/I30-1)*100))) -> -13.843727
A31: Fredericton | C31: 199 | D31: 227 | E31: =IF(C31=D31,"-",IF((C31=0),"##",IF(ABS((D31/C31-1)*100)>=200,"##",(D31/C31-1)*100))) -> 14.070352 | F31: 702 | G31: 931 | H31: =IF(F31=G31,"-",IF((F31=0),"##",IF(ABS((G31/F31-1)*100)>=200,"##",(G31/F31-1)*100))) -> 32.621083 | I31: =C31+F31 -> 901 | J31: =D31+G31 -> 1158 | K31: =IF(I31=J31,"-",IF((I31=0),"##",IF(ABS((J31/I31-1)*100)>=200,"##",(J31/I31-1)*100))) -> 28.523862
A32: Greater/Grand Sudbury | C32: 71 | D32: 79 | E32: =IF(C32=D32,"-",IF((C32=0),"##",IF(ABS((D32/C32-1)*100)>=200,"##",(D32/C32-1)*100))) -> 11.267606 | F32: 127 | G32: 151 | H32: =IF(F32=G32,"-",IF((F32=0),"##",IF(ABS((G32/F32-1)*100)>=200,"##",(G32/F32-1)*100))) -> 18.897638 | I32: =C32+F32 -> 198 | J32: =D32+G32 -> 230 | K32: =IF(I32=J32,"-",IF((I32=0),"##",IF(ABS((J32/I32-1)*100)>=200,"##",(J32/I32-1)*100))) -> 16.161616
A33: Guelph | C33: 23 | D33: 17 | E33: =IF(C33=D33,"-",IF((C33=0),"##",IF(ABS((D33/C33-1)*100)>=200,"##",(D33/C33-1)*100))) -> -26.086957 | F33: 118 | G33: 164 | H33: =IF(F33=G33,"-",IF((F33=0),"##",IF(ABS((G33/F33-1)*100)>=200,"##",(G33/F33-1)*100))) -> 38.983051 | I33: =C33+F33 -> 141 | J33: =D33+G33 -> 181 | K33: =IF(I33=J33,"-",IF((I33=0),"##",IF(ABS((J33/I33-1)*100)>=200,"##",(J33/I33-1)*100))) -> 28.368794
A34: Halifax | C34: 609 | D34: 440 | E34: =IF(C34=D34,"-",IF((C34=0),"##",IF(ABS((D34/C34-1)*100)>=200,"##",(D34/C34-1)*100))) -> -27.750411 | F34: 4732 | G34: 3008 | H34: =IF(F34=G34,"-",IF((F34=0),"##",IF(ABS((G34/F34-1)*100)>=200,"##",(G34/F34-1)*100))) -> -36.432798 | I34: =C34+F34 -> 5341 | J34: =D34+G34 -> 3448 | K34: =IF(I34=J34,"-",IF((I34=0),"##",IF(ABS((J34/I34-1)*100)>=200,"##",(J34/I34-1)*100))) -> -35.442801
... A45: Oshawa | C45: 303 | D45: 242 | E45: =IF(C45=D45,"-",IF((C45=0),"##",IF(ABS((D45/C45-1)*100)>=200,"##",(D45/C45-1)*100))) -> -20.132013 | F45: 482 | G45: 329 | H45: =IF(F45=G45,"-",IF((F45=0),"##",IF(ABS((G45/F45-1)*100)>=200,"##",(G45/F45-1)*100))) -> -31.742739 | I45: =C45+F45 -> 785 | J45: =D45+G45 -> 571 | K45: =IF(I45=J45,"-",IF((I45=0),"##",IF(ABS((J45/I45-1)*100)>=200,"##",(J45/I45-1)*100))) -> -27.261146
A46: Ottawa-Gatineau | C46: =+SUM(C47+C48) -> 1239 | D46: =+SUM(D47+D48) -> 1694 | E46: =IF(C46=D46,"-",IF((C46=0),"##",IF(ABS((D46/C46-1)*100)>=200,"##",(D46/C46-1)*100))) -> 36.723164 | F46: =+SUM(F47+F48) -> 7713 | G46: =+SUM(G47+G48) -> 8502 | H46: =IF(F46=G46,"-",IF((F46=0),"##",IF(ABS((G46/F46-1)*100)>=200,"##",(G46/F46-1)*100))) -> 10.229483 | I46: =C46+F46 -> 8952 | J46: =D46+G46 -> 10196 | K46: =IF(I46=J46,"-",IF((I46=0),"##",IF(ABS((J46/I46-1)*100)>=200,"##",(J46/I46-1)*100))) -> 13.896336
A47: Gatineau | C47: 308 | D47: 278 | E47: =IF(C47=D47,"-",IF((C47=0),"##",IF(ABS((D47/C47-1)*100)>=200,"##",(D47/C47-1)*100))) -> -9.7402597 | F47: 1476 | G47: 1750 | H47: =IF(F47=G47,"-",IF((F47=0),"##",IF(ABS((G47/F47-1)*100)>=200,"##",(G47/F47-1)*100))) -> 18.563686 | I47: =C47+F47 -> 1784 | J47: =D47+G47 -> 2028 | K47: =IF(I47=J47,"-",IF((I47=0),"##",IF(ABS((J47/I47-1)*100)>=200,"##",(J47/I47-1)*100))) -> 13.67713
A48: Ottawa | C48: 931 | D48: 1416 | E48: =IF(C48=D48,"-",IF((C48=0),"##",IF(ABS((D48/C48-1)*100)>=200,"##",(D48/C48-1)*100))) -> 52.094522 | F48: 6237 | G48: 6752 | H48: =IF(F48=G48,"-",IF((F48=0),"##",IF(ABS((G48/F48-1)*100)>=200,"##",(G48/F48-1)*100))) -> 8.2571749 | I48: =C48+F48 -> 7168 | J48: =D48+G48 -> 8168 | K48: =IF(I48=J48,"-",IF((I48=0),"##",IF(ABS((J48/I48-1)*100)>=200,"##",(J48/I48-1)*100))) -> 13.950893
A49: Peterborough | C49: 58 | D49: 68 | E49: =IF(C49=D49,"-",IF((C49=0),"##",IF(ABS((D49/C49-1)*100)>=200,"##",(D49/C49-1)*100))) -> 17.241379 | F49: 17 | G49: 141 | H49: =IF(F49=G49,"-",IF((F49=0),"##",IF(ABS((G49/F49-1)*100)>=200,"##",(G49/F49-1)*100))) -> ## | I49: =C49+F49 -> 75 | J49: =D49+G49 -> 209 | K49: =IF(I49=J49,"-",IF((I49=0),"##",IF(ABS((J49/I49-1)*100)>=200,"##",(J49/I49-1)*100))) -> 178.66667
A50: Québec | C50: 529 | D50: 611 | E50: =IF(C50=D50,"-",IF((C50=0),"##",IF(ABS((D50/C50-1)*100)>=200,"##",(D50/C50-1)*100))) -> 15.500945 | F50: 6091 | G50: 6719 | H50: =IF(F50=G50,"-",IF((F50=0),"##",IF(ABS((G50/F50-1)*100)>=200,"##",(G50/F50-1)*100))) -> 10.310294 | I50: =C50+F50 -> 6620 | J50: =D50+G50 -> 7330 | K50: =IF(I50=J50,"-",IF((I50=0),"##",IF(ABS((J50/I50-1)*100)>=200,"##",(J50/I50-1)*100))) -> 10.725076
A51: Red Deer | C51: 96 | D51: 82 | E51: =IF(C51=D51,"-",IF((C51=0),"##",IF(ABS((D51/C51-1)*100)>=200,"##",(D51/C51-1)*100))) -> -14.583333 | F51: 241 | G51: 225 | H51: =IF(F51=G51,"-",IF((F51=0),"##",IF(ABS((G51/F51-1)*100)>=200,"##",(G51/F51-1)*100))) -> -6.6390041 | I51: =C51+F51 -> 337 | J51: =D51+G51 -> 307 | K51: =IF(I51=J51,"-",IF((I51=0),"##",IF(ABS((J51/I51-1)*100)>=200,"##",(J51/I51-1)*100))) -> -8.9020772
A52: Regina | C52: 284 | D52: 311 | E52: =IF(C52=D52,"-",IF((C52=0),"##",IF(ABS((D52/C52-1)*100)>=200,"##",(D52/C52-1)*100))) -> 9.5070423 | F52: 1121 | G52: 1082 | H52: =IF(F52=G52,"-",IF((F52=0),"##",IF(ABS((G52/F52-1)*100)>=200,"##",(G52/F52-1)*100))) -> -3.4790366 | I52: =C52+F52 -> 1405 | J52: =D52+G52 -> 1393 | K52: =IF(I52=J52,"-",IF((I52=0),"##",IF(ABS((J52/I52-1)*100)>=200,"##",(J52/I52-1)*100))) -> -0.85409253
A53: Saguenay | C53: 182 | D53: 154 | E53: =IF(C53=D53,"-",IF((C53=0),"##",IF(ABS((D53/C53-1)*100)>=200,"##",(D53/C53-1)*100))) -> -15.384615 | F53: 327 | G53: 811 | H53: =IF(F53=G53,"-",IF((F53=0),"##",IF(ABS((G53/F53-1)*100)>=200,"##",(G53/F53-1)*100))) -> 148.01223 | I53: =C53+F53 -> 509 | J53: =D53+G53 -> 965 | K53: =IF(I53=J53,"-",IF((I53=0),"##",IF(ABS((J53/I53-1)*100)>=200,"##",(J53/I53-1)*100))) -> 89.587426
A54: St. Catharines-Niagara | C54: 316 | D54: 338 | E54: =IF(C54=D54,"-",IF((C54=0),"##",IF(ABS((D54/C54-1)*100)>=200,"##",(D54/C54-1)*100))) -> 6.9620253 | F54: 1185 | G54: 1475 | H54: =IF(F54=G54,"-",IF((F54=0),"##",IF(ABS((G54/F54-1)*100)>=200,"##",(G54/F54-1)*100))) -> 24.472574 | I54: =C54+F54 -> 1501 | J54: =D54+G54 -> 1813 | K54: =IF(I54=J54,"-",IF((I54=0),"##",IF(ABS((J54/I54-1)*100)>=200,"##",(J54/I54-1)*100))) -> 20.786143
A55: Saint John | C55: 175 | D55: 148 | E55: =IF(C55=D55,"-",IF((C55=0),"##",IF(ABS((D55/C55-1)*100)>=200,"##",(D55/C55-1)*100))) -> -15.428571 | F55: 244 | G55: 263 | H55: =IF(F55=G55,"-",IF((F55=0),"##",IF(ABS((G55/F55-1)*100)>=200,"##",(G55/F55-1)*100))) -> 7.7868852 | I55: =C55+F55 -> 419 | J55: =D55+G55 -> 411 | K55: =IF(I55=J55,"-",IF((I55=0),"##",IF(ABS((J55/I55-1)*100)>=200,"##",(J55/I55-1)*100))) -> -1.9093079
A56: St. John's | C56: 474 | D56: 436 | E56: =IF(C56=D56,"-",IF((C56=0),"##",IF(ABS((D56/C56-1)*100)>=200,"##",(D56/C56-1)*100))) -> -8.0168776 | F56: 272 | G56: 433 | H56: =IF(F56=G56,"-",IF((F56=0),"##",IF(ABS((G56/F56-1)*100)>=200,"##",(G56/F56-1)*100))) -> 59.191176 | I56: =C56+F56 -> 746 | J56: =D56+G56 -> 869 | K56: =IF(I56=J56,"-",IF((I56=0),"##",IF(ABS((J56/I56-1)*100)>=200,"##",(J56/I56-1)*100))) -> 16.487936
A57: Saskatoon | C57: 928 | D57: 981 | E57: =IF(C57=D57,"-",IF((C57=0),"##",IF(ABS((D57/C57-1)*100)>=200,"##",(D57/C57-1)*100))) -> 5.7112069 | F57: 1833 | G57: 1920 | H57: =IF(F57=G57,"-",IF((F57=0),"##",IF(ABS((G57/F57-1)*100)>=200,"##",(G57/F57-1)*100))) -> 4.7463175 | I57: =C57+F57 -> 2761 | J57: =D57+G57 -> 2901 | K57: =IF(I57=J57,"-",IF((I57=0),"##",IF(ABS((J57/I57-1)*100)>=200,"##",(J57/I57-1)*100))) -> 5.0706266
A58: Sherbrooke | C58: 197 | D58: 223 | E58: =IF(C58=D58,"-",IF((C58=0),"##",IF(ABS((D58/C58-1)*100)>=200,"##",(D58/C58-1)*100))) -> 13.19797 | F58: 988 | G58: 1318 | H58: =IF(F58=G58,"-",IF((F58=0),"##",IF(ABS((G58/F58-1)*100)>=200,"##",(G58/F58-1)*100))) -> 33.40081 | I58: =C58+F58 -> 1185 | J58: =D58+G58 -> 1541 | K58: =IF(I58=J58,"-",IF((I58=0),"##",IF(ABS((J58/I58-1)*100)>=200,"##",(J58/I58-1)*100))) -> 30.042194
... A65: Winnipeg | C65: 1497 | D65: 1410 | E65: =IF(C65=D65,"-",IF((C65=0),"##",IF(ABS((D65/C65-1)*100)>=200,"##",(D65/C65-1)*100))) -> -5.8116232 | F65: 3026 | G65: 3972 | H65: =IF(F65=G65,"-",IF((F65=0),"##",IF(ABS((G65/F65-1)*100)>=200,"##",(G65/F65-1)*100))) -> 31.262393 | I65: =C65+F65 -> 4523 | J65: =D65+G65 -> 5382 | K65: =IF(I65=J65,"-",IF((I65=0),"##",IF(ABS((J65/I65-1)*100)>=200,"##",(J65/I65-1)*100))) -> 18.99182
A66: Total | C66: =SUM(C23:C46,C49:C65) -> 25962 | D66: =SUM(D23:D46,D49:D65) -> 23664 | E66: =IF(C66=D66,"-",IF((C66=0),"##",IF(ABS((D66/C66-1)*100)>=200,"##",(D66/C66-1)*100))) -> -8.8513982 | F66: =SUM(F23:F46,F49:F65) -> 133611 | G66: =SUM(G23:G46,G49:G65) -> 125951 | H66: =IF(F66=G66,"-",IF((F66=0),"##",IF(ABS((G66/F66-1)*100)>=200,"##",(G66/F66-1)*100))) -> -5.7330609 | I66: =C66+F66 -> 159573 | J66: =D66+G66 -> 149615 | K66: =IF(I66=J66,"-",IF((I66=0),"##",IF(ABS((J66/I66-1)*100)>=200,"##",(J66/I66-1)*100))) -> -6.2404041
A67: =Titles!A8 -> Données de 2024, 2025 et 2026 fondées sur les définitions du recensement de 2021.
A68: =Titles!A10 -> Source : Enquête sur les mises en chantier et les achèvements et Enquête sur les logements écoulés de la SCHL

Sheet Table 3
A1: Tableau 3
A2: Mises en chantier de logements dans les centres urbains et l'ensemble du pays,
A3: nombres désaisonnalisés annualisés
E5: Centres 10,000 Population and Over1
A7: Période | D7: Maisons | E7: Autres | F7: Total | G7: Autres | H7: Canada
D8: individuelles | G8: collectivités
A11: 20242 | D11: 44383 | E11: 183314 | F11: 227697 | G11: 17423 | H11: 245120
A12: 20252 | D12: 41851 | E12: 199320 | F12: 241171 | G12: 17857 | H12: 259028
A13: =Titles!A22 -> 2025 | B13: 1er t. | D13: 42990 | E13: 176150 | F13: 219140 | G13: 10888 | H13: =IF(SUM(F13,G13)=0,"",SUM(F13,G13)) -> 230028
B14: 2e t. | D14: 43587 | E14: 210123 | F14: 253710 | G14: 22333 | H14: =IF(SUM(F14,G14)=0,"",SUM(F14,G14)) -> 276043
B15: 3e t. | D15: 40872 | E15: 207772 | F15: 248644 | G15: 23990 | H15: =IF(SUM(F15,G15)=0,"",SUM(F15,G15)) -> 272634
B16: 4e t. | D16: 40493 | E16: 202276 | F16: 242769 | G16: 13438 | H16: =IF(SUM(F16,G16)=0,"",SUM(F16,G16)) -> 256207
A18: =Titles!A23 -> 2026 | B18: 1er t. | D18: 40275 | E18: 193623 | F18: 233898 | G18: 10651 | H18: =IF(SUM(F18,G18)=0,"",SUM(F18,G18)) -> 244549
B19: 2e t. | D19: 39239 | E19: 195704 | F19: 234943 | G19: 11746 | H19: =IF(SUM(F19,G19)=0,"",SUM(F19,G19)) -> 246689
B20: 3e t. | D20: 39671 | E20: 187971 | F20: 227642 | G20: 20461 | H20: =IF(SUM(F20,G20)=0,"",SUM(F20,G20)) -> 248103
B21: 4e t. | H21: =IF(SUM(F21,G21)=0,"",SUM(F21,G21))
A22: =Titles!A22 -> 2025 | B22: janvier | D22: 44028 | E22: 176269 | F22: 220297 | G22: 13533 | H22: =IF(SUM(F22,G22)=0,"",SUM(F22,G22)) -> 233830
B23: février | D23: 42695 | E23: 166594 | F23: 209289 | G23: 13159 | H23: =IF(SUM(F23,G23)=0,"",SUM(F23,G23)) -> 222448
B24: mars | D24: 42423 | E24: 159826 | F24: 202249 | G24: 12245 | H24: =IF(SUM(F24,G24)=0,"",SUM(F24,G24)) -> 214494
B25: avril | D25: 44333 | E25: 216960 | F25: 261293 | G25: 20533 | H25: =IF(SUM(F25,G25)=0,"",SUM(F25,G25)) -> 281826
B26: mai | D26: 42278 | E26: 215415 | F26: 257693 | G26: 21008 | H26: =IF(SUM(F26,G26)=0,"",SUM(F26,G26)) -> 278701
B27: juin | D27: 42939 | E27: 219862 | F27: 262801 | G27: 21364 | H27: =IF(SUM(F27,G27)=0,"",SUM(F27,G27)) -> 284165
B28: juillet | D28: 42049 | E28: 228167 | F28: 270216 | G28: 23661 | H28: =IF(SUM(F28,G28)=0,"",SUM(F28,G28)) -> 293877
B29: août | D29: 40179 | E29: 180076 | F29: 220255 | G29: 24018 | H29: =IF(SUM(F29,G29)=0,"",SUM(F29,G29)) -> 244273
B30: septembre | D30: 41587 | E30: 215708 | F30: 257295 | G30: 23531 | H30: =IF(SUM(F30,G30)=0,"",SUM(F30,G30)) -> 280826
B31: octobre | D31: 41142 | E31: 177076 | F31: 218218 | G31: 13021 | H31: =IF(SUM(F31,G31)=0,"",SUM(F31,G31)) -> 231239
B32: novembre | D32: 39974 | E32: 200500 | F32: 240474 | G32: 12717 | H32: =IF(SUM(F32,G32)=0,"",SUM(F32,G32)) -> 253191
B33: décembre | D33: 39519 | E33: 230261 | F33: 269780 | G33: 12243 | H33: =IF(SUM(F33,G33)=0,"",SUM(F33,G33)) -> 282023
A35: =Titles!A23 -> 2026 | B35: janvier | D35: 43706 | E35: 180414 | F35: 224120 | G35: 12658 | H35: =IF(SUM(F35,G35)=0,"",SUM(F35,G35)) -> 236778
B36: février | D36: 39947 | E36: 196737 | F36: 236684 | G36: 12147 | H36: =IF(SUM(F36,G36)=0,"",SUM(F36,G36)) -> 248831
B37: mars | D37: 38561 | E37: 189265 | F37: 227826 | G37: 11745 | H37: =IF(SUM(F37,G37)=0,"",SUM(F37,G37)) -> 239571
B38: avril | D38: 35912 | E38: 223392 | F38: 259304 | G38: 11388 | H38: =IF(SUM(F38,G38)=0,"",SUM(F38,G38)) -> 270692
B39: mai | D39: 41100 | E39: 201442 | F39: 242542 | G39: 11935 | H39: =IF(SUM(F39,G39)=0,"",SUM(F39,G39)) -> 254477
B40: juin | D40: 38280 | E40: 190504 | F40: 228784 | G40: 11054 | H40: =IF(SUM(F40,G40)=0,"",SUM(F40,G40)) -> 239838
B41: juillet | D41: 39169 | E41: 187141 | F41: 226310 | G41: 20031 | H41: =IF(SUM(F41,G41)=0,"",SUM(F41,G41)) -> 246341
B42: août | D42: 44070 | E42: 179881 | F42: 223951 | G42: 18272 | H42: =IF(SUM(F42,G42)=0,"",SUM(F42,G42)) -> 242223
B43: septembre | D43: 39885 | E43: 190917 | F43: 230802 | G43: 18094 | H43: =IF(SUM(F43,G43)=0,"",SUM(F43,G43)) -> 248896
B44: octobre | H44: =IF(SUM(F44,G44)=0,"",SUM(F44,G44))
B45: novembre | H45: =IF(SUM(F45,G45)=0,"",SUM(F45,G45))
B46: décembre | H46: =IF(SUM(F46,G46)=0,"",SUM(F46,G46))
A47: =Titles!$A$12 -> Données de 2024, 2025 et 2026 fondées sur les définitions du recensement de 2021.
A48: 2 Data are Actual Dwelling Starts.
A49: =Titles!$A$10 -> Source : Enquête sur les mises en chantier et les achèvements et Enquête sur les logements écoulés de la SCHL

Sheet Table 4
A1: Tableau 4
A2: Mises en chantier de logements dans les centres urbains1, par région,
A3: nombres désaisonnalisés annualisés
A6: Période | E6: Atlantique | F6: Québec | G6: Ontario | H6: Prairies | I6: C.-B. | J6: Total
A7: 2024 2 | E7: 13998 | F7: 41221 | G7: 72118 | H7: 56787 | I7: 43573 | J7: 227971
A8: 2025 2 | E8: 16856 | F8: 54220 | G8: 62561 | H8: 66002 | I8: 41532 | J8: 241171
A10: Maisons individuelles | B10: 2025 | C10: 2e t. | E10: 3612 | F10: 4586 | G10: 11076 | H10: 20404 | I10: 3909 | J10: =SUM(E10:I10) -> 43587
B11: 2025 | C11: 3e t. | E11: 3714 | F11: 4830 | G11: 9362 | H11: 18891 | I11: 4075 | J11: =SUM(E11:I11) -> 40872
A12: Autres | B12: 2025 | C12: 2e t. | E12: 13494 | F12: 46037 | G12: 54296 | H12: 54627 | I12: 41669 | J12: =SUM(E12:I12) -> 210123
B13: 2025 | C13: 3e t. | E13: 14594 | F13: 45945 | G13: 62307 | H13: 45122 | I13: 39804 | J13: =SUM(E13:I13) -> 207772
A14: Total | B14: 2025 | C14: 2e t. | E14: =SUM(E10,E12) -> 17106 | F14: =SUM(F10,F12) -> 50623 | G14: =SUM(G10,G12) -> 65372 | H14: =SUM(H10,H12) -> 75031 | I14: =SUM(I10,I12) -> 45578 | J14: =SUM(E14:I14) -> 253710
B15: 2025 | C15: 3e t. | E15: =SUM(E11,E13) -> 18308 | F15: =SUM(F11,F13) -> 50775 | G15: =SUM(G11,G13) -> 71669 | H15: =SUM(H11,H13) -> 64013 | I15: =SUM(I11,I13) -> 43879 | J15: =SUM(E15:I15) -> 248644
A17: Maisons individuelles | B17: 2026 | C17: 2e t. | E17: 3246 | F17: 4836 | G17: 10079 | H17: 17693 | I17: 3385 | J17: =SUM(E17:I17) -> 39239
B18: 2026 | C18: 3e t. | E18: 2911 | F18: 4980 | G18: 10261 | H18: 18000 | I18: 3519 | J18: =SUM(E18:I18) -> 39671
A19: Autres | B19: 2026 | C19: 2e t. | E19: 10931 | F19: 45148 | G19: 59727 | H19: 45978 | I19: 33920 | J19: =SUM(E19:I19) -> 195704
B20: 2026 | C20: 3e t. | E20: 13060 | F20: 50299 | G20: 36666 | H20: 47064 | I20: 40882 | J20: =SUM(E20:I20) -> 187971
A21: Total | B21: 2026 | C21: 2e t. | E21: =SUM(E17,E19) -> 14177 | F21: =SUM(F17,F19) -> 49984 | G21: =SUM(G17,G19) -> 69806 | H21: =SUM(H17,H19) -> 63671 | I21: =SUM(I17,I19) -> 37305 | J21: =SUM(E21:I21) -> 234943
B22: 2026 | C22: 3e t. | E22: =SUM(E18,E20) -> 15971 | F22: =SUM(F18,F20) -> 55279 | G22: =SUM(G18,G20) -> 46927 | H22: =SUM(H18,H20) -> 65064 | I22: =SUM(I18,I20) -> 44401 | J22: =SUM(E22:I22) -> 227642
A24: Maisons individuelles | B24: 2025 | C24: juil. | E24: 3908 | F24: 5282 | G24: 9612 | H24: 19306 | I24: 3941 | J24: =SUM(E24:I24) -> 42049
B25: 2025 | C25: août | E25: 3454 | F25: 4864 | G25: 9874 | H25: 17785 | I25: 4202 | J25: =SUM(E25:I25) -> 40179
B26: 2025 | C26: sept. | E26: 3800 | F26: 4819 | G26: 9468 | H26: 19504 | I26: 3996 | J26: =SUM(E26:I26) -> 41587
A27: Autres | B27: 2025 | C27: juil. | E27: 25487 | F27: 48943 | G27: 62990 | H27: 40453 | I27: 50294 | J27: =SUM(E27:I27) -> 228167
B28: 2025 | C28: août | E28: 13264 | F28: 41407 | G28: 44673 | H28: 41261 | I28: 39471 | J28: =SUM(E28:I28) -> 180076
B29: 2025 | C29: sept. | E29: 8864 | F29: 46460 | G29: 76973 | H29: 53255 | I29: 30156 | J29: =SUM(E29:I29) -> 215708
A30: Total | B30: 2025 | C30: juil. | E30: =SUM(E24,E27) -> 29395 | F30: =SUM(F24,F27) -> 54225 | G30: =SUM(G24,G27) -> 72602 | H30: =SUM(H24,H27) -> 59759 | I30: =SUM(I24,I27) -> 54235 | J30: =SUM(J24,J27) -> 270216
B31: 2025 | C31: août | E31: =SUM(E25,E28) -> 16718 | F31: =SUM(F25,F28) -> 46271 | G31: =SUM(G25,G28) -> 54547 | H31: =SUM(H25,H28) -> 59046 | I31: =SUM(I25,I28) -> 43673 | J31: =SUM(J25,J28) -> 220255
B32: 2025 | C32: sept. | E32: =SUM(E26,E29) -> 12664 | F32: =SUM(F26,F29) -> 51279 | G32: =SUM(G26,G29) -> 86441 | H32: =SUM(H26,H29) -> 72759 | I32: =SUM(I26,I29) -> 34152 | J32: =SUM(J26,J29) -> 257295
A34: Maisons individuelles | B34: 2026 | C34: juil. | E34: 2834 | F34: 5078 | G34: 11072 | H34: 16627 | I34: 3558 | J34: =SUM(E34:I34) -> 39169
B35: 2026 | C35: août | E35: 3027 | F35: 5368 | G35: 10491 | H35: 21666 | I35: 3518 | J35: =SUM(E35:I35) -> 44070
B36: 2026 | C36: sept. | E36: 2766 | F36: 4947 | G36: 11442 | H36: 17257 | I36: 3473 | J36: =SUM(E36:I36) -> 39885
A37: Autres | B37: 2026 | C37: juil. | E37: 13067 | F37: 56862 | G37: 42122 | H37: 45397 | I37: 29693 | J37: =SUM(E37:I37) -> 187141
B38: 2026 | C38: août | E38: 10336 | F38: 53087 | G38: 31492 | H38: 44640 | I38: 40326 | J38: =SUM(E38:I38) -> 179881
B39: 2026 | C39: sept. | E39: 17089 | F39: 40287 | G39: 33849 | H39: 52045 | I39: 47647 | J39: =SUM(E39:I39) -> 190917
A40: Total | B40: 2026 | C40: juil. | E40: =SUM(E34,E37) -> 15901 | F40: =SUM(F34,F37) -> 61940 | G40: =SUM(G34,G37) -> 53194 | H40: =SUM(H34,H37) -> 62024 | I40: =SUM(I34,I37) -> 33251 | J40: =SUM(J34,J37) -> 226310
B41: 2026 | C41: août | E41: =SUM(E35,E38) -> 13363 | F41: =SUM(F35,F38) -> 58455 | G41: =SUM(G35,G38) -> 41983 | H41: =SUM(H35,H38) -> 66306 | I41: =SUM(I35,I38) -> 43844 | J41: =SUM(J35,J38) -> 223951
B42: 2026 | C42: sept. | E42: =SUM(E36,E39) -> 19855 | F42: =SUM(F36,F39) -> 45234 | G42: =SUM(G36,G39) -> 45291 | H42: =SUM(H36,H39) -> 69302 | I42: =SUM(I36,I39) -> 51120 | J42: =SUM(J36,J39) -> 230802
A43: =Titles!$A$12 -> Données de 2024, 2025 et 2026 fondées sur les définitions du recensement de 2021.
A44: 2 Données sont des mises en chantier réelles
A45: Source : Enquête sur les mises en chantier et les achèvements et Enquête sur les logements écoulés de la SCHL

Sheet Table 5
A1: Tableau 5
A2: Mises en chantier de logements dans les centres urbains1, par région,
A3: nombres désaisonnalisés annualisés
A6: Période | D6: Atlantique | E6: Québec | F6: Ontario | G6: Prairies | H6: C.-B. | I6: Total
A7: 2024 2 | D7: 13998 | E7: 41221 | F7: 72118 | G7: 56787 | H7: 43573 | I7: 227971
A8: 2025 2 | D8: 16856 | E8: 54220 | F8: 62561 | G8: 66002 | H8: 41532 | I8: 241171
A9: 2024 | B9: 1er t. | D9: 15603 | E9: 35511 | F9: 78452 | G9: 51274 | H9: 48329 | I9: 229169
B10: 2e t. | D10: 15544 | E10: 40155 | F10: 73297 | G10: 54090 | H10: 41531 | I10: 224617
B11: 3e t. | D11: 12436 | E11: 40850 | F11: 73853 | G11: 58856 | H11: 40424 | I11: 226419
B12: 4e t. | D12: 12460 | E12: 46964 | F12: 60927 | G12: 62747 | H12: 41898 | I12: 224996
A13: 2025 | B13: 1er t. | D13: 13912 | E13: 53252 | F13: 49916 | G13: 63407 | H13: 38653 | I13: 219140
B14: 2e t. | D14: 17106 | E14: 50623 | F14: 65372 | G14: 75031 | H14: 45578 | I14: 253710
B15: 3e t. | D15: 18308 | E15: 50775 | F15: 71669 | G15: 64013 | H15: 43879 | I15: 248644
B16: 4e t. | D16: 17978 | E16: 61541 | F16: 63634 | G16: 60935 | H16: 38681 | I16: 242769
A17: 2026 | B17: 1er t. | D17: 13877 | E17: 57870 | F17: 61032 | G17: 57760 | H17: 43359 | I17: 233898
B18: 2e t. | D18: 14177 | E18: 49984 | F18: 69806 | G18: 63671 | H18: 37305 | I18: 234943
B19: 3e t. | D19: 15971 | E19: 55279 | F19: 46927 | G19: 65064 | H19: 44401 | I19: 227642
B20: 4e t.
A21: 2024 | B21: janvier | D21: 12042 | E21: 36988 | F21: 79331 | G21: 47909 | H21: 28841 | I21: =IF(SUM(D21:H21)=0,"",SUM(D21:H21)) -> 205111
B22: février | D22: 17841 | E22: 38179 | F22: 85766 | G22: 54594 | H22: 44738 | I22: =IF(SUM(D22:H22)=0,"",SUM(D22:H22)) -> 241118
B23: mars | D23: 10187 | E23: 34759 | F23: 70319 | G23: 46760 | H23: 58913 | I23: =IF(SUM(D23:H23)=0,"",SUM(D23:H23)) -> 220938
B24: avril | D24: 11509 | E24: 28887 | F24: 71474 | G24: 56966 | H24: 52864 | I24: =IF(SUM(D24:H24)=0,"",SUM(D24:H24)) -> 221700
B25: mai | D25: 17580 | E25: 41384 | F25: 85087 | G25: 52476 | H25: 44376 | I25: =IF(SUM(D25:H25)=0,"",SUM(D25:H25)) -> 240903
B26: juin | D26: 17805 | E26: 52287 | F26: 64541 | G26: 54836 | H26: 38869 | I26: =IF(SUM(D26:H26)=0,"",SUM(D26:H26)) -> 228338
B27: juillet | D27: 12427 | E27: 35630 | F27: 103803 | G27: 65410 | H27: 45906 | I27: =IF(SUM(D27:H27)=0,"",SUM(D27:H27)) -> 263176
B28: août | D28: 13028 | E28: 43471 | F28: 58071 | G28: 56437 | H28: 31467 | I28: =IF(SUM(D28:H28)=0,"",SUM(D28:H28)) -> 202474
B29: septembre | D29: 12981 | E29: 43859 | F29: 61570 | G29: 55173 | H29: 40645 | I29: =IF(SUM(D29:H29)=0,"",SUM(D29:H29)) -> 214228
B30: octobre | D30: 11334 | E30: 40245 | F30: 63184 | G30: 65144 | H30: 41409 | I30: =IF(SUM(D30:H30)=0,"",SUM(D30:H30)) -> 221316
B31: novembre | D31: 13185 | E31: 49794 | F31: 58137 | G31: 72289 | H31: 49432 | I31: =IF(SUM(D31:H31)=0,"",SUM(D31:H31)) -> 242837
B32: décembre | D32: 12630 | E32: 41934 | F32: 62902 | G32: 51883 | H32: 45409 | I32: =IF(SUM(D32:H32)=0,"",SUM(D32:H32)) -> 214758
A33: 2025 | B33: janvier | D33: 12477 | E33: 58604 | F33: 57703 | G33: 54762 | H33: 36751 | I33: =IF(SUM(D33:H33)=0,"",SUM(D33:H33)) -> 220297
B34: février | D34: 12357 | E34: 48033 | F34: 56333 | G34: 64983 | H34: 27583 | I34: =IF(SUM(D34:H34)=0,"",SUM(D34:H34)) -> 209289
B35: mars | D35: 12390 | E35: 54864 | F35: 38451 | G35: 67352 | H35: 29192 | I35: =IF(SUM(D35:H35)=0,"",SUM(D35:H35)) -> 202249
B36: avril | D36: 18561 | E36: 49689 | F36: 65839 | G36: 75097 | H36: 52107 | I36: =IF(SUM(D36:H36)=0,"",SUM(D36:H36)) -> 261293
B37: mai | D37: 16625 | E37: 55429 | F37: 68491 | G37: 80625 | H37: 36523 | I37: =IF(SUM(D37:H37)=0,"",SUM(D37:H37)) -> 257693
B38: juin | D38: 16740 | E38: 51678 | F38: 58984 | G38: 71010 | H38: 64389 | I38: =IF(SUM(D38:H38)=0,"",SUM(D38:H38)) -> 262801
B39: juillet | D39: 29395 | E39: 54225 | F39: 72602 | G39: 59759 | H39: 54235 | I39: =IF(SUM(D39:H39)=0,"",SUM(D39:H39)) -> 270216
B40: août | D40: 16718 | E40: 46271 | F40: 54547 | G40: 59046 | H40: 43673 | I40: =IF(SUM(D40:H40)=0,"",SUM(D40:H40)) -> 220255
B41: septembre | D41: 12664 | E41: 51279 | F41: 86441 | G41: 72759 | H41: 34152 | I41: =IF(SUM(D41:H41)=0,"",SUM(D41:H41)) -> 257295
B42: octobre | D42: 15682 | E42: 57064 | F42: 41798 | G42: 69897 | H42: 33777 | I42: =IF(SUM(D42:H42)=0,"",SUM(D42:H42)) -> 218218
B43: novembre | D43: 20642 | E43: 57660 | F43: 54477 | G43: 68222 | H43: 39473 | I43: =IF(SUM(D43:H43)=0,"",SUM(D43:H43)) -> 240474
B44: décembre | D44: 17473 | E44: 62205 | F44: 93722 | G44: 50131 | H44: 46249 | I44: =IF(SUM(D44:H44)=0,"",SUM(D44:H44)) -> 269780
A45: 2026 | B45: janvier | D45: 14279 | E45: 40586 | F45: 66413 | G45: 52245 | H45: 50597 | I45: =IF(SUM(D45:H45)=0,"",SUM(D45:H45)) -> 224120
B46: février | D46: 13454 | E46: 55748 | F46: 68455 | G46: 56810 | H46: 42217 | I46: =IF(SUM(D46:H46)=0,"",SUM(D46:H46)) -> 236684
B47: mars | D47: 11947 | E47: 86153 | F47: 51443 | G47: 49970 | H47: 28313 | I47: =IF(SUM(D47:H47)=0,"",SUM(D47:H47)) -> 227826
B48: avril | D48: 12828 | E48: 57924 | F48: 80889 | G48: 53185 | H48: 54478 | I48: =IF(SUM(D48:H48)=0,"",SUM(D48:H48)) -> 259304
B49: mai | D49: 18546 | E49: 48547 | F49: 67115 | G49: 72950 | H49: 35384 | I49: =IF(SUM(D49:H49)=0,"",SUM(D49:H49)) -> 242542
B50: juin | D50: 11944 | E50: 52731 | F50: 60246 | G50: 70188 | H50: 33675 | I50: =IF(SUM(D50:H50)=0,"",SUM(D50:H50)) -> 228784
B51: juillet | D51: 15901 | E51: 61940 | F51: 53194 | G51: 62024 | H51: 33251 | I51: =IF(SUM(D51:H51)=0,"",SUM(D51:H51)) -> 226310
B52: août | D52: 13363 | E52: 58455 | F52: 41983 | G52: 66306 | H52: 43844 | I52: =IF(SUM(D52:H52)=0,"",SUM(D52:H52)) -> 223951
B53: septembre | D53: 19855 | E53: 45234 | F53: 45291 | G53: 69302 | H53: 51120 | I53: =IF(SUM(D53:H53)=0,"",SUM(D53:H53)) -> 230802
B54: octobre | I54: =IF(SUM(D54:H54)=0,"",SUM(D54:H54))
B55: novembre | I55: =IF(SUM(D55:H55)=0,"",SUM(D55:H55))
B56: décembre | I56: =IF(SUM(D56:H56)=0,"",SUM(D56:H56))
A57: =Titles!$A$12 -> Données de 2024, 2025 et 2026 fondées sur les définitions du recensement de 2021.
A58: 2 Données sont des mises en chantier réelles
A59: =Titles!$A$10 -> Source : Enquête sur les mises en chantier et les achèvements et Enquête sur les logements écoulés de la SCHL

Sheet Table 6
A1: Tableau 6
A2: Mises en chantier de logements dans les centres urbains1, provinces de l'Atlantique,
A3: nombres désaisonnalisés annualisés
A5: Période | D5: Terre-Neuve-et-Labrador | E5: Île-du-Prince- | F5: Nouvelle-Écosse | G5: Nouveau-Brunswick | H5: Total
E6: Édouard
A9: 2024 2 | D9: 1014 | E9: 1334 | F9: 6663 | G9: 4987 | H9: 13998
A10: 2025 2 | D10: 1131 | E10: 1276 | F10: 8732 | G10: 5717 | H10: 16856
A11: 2024 | B11: 1er t. | D11: 898 | E11: 1520 | F11: 8554 | G11: 4631 | H11: 15603
B12: 2e t. | D12: 896 | E12: 976 | F12: 8696 | G12: 4976 | H12: 15544
B13: 3e t. | D13: 1098 | E13: 1754 | F13: 4391 | G13: 5193 | H13: 12436
B14: 4e t. | D14: 1152 | E14: 949 | F14: 5061 | G14: 5298 | H14: 12460
A15: 2025 | B15: 1er t. | D15: 1001 | E15: 1402 | F15: 6727 | G15: 4782 | H15: 13912
B16: 2e t. | D16: 1197 | E16: 1123 | F16: 9622 | G16: 5164 | H16: 17106
B17: 3e t. | D17: 1077 | E17: 1845 | F17: 9835 | G17: 5551 | H17: 18308
B18: 4e t. | D18: 1252 | E18: 741 | F18: 8656 | G18: 7329 | H18: 17978
A19: 2026 | B19: 1er t. | D19: 1264 | E19: 1703 | F19: 5862 | G19: 5048 | H19: 13877
B20: 2e t. | D20: 1672 | E20: 1635 | F20: 6482 | G20: 4388 | H20: 14177
B21: 3e t. | D21: 1339 | E21: 1368 | F21: 6120 | G21: 7144 | H21: 15971
B22: 4e t.
A23: 2024 | B23: janvier | D23: 1259 | E23: 1092 | F23: 6029 | G23: 3662 | H23: =IF(SUM(C23:G23)=0,"",SUM(C23:G23)) -> 12042
B24: février | D24: 730 | E24: 287 | F24: 12078 | G24: 4746 | H24: =IF(SUM(C24:G24)=0,"",SUM(C24:G24)) -> 17841
B25: mars | D25: 349 | E25: 791 | F25: 7564 | G25: 1483 | H25: =IF(SUM(C25:G25)=0,"",SUM(C25:G25)) -> 10187
B26: avril | D26: 809 | E26: 231 | F26: 7179 | G26: 3290 | H26: =IF(SUM(C26:G26)=0,"",SUM(C26:G26)) -> 11509
B27: mai | D27: 708 | E27: 1544 | F27: 8103 | G27: 7225 | H27: =IF(SUM(C27:G27)=0,"",SUM(C27:G27)) -> 17580
B28: juin | D28: 1152 | E28: 601 | F28: 10873 | G28: 5179 | H28: =IF(SUM(C28:G28)=0,"",SUM(C28:G28)) -> 17805
B29: juillet | D29: 940 | E29: 2173 | F29: 5559 | G29: 3755 | H29: =IF(SUM(C29:G29)=0,"",SUM(C29:G29)) -> 12427
B30: août | D30: 1200 | E30: 597 | F30: 3380 | G30: 7851 | H30: =IF(SUM(C30:G30)=0,"",SUM(C30:G30)) -> 13028
B31: septembre | D31: 1043 | E31: 400 | F31: 4141 | G31: 7397 | H31: =IF(SUM(C31:G31)=0,"",SUM(C31:G31)) -> 12981
B32: octobre | D32: 1292 | E32: 1272 | F32: 4171 | G32: 4599 | H32: =IF(SUM(C32:G32)=0,"",SUM(C32:G32)) -> 11334
B33: novembre | D33: 1407 | E33: 243 | F33: 5696 | G33: 5839 | H33: =IF(SUM(C33:G33)=0,"",SUM(C33:G33)) -> 13185
B34: décembre | D34: 1099 | E34: 1272 | F34: 5403 | G34: 4856 | H34: =IF(SUM(C34:G34)=0,"",SUM(C34:G34)) -> 12630
A35: 2025 | B35: janvier | D35: 953 | E35: 2466 | F35: 7380 | G35: 1678 | H35: =IF(SUM(C35:G35)=0,"",SUM(C35:G35)) -> 12477
B36: février | D36: 951 | E36: 869 | F36: 6239 | G36: 4298 | H36: =IF(SUM(C36:G36)=0,"",SUM(C36:G36)) -> 12357
B37: mars | D37: 911 | E37: 364 | F37: 6168 | G37: 4947 | H37: =IF(SUM(C37:G37)=0,"",SUM(C37:G37)) -> 12390
B38: avril | D38: 1504 | E38: 1983 | F38: 12527 | G38: 2547 | H38: =IF(SUM(C38:G38)=0,"",SUM(C38:G38)) -> 18561
B39: mai | D39: 1127 | E39: 392 | F39: 8673 | G39: 6433 | H39: =IF(SUM(C39:G39)=0,"",SUM(C39:G39)) -> 16625
B40: juin | D40: 1085 | E40: 545 | F40: 7949 | G40: 7161 | H40: =IF(SUM(C40:G40)=0,"",SUM(C40:G40)) -> 16740
B41: juillet | D41: 1164 | E41: 2708 | F41: 16805 | G41: 8718 | H41: =IF(SUM(C41:G41)=0,"",SUM(C41:G41)) -> 29395
B42: août | D42: 836 | E42: 2306 | F42: 6875 | G42: 6701 | H42: =IF(SUM(C42:G42)=0,"",SUM(C42:G42)) -> 16718
B43: septembre | D43: 1127 | E43: 899 | F43: 5792 | G43: 4846 | H43: =IF(SUM(C43:G43)=0,"",SUM(C43:G43)) -> 12664
B44: octobre | D44: 1179 | E44: 642 | F44: 8313 | G44: 5548 | H44: =IF(SUM(C44:G44)=0,"",SUM(C44:G44)) -> 15682
B45: novembre | D45: 1669 | E45: 428 | F45: 7296 | G45: 11249 | H45: =IF(SUM(C45:G45)=0,"",SUM(C45:G45)) -> 20642
B46: décembre | D46: 1182 | E46: 1098 | F46: 10457 | G46: 4736 | H46: =IF(SUM(C46:G46)=0,"",SUM(C46:G46)) -> 17473
A47: 2026 | B47: janvier | D47: 1332 | E47: 1560 | F47: 5577 | G47: 5810 | H47: =IF(SUM(C47:G47)=0,"",SUM(C47:G47)) -> 14279
B48: février | D48: 1227 | E48: 1658 | F48: 7156 | G48: 3413 | H48: =IF(SUM(C48:G48)=0,"",SUM(C48:G48)) -> 13454
B49: mars | D49: 835 | E49: 1528 | F49: 4701 | G49: 4883 | H49: =IF(SUM(C49:G49)=0,"",SUM(C49:G49)) -> 11947
B50: avril | D50: 2525 | E50: 1524 | F50: 3851 | G50: 4928 | H50: =IF(SUM(C50:G50)=0,"",SUM(C50:G50)) -> 12828
B51: mai | D51: 1056 | E51: 2376 | F51: 10639 | G51: 4475 | H51: =IF(SUM(C51:G51)=0,"",SUM(C51:G51)) -> 18546
B52: juin | D52: 1410 | E52: 1047 | F52: 5079 | G52: 4408 | H52: =IF(SUM(C52:G52)=0,"",SUM(C52:G52)) -> 11944
B53: juillet | D53: 1387 | E53: 1766 | F53: 6815 | G53: 5933 | H53: =IF(SUM(C53:G53)=0,"",SUM(C53:G53)) -> 15901
B54: août | D54: 1459 | E54: 729 | F54: 6002 | G54: 5173 | H54: =IF(SUM(C54:G54)=0,"",SUM(C54:G54)) -> 13363
B55: septembre | D55: 1037 | E55: 1780 | F55: 5473 | G55: 11565 | H55: =IF(SUM(C55:G55)=0,"",SUM(C55:G55)) -> 19855
B56: octobre | H56: =IF(SUM(C56:G56)=0,"",SUM(C56:G56))
B57: novembre | H57: =IF(SUM(C57:G57)=0,"",SUM(C57:G57))
B58: décembre | H58: =IF(SUM(C58:G58)=0,"",SUM(C58:G58))
A59: =Titles!$A$12 -> Données de 2024, 2025 et 2026 fondées sur les définitions du recensement de 2021.
A60: 2 Données sont des mises en chantier réelles
A61: =Titles!$A$10 -> Source : Enquête sur les mises en chantier et les achèvements et Enquête sur les logements écoulés de la SCHL

Sheet Table 7
A1: Tableau 7
A2: Mises en chantier de logements dans les centres urbains1, provinces des Prairies,
A3: nombres désaisonnalisés annualisés
A6: Période | D6: Manitoba | E6: Saskatchewan | F6: Alberta | G6: Total
A7: 2024 2 | D7: 6164 | E7: 3991 | F7: 46632 | G7: 56787
A8: 2025 2 | D8: 7139 | E8: 5679 | F8: 53184 | G8: 66002
A9: 2024 | B9: 1er t. | D9: 4372 | E9: 3149 | F9: 43753 | G9: 51274
B10: 2e t. | D10: 6184 | E10: 3212 | F10: 44694 | G10: 54090
B11: 3e t. | D11: 7007 | E11: 5379 | F11: 46470 | G11: 58856
B12: 4e t. | D12: 7106 | E12: 4272 | F12: 51369 | G12: 62747
A13: 2025 | B13: 1er t. | D13: 5804 | E13: 5841 | F13: 51762 | G13: 63407
B14: 2e t. | D14: 6426 | E14: 5752 | F14: 62853 | G14: 75031
B15: 3e t. | D15: 8569 | E15: 5900 | F15: 49544 | G15: 64013
B16: 4e t. | D16: 7288 | E16: 5241 | F16: 48406 | G16: 60935
A17: 2026 | B17: 1er t. | D17: 7989 | E17: 4249 | F17: 45522 | G17: 57760
B18: 2e t. | D18: 9864 | E18: 7834 | F18: 45973 | G18: 63671
B19: 3e t. | D19: 6932 | E19: 5353 | F19: 52779 | G19: 65064
B20: 4e t.
A21: 2024 | B21: janvier | D21: 3909 | E21: 3164 | F21: 40836 | G21: =IF(SUM(B21:F21)=0,"",SUM(B21:F21)) -> 47909
B22: février | D22: 4297 | E22: 2798 | F22: 47499 | G22: =IF(SUM(B22:F22)=0,"",SUM(B22:F22)) -> 54594
B23: mars | D23: 4692 | E23: 3067 | F23: 39001 | G23: =IF(SUM(B23:F23)=0,"",SUM(B23:F23)) -> 46760
B24: avril | D24: 7551 | E24: 3959 | F24: 45456 | G24: =IF(SUM(B24:F24)=0,"",SUM(B24:F24)) -> 56966
B25: mai | D25: 2701 | E25: 1633 | F25: 48142 | G25: =IF(SUM(B25:F25)=0,"",SUM(B25:F25)) -> 52476
B26: juin | D26: 8461 | E26: 4303 | F26: 42072 | G26: =IF(SUM(B26:F26)=0,"",SUM(B26:F26)) -> 54836
B27: juillet | D27: 8958 | E27: 7260 | F27: 49192 | G27: =IF(SUM(B27:F27)=0,"",SUM(B27:F27)) -> 65410
B28: août | D28: 6961 | E28: 3180 | F28: 46296 | G28: =IF(SUM(B28:F28)=0,"",SUM(B28:F28)) -> 56437
B29: septembre | D29: 5265 | E29: 5740 | F29: 44168 | G29: =IF(SUM(B29:F29)=0,"",SUM(B29:F29)) -> 55173
B30: octobre | D30: 8428 | E30: 4334 | F30: 52382 | G30: =IF(SUM(B30:F30)=0,"",SUM(B30:F30)) -> 65144
B31: novembre | D31: 7813 | E31: 4836 | F31: 59640 | G31: =IF(SUM(B31:F31)=0,"",SUM(B31:F31)) -> 72289
B32: décembre | D32: 4969 | E32: 3349 | F32: 43565 | G32: =IF(SUM(B32:F32)=0,"",SUM(B32:F32)) -> 51883
A33: 2025 | B33: janvier | D33: 5309 | E33: 3152 | F33: 46301 | G33: =IF(SUM(B33:F33)=0,"",SUM(B33:F33)) -> 54762
B34: février | D34: 4185 | E34: 6181 | F34: 54617 | G34: =IF(SUM(B34:F34)=0,"",SUM(B34:F34)) -> 64983
B35: mars | D35: 8024 | E35: 7842 | F35: 51486 | G35: =IF(SUM(B35:F35)=0,"",SUM(B35:F35)) -> 67352
B36: avril | D36: 5951 | E36: 7541 | F36: 61605 | G36: =IF(SUM(B36:F36)=0,"",SUM(B36:F36)) -> 75097
B37: mai | D37: 8324 | E37: 5347 | F37: 66954 | G37: =IF(SUM(B37:F37)=0,"",SUM(B37:F37)) -> 80625
B38: juin | D38: 5068 | E38: 4561 | F38: 61381 | G38: =IF(SUM(B38:F38)=0,"",SUM(B38:F38)) -> 71010
B39: juillet | D39: 5549 | E39: 4682 | F39: 49528 | G39: =IF(SUM(B39:F39)=0,"",SUM(B39:F39)) -> 59759
B40: août | D40: 9047 | E40: 4482 | F40: 45517 | G40: =IF(SUM(B40:F40)=0,"",SUM(B40:F40)) -> 59046
B41: septembre | D41: 11037 | E41: 8356 | F41: 53366 | G41: =IF(SUM(B41:F41)=0,"",SUM(B41:F41)) -> 72759
B42: octobre | D42: 6039 | E42: 7523 | F42: 56335 | G42: =IF(SUM(B42:F42)=0,"",SUM(B42:F42)) -> 69897
B43: novembre | D43: 13392 | E43: 2895 | F43: 51935 | G43: =IF(SUM(B43:F43)=0,"",SUM(B43:F43)) -> 68222
B44: décembre | D44: 3695 | E44: 5436 | F44: 41000 | G44: =IF(SUM(B44:F44)=0,"",SUM(B44:F44)) -> 50131
A45: 2026 | B45: janvier | D45: 4116 | E45: 3091 | F45: 45038 | G45: =IF(SUM(B45:F45)=0,"",SUM(B45:F45)) -> 52245
B46: février | D46: 8756 | E46: 5197 | F46: 42857 | G46: =IF(SUM(B46:F46)=0,"",SUM(B46:F46)) -> 56810
B47: mars | D47: 8248 | E47: 2614 | F47: 39108 | G47: =IF(SUM(B47:F47)=0,"",SUM(B47:F47)) -> 49970
B48: avril | D48: 9765 | E48: 7001 | F48: 36419 | G48: =IF(SUM(B48:F48)=0,"",SUM(B48:F48)) -> 53185
B49: mai | D49: 8818 | E49: 8055 | F49: 56077 | G49: =IF(SUM(B49:F49)=0,"",SUM(B49:F49)) -> 72950
B50: juin | D50: 10799 | E50: 9067 | F50: 50322 | G50: =IF(SUM(B50:F50)=0,"",SUM(B50:F50)) -> 70188
B51: juillet | D51: 7378 | E51: 5962 | F51: 48684 | G51: =IF(SUM(B51:F51)=0,"",SUM(B51:F51)) -> 62024
B52: août | D52: 4540 | E52: 7669 | F52: 54097 | G52: =IF(SUM(B52:F52)=0,"",SUM(B52:F52)) -> 66306
B53: septembre | D53: 10239 | E53: 4613 | F53: 54450 | G53: =IF(SUM(B53:F53)=0,"",SUM(B53:F53)) -> 69302
B54: octobre | G54: =IF(SUM(B54:F54)=0,"",SUM(B54:F54))
B55: novembre | G55: =IF(SUM(B55:F55)=0,"",SUM(B55:F55))
B56: décembre | G56: =IF(SUM(B56:F56)=0,"",SUM(B56:F56))
A57: =Titles!$A$12 -> Données de 2024, 2025 et 2026 fondées sur les définitions du recensement de 2021.
A58: 2 Données sont des mises en chantier réelles
A59: =Titles!$A$10 -> Source : Enquête sur les mises en chantier et les achèvements et Enquête sur les logements écoulés de la SCHL

Sheet Table 8
A1: Tableau 8
A2: Nombres désaisonnalisés annualisés de mises en chantier de logements1
A5: Période | D5: St. John's | E5: Halifax | F5: Moncton | G5: Saint John | H5: Fredericton
A6: 2024 2 | D6: 871 | E6: 5081 | F6: 2997 | G6: 767 | H6: 749
A7: 2025 2 | D7: 1037 | E7: 7000 | F7: 2800 | G7: 666 | H7: 1427
A8: 2024 | B8: janvier | D8: 1072 | E8: 4279 | F8: 1385 | G8: 1334 | H8: 343
B9: février | D9: 519 | E9: 10979 | F9: 2270 | G9: 1695 | H9: 320
B10: mars | D10: 147 | E10: 6179 | F10: 430 | G10: 224 | H10: 325
B11: avril | D11: 668 | E11: 5954 | F11: 2133 | G11: 206 | H11: 375
B12: mai | D12: 585 | E12: 6411 | F12: 4626 | G12: 556 | H12: 1091
B13: juin | D13: 1027 | E13: 9055 | F13: 2572 | G13: 1105 | H13: 795
B14: juillet | D14: 778 | E14: 3707 | F14: 2356 | G14: 593 | H14: 446
B15: août | D15: 1102 | E15: 2452 | F15: 5113 | G15: 492 | H15: 1892
B16: septembre | D16: 915 | E16: 2618 | F16: 5249 | G16: 1126 | H16: 653
B17: octobre | D17: 1192 | E17: 2061 | F17: 3229 | G17: 259 | H17: 815
B18: novembre | D18: 1365 | E18: 3640 | F18: 3034 | G18: 883 | H18: 1621
B19: décembre | D19: 829 | E19: 3796 | F19: 3512 | G19: 738 | H19: 313
A20: 2025 | B20: janvier | D20: 825 | E20: 6392 | F20: 476 | G20: 545 | H20: 347
B21: février | D21: 852 | E21: 5674 | F21: 3432 | G21: 178 | H21: 344
B22: mars | D22: 782 | E22: 5171 | F22: 2183 | G22: 362 | H22: 1532
B23: avril | D23: 1355 | E23: 11011 | F23: 1740 | G23: 189 | H23: 216
B24: mai | D24: 1009 | E24: 6643 | F24: 3434 | G24: 806 | H24: 1526
B25: juin | D25: 976 | E25: 5536 | F25: 3733 | G25: 673 | H25: 2327
B26: juillet | D26: 1169 | E26: 14105 | F26: 4231 | G26: 768 | H26: 2934
B27: août | D27: 880 | E27: 5406 | F27: 4294 | G27: 429 | H27: 848
B28: septembre | D28: 1177 | E28: 4333 | F28: 1716 | G28: 1151 | H28: 698
B29: octobre | D29: 957 | E29: 6723 | F29: 1335 | G29: 454 | H29: 2380
B30: novembre | D30: 1514 | E30: 4783 | F30: 5374 | G30: 1595 | H30: 3149
B31: décembre | D31: 930 | E31: 8404 | F31: 1782 | G31: 850 | H31: 557
A32: 2026 | B32: janvier | D32: 982 | E32: 3499 | F32: 2315 | G32: 461 | H32: 1338
B33: février | D33: 832 | E33: 5139 | F33: 1449 | G33: 270 | H33: 208
B34: mars | D34: 379 | E34: 2828 | F34: 2853 | G34: 391 | H34: 234
B35: avril | D35: 2429 | E35: 2398 | F35: 2946 | G35: 173 | H35: 259
B36: mai | D36: 929 | E36: 9169 | F36: 2483 | G36: 670 | H36: 1513
B37: juin | D37: 1378 | E37: 3557 | F37: 1360 | G37: 104 | H37: 2361
B38: juillet | D38: 1193 | E38: 5360 | F38: 2546 | G38: 660 | H38: 3447
B39: août | D39: 1302 | E39: 4975 | F39: 3686 | G39: 1516 | H39: 585
B40: septembre | D40: 815 | E40: 4609 | F40: 7423 | G40: 751 | H40: 3780
B41: octobre
B42: novembre
B43: décembre
A44: =Titles!$A$12 -> Données de 2024, 2025 et 2026 fondées sur les définitions du recensement de 2021.
A45: 2 Données sont des mises en chantier réelles
A46: =Titles!$A$10 -> Source : Enquête sur les mises en chantier et les achèvements et Enquête sur les logements écoulés de la SCHL

Sheet Table 9
A1: Tableau 9
A2: Nombres désaisonnalisés annualisés de mises en chantier de logements1
A5: Période | D5: Québec | E5: Sherbrooke | F5: Trois-Rivières | G5: Montréal | H5: Gatineau | I5: Saguenay | J5: Drummondville
A6: 2024 2 | D6: 6905 | E6: 1932 | F6: 1684 | G6: 17570 | H6: 3655 | I6: 908 | J6: 1060
A7: 2025 2 | D7: 8583 | E7: 1813 | F7: 1428 | G7: 27777 | H7: 2120 | I7: 797 | J7: 1389
A8: 2024 | B8: janvier | D8: 6964 | E8: 1082 | F8: 1202 | G8: 14975 | H8: 2514 | I8: 557 | J8: 182
B9: février | D9: 3943 | E9: 550 | F9: 1754 | G9: 10438 | H9: 1876 | I9: 485 | J9: 633
B10: mars | D10: 6633 | E10: 1904 | F10: 485 | G10: 9994 | H10: 2082 | I10: 687 | J10: 558
B11: avril | D11: 8177 | E11: 977 | F11: 392 | G11: 13763 | H11: 790 | I11: 109 | J11: 657
B12: mai | D12: 7581 | E12: 1440 | F12: 1773 | G12: 28275 | H12: 9858 | I12: 348 | J12: 847
B13: juin | D13: 9852 | E13: 2572 | F13: 1052 | G13: 34944 | H13: 1718 | I13: 447 | J13: 1134
B14: juillet | D14: 7443 | E14: 776 | F14: 704 | G14: 8815 | H14: 3773 | I14: 450 | J14: 2650
B15: août | D15: 5111 | E15: 1460 | F15: 1762 | G15: 15656 | H15: 1378 | I15: 398 | J15: 1300
B16: septembre | D16: 7127 | E16: 3246 | F16: 7928 | G16: 13051 | H16: 4453 | I16: 788 | J16: 1000
B17: octobre | D17: 5031 | E17: 4282 | F17: 451 | G17: 16428 | H17: 8443 | I17: 3638 | J17: 1111
B18: novembre | D18: 12734 | E18: 3182 | F18: 985 | G18: 31302 | H18: 4165 | I18: 1151 | J18: 1818
B19: décembre | D19: 2016 | E19: 1710 | F19: 1719 | G19: 13353 | H19: 2821 | I19: 1848 | J19: 829
A20: 2025 | B20: janvier | D20: 6616 | E20: 794 | F20: 643 | G20: 31117 | H20: 4106 | I20: 737 | J20: 452
B21: février | D21: 6547 | E21: 1093 | F21: 473 | G21: 11094 | H21: 1423 | I21: 915 | J21: 1022
B22: mars | D22: 5203 | E22: 1444 | F22: 1425 | G22: 23633 | H22: 1491 | I22: 586 | J22: 1643
B23: avril | D23: 8090 | E23: 2306 | F23: 978 | G23: 22884 | H23: 1883 | I23: 413 | J23: 940
B24: mai | D24: 24353 | E24: 887 | F24: 3886 | G24: 31620 | H24: 5037 | I24: 841 | J24: 1197
B25: juin | D25: 6993 | E25: 3338 | F25: 1226 | G25: 32021 | H25: 1870 | I25: 295 | J25: 2009
B26: juillet | D26: 8267 | E26: 812 | F26: 755 | G26: 28216 | H26: 3304 | I26: 806 | J26: 1235
B27: août | D27: 4923 | E27: 624 | F27: 1567 | G27: 20376 | H27: 1726 | I27: 450 | J27: 1075
B28: septembre | D28: 8417 | E28: 2849 | F28: 1288 | G28: 30951 | H28: 681 | I28: 922 | J28: 1724
B29: octobre | D29: 12504 | E29: 1578 | F29: 2709 | G29: 33618 | H29: 1302 | I29: 747 | J29: 1160
B30: novembre | D30: 8989 | E30: 3475 | F30: 1392 | G30: 39024 | H30: 1274 | I30: 952 | J30: 2414
B31: décembre | D31: 1920 | E31: 2565 | F31: 795 | G31: 29058 | H31: 1422 | I31: 1890 | J31: 1813
A32: 2026 | B32: janvier | D32: 3712 | E32: 717 | F32: 718 | G32: 17541 | H32: 2203 | I32: 1010 | J32: 920
B33: février | D33: 8846 | E33: 2684 | F33: 237 | G33: 12977 | H33: 2850 | I33: 491 | J33: 653
B34: mars | D34: 9135 | E34: 5449 | F34: 2247 | G34: 29653 | H34: 4919 | I34: 3115 | J34: 1272
B35: avril | D35: 10890 | E35: 1641 | F35: 530 | G35: 28056 | H35: 4434 | I35: 763 | J35: 2850
B36: mai | D36: 12198 | E36: 1714 | F36: 1267 | G36: 37263 | H36: 4988 | I36: 573 | J36: 1343
B37: juin | D37: 6244 | E37: 1769 | F37: 2256 | G37: 35369 | H37: 1507 | I37: 1853 | J37: 332
B38: juillet | D38: 12223 | E38: 1796 | F38: 661 | G38: 28908 | H38: 1753 | I38: 987 | J38: 1437
B39: août | D39: 8152 | E39: 1254 | F39: 1013 | G39: 23434 | H39: 981 | I39: 1068 | J39: 856
B40: septembre | D40: 16547 | E40: 1388 | F40: 538 | G40: 15057 | H40: 753 | I40: 1584 | J40: 552
B41: octobre
B42: novembre
B43: décembre
A44: =Titles!$A$12 -> Données de 2024, 2025 et 2026 fondées sur les définitions du recensement de 2021.
A45: 2 Données sont des mises en chantier réelles
A46: =Titles!$A$10 -> Source : Enquête sur les mises en chantier et les achèvements et Enquête sur les logements écoulés de la SCHL

Sheet Table 10
A1: Tableau 10
A2: Nombres désaisonnalisés annualisés de mises en chantier de logements1
A5: Période | D5: Ottawa | E5: Kingston | F5: Belleville - Quinte West | G5: Peterborough | H5: Oshawa | I5: Toronto
A6: 2024 2 | D6: 7894 | E6: 1015 | F6: 387 | G6: 313 | H6: 1591 | I6: 37718
A7: 2025 2 | D7: 10864 | E7: 1094 | F7: 636 | G7: 100 | H7: 1014 | I7: 26087
A8: =Titles!A21 -> 2024 | B8: janvier | D8: 3370 | E8: 385 | F8: 205 | G8: 131 | H8: 4311 | I8: 49112
B9: février | D9: 5511 | E9: 485 | F9: 1169 | G9: 117 | H9: 1178 | I9: 57342
B10: mars | D10: 6822 | E10: 251 | F10: 448 | G10: 174 | H10: 1290 | I10: 42221
B11: avril | D11: 4723 | E11: 384 | F11: 294 | G11: 277 | H11: 1499 | I11: 37316
B12: mai | D12: 8361 | E12: 382 | F12: 206 | G12: 131 | H12: 1875 | I12: 54390
B13: juin | D13: 6225 | E13: 334 | F13: 256 | G13: 837 | H13: 2890 | I13: 34424
B14: juillet | D14: 10957 | E14: 264 | F14: 253 | G14: 107 | H14: 788 | I14: 65143
B15: août | D15: 7240 | E15: 1285 | F15: 362 | G15: 723 | H15: 3268 | I15: 24783
B16: septembre | D16: 17859 | E16: 320 | F16: 556 | G16: 267 | H16: 492 | I16: 19753
B17: octobre | D17: 7243 | E17: 2223 | F17: 314 | G17: 272 | H17: 553 | I17: 28821
B18: novembre | D18: 9007 | E18: 261 | F18: 470 | G18: 730 | H18: 612 | I18: 26310
B19: décembre | D19: 7295 | E19: 5705 | F19: 311 | G19: 53 | H19: 446 | I19: 12078
A20: =Titles!A22 -> 2025 | B20: janvier | D20: 6512 | E20: 2152 | F20: 181 | G20: 155 | H20: 213 | I20: 29231
B21: février | D21: 12671 | E21: 413 | F21: 2174 | G21: 350 | H21: 305 | I21: 18872
B22: mars | D22: 7774 | E22: 245 | F22: 178 | G22: 50 | H22: 846 | I22: 14843
B23: avril | D23: 17142 | E23: 617 | F23: 160 | G23: 14 | H23: 819 | I23: 28134
B24: mai | D24: 7398 | E24: 241 | F24: 99 | G24: 69 | H24: 956 | I24: 42880
B25: juin | D25: 12218 | E25: 6178 | F25: 435 | G25: 79 | H25: 735 | I25: 20716
B26: juillet | D26: 13945 | E26: 385 | F26: 1246 | G26: 276 | H26: 1163 | I26: 20074
B27: août | D27: 4283 | E27: 246 | F27: 165 | G27: 83 | H27: 2797 | I27: 25236
B28: septembre | D28: 5572 | E28: 52 | F28: 1083 | G28: 117 | H28: 1054 | I28: 43354
B29: octobre | D29: 8594 | E29: 1090 | F29: 609 | G29: 80 | H29: 753 | I29: 16578
B30: novembre | D30: 11345 | E30: 644 | F30: 365 | G30: 60 | H30: 1313 | I30: 23589
B31: décembre | D31: 22703 | E31: 1014 | F31: 979 | G31: 87 | H31: 1050 | I31: 29736
A32: =Titles!A23 -> 2026 | B32: janvier | D32: 6603 | E32: 551 | F32: 179 | G32: 61 | H32: 1191 | I32: 28390
B33: février | D33: 14477 | E33: 144 | F33: 19 | G33: 111 | H33: 1208 | I33: 13781
B34: mars | D34: 9230 | E34: 193 | F34: 196 | G34: 223 | H34: 103 | I34: 18379
B35: avril | D35: 10517 | E35: 94 | F35: 130 | G35: 1 | H35: 109 | I35: 37524
B36: mai | D36: 7694 | E36: 2673 | F36: 156 | G36: 97 | H36: 407 | I36: 37810
B37: juin | D37: 14666 | E37: 187 | F37: 1020 | G37: 166 | H37: 1716 | I37: 25265
B38: juillet | D38: 12183 | E38: 598 | F38: 306 | G38: 797 | H38: 1221 | I38: 17833
B39: août | D39: 14749 | E39: 506 | F39: 276 | G39: 129 | H39: 724 | I39: 13940
B40: septembre | D40: 10216 | E40: 545 | F40: 158 | G40: 950 | H40: 803 | I40: 16649
B41: octobre
B42: novembre
B43: décembre
A44: =Titles!$A$12 -> Données de 2024, 2025 et 2026 fondées sur les définitions du recensement de 2021.
A45: 2 Données sont des mises en chantier réelles
A46: =Titles!$A$10 -> Source : Enquête sur les mises en chantier et les achèvements et Enquête sur les logements écoulés de la SCHL

Sheet Table 11
A1: Tableau 11
A2: Nombres désaisonnalisés annualisés de mises en chantier de logements1
A4: Période | D4: Hamilton | E4: St Catharines-Niagara | F4: Kitchener-Cambridge-Waterloo | G4: Brantford | H4: Guelph
A6: 2024 2 | D6: 2627 | E6: 1743 | F6: 3411 | G6: 359 | H6: 452
A7: 2025 2 | D7: 3146 | E7: 2514 | F7: 4306 | G7: 1650 | H7: 321
A8: =Titles!A21 -> 2024 | B8: janvier | D8: 3255 | E8: 1383 | F8: 2331 | G8: 328 | H8: 54
B9: février | D9: 2566 | E9: 2050 | F9: 2066 | G9: 415 | H9: 1223
B10: mars | D10: 714 | E10: 1602 | F10: 1461 | G10: 178 | H10: 128
B11: avril | D11: 723 | E11: 1735 | F11: 6159 | G11: 176 | H11: 425
B12: mai | D12: 5423 | E12: 3142 | F12: 802 | G12: 72 | H12: 91
B13: juin | D13: 262 | E13: 885 | F13: 6871 | G13: 60 | H13: 414
B14: juillet | D14: 3784 | E14: 1644 | F14: 2847 | G14: 310 | H14: 1359
B15: août | D15: 1424 | E15: 2334 | F15: 3955 | G15: 263 | H15: 340
B16: septembre | D16: 5397 | E16: 743 | F16: 1764 | G16: 783 | H16: 614
B17: octobre | D17: 1476 | E17: 1130 | F17: 3714 | G17: 726 | H17: 109
B18: novembre | D18: 651 | E18: 3552 | F18: 942 | G18: 883 | H18: 445
B19: décembre | D19: 5819 | E19: 667 | F19: 7962 | G19: 133 | H19: 217
A20: =Titles!A22 -> 2025 | B20: janvier | D20: 438 | E20: 1442 | F20: 2554 | G20: 3186 | H20: 54
B21: février | D21: 5176 | E21: 2533 | F21: 3549 | G21: 234 | H21: 43
B22: mars | D22: 412 | E22: 1238 | F22: 4333 | G22: 1181 | H22: 46
B23: avril | D23: 2526 | E23: 966 | F23: 3108 | G23: 3590 | H23: 126
B24: mai | D24: 1044 | E24: 1373 | F24: 694 | G24: 4236 | H24: 222
B25: juin | D25: 1421 | E25: 3865 | F25: 600 | G25: 2210 | H25: 137
B26: juillet | D26: 11140 | E26: 3317 | F26: 4579 | G26: 213 | H26: 543
B27: août | D27: 2538 | E27: 2782 | F27: 7767 | G27: 2443 | H27: 56
B28: septembre | D28: 244 | E28: 409 | F28: 15216 | G28: 1078 | H28: 505
B29: octobre | D29: 999 | E29: 1777 | F29: 1445 | G29: 652 | H29: 123
B30: novembre | D30: 911 | E30: 2827 | F30: 963 | G30: 604 | H30: 162
B31: décembre | D31: 10789 | E31: 7736 | F31: 6760 | G31: 265 | H31: 1833
A32: =Titles!A23 -> 2026 | B32: janvier | D32: 2129 | E32: 2050 | F32: 2430 | G32: 2940 | H32: 199
B33: février | D33: 6227 | E33: 4153 | F33: 12626 | G33: 358 | H33: 127
B34: mars | D34: 261 | E34: 3585 | F34: 694 | G34: 1609 | H34: 237
B35: avril | D35: 469 | E35: 1145 | F35: 10293 | G35: 1057 | H35: 128
B36: mai | D36: 121 | E36: 1883 | F36: 3286 | G36: 2091 | H36: 75
B37: juin | D37: 2367 | E37: 3344 | F37: 943 | G37: 187 | H37: 183
B38: juillet | D38: 2122 | E38: 2241 | F38: 2505 | G38: 178 | H38: 15
B39: août | D39: 771 | E39: 1381 | F39: 1174 | G39: 424 | H39: 69
B40: septembre | D40: 785 | E40: 1979 | F40: 1535 | G40: 881 | H40: 1185
B41: octobre
B42: novembre
B43: décembre
A44: =Titles!$A$12 -> Données de 2024, 2025 et 2026 fondées sur les définitions du recensement de 2021.
A45: 2 Données sont des mises en chantier réelles
A46: =Titles!$A$10 -> Source : Enquête sur les mises en chantier et les achèvements et Enquête sur les logements écoulés de la SCHL

Sheet Table 12
A1: Tableau 12
A2: Nombres désaisonnalisés annualisés de mises en chantier de logements1
A4: Période | D4: London | E4: Windsor | F4: Barrie | G4: Greater/Grand Sudbury | H4: Thunder Bay
A6: 2024 2 | D6: 4171 | E6: 2157 | F6: 1505 | G6: 654 | H6: 300
A7: 2025 2 | D7: 3106 | E7: 1262 | F7: 802 | G7: 355 | H7: 221
A8: 2024 | B8: janvier | D8: 2378 | E8: 2604 | F8: 592 | G8: 90 | H8: 149
B9: février | D9: 2710 | E9: 265 | F9: 593 | G9: 437 | H9: 109
B10: mars | D10: 6699 | E10: 708 | F10: 1005 | G10: 66 | H10: 396
B11: avril | D11: 5121 | E11: 3905 | F11: 672 | G11: 4 | H11: 94
B12: mai | D12: 1786 | E12: 1412 | F12: 1032 | G12: 306 | H12: 157
B13: juin | D13: 2222 | E13: 4155 | F13: 730 | G13: 3 | H13: 112
B14: juillet | D14: 7214 | E14: 2080 | F14: 1102 | G14: 156 | H14: 801
B15: août | D15: 5566 | E15: 1643 | F15: 2099 | G15: 0 | H15: 37
B16: septembre | D16: 2332 | E16: 3732 | F16: 1824 | G16: 509 | H16: 411
B17: octobre | D17: 6153 | E17: 1726 | F17: 737 | G17: 449 | H17: 1003
B18: novembre | D18: 2203 | E18: 2060 | F18: 962 | G18: 5439 | H18: 176
B19: décembre | D19: 5564 | E19: 1282 | F19: 7064 | G19: 547 | H19: 154
A20: 2025 | B20: janvier | D20: 889 | E20: 669 | F20: 294 | G20: 88 | H20: 280
B21: février | D21: 1292 | E21: 801 | F21: 704 | G21: 91 | H21: 96
B22: mars | D22: 1949 | E22: 488 | F22: 179 | G22: 108 | H22: 167
B23: avril | D23: 1005 | E23: 784 | F23: 457 | G23: 44 | H23: 108
B24: mai | D24: 592 | E24: 784 | F24: 556 | G24: 885 | H24: 243
B25: juin | D25: 4091 | E25: 1873 | F25: 640 | G25: 304 | H25: 184
B26: juillet | D26: 4714 | E26: 2800 | F26: 3982 | G26: 424 | H26: 420
B27: août | D27: 1444 | E27: 852 | F27: 354 | G27: 275 | H27: 109
B28: septembre | D28: 13095 | E28: 1512 | F28: 369 | G28: 150 | H28: 697
B29: octobre | D29: 2247 | E29: 629 | F29: 720 | G29: 190 | H29: 154
B30: novembre | D30: 3872 | E30: 2732 | F30: 1126 | G30: 1345 | H30: 144
B31: décembre | D31: 2296 | E31: 1262 | F31: 176 | G31: 344 | H31: 65
A32: 2026 | B32: janvier | D32: 4695 | E32: 324 | F32: 207 | G32: 139 | H32: 1050
B33: février | D33: 967 | E33: 226 | F33: 629 | G33: 119 | H33: 319
B34: mars | D34: 6783 | E34: 469 | F34: 156 | G34: 459 | H34: 91
B35: avril | D35: 11682 | E35: 2656 | F35: 237 | G35: 138 | H35: 155
B36: mai | D36: 1507 | E36: 1004 | F36: 1677 | G36: 198 | H36: 1049
B37: juin | D37: 4487 | E37: 921 | F37: 756 | G37: 102 | H37: 360
B38: juillet | D38: 1977 | E38: 595 | F38: 3007 | G38: 445 | H38: 243
B39: août | D39: 2406 | E39: 849 | F39: 1253 | G39: 475 | H39: 261
B40: septembre | D40: 2487 | E40: 1093 | F40: 287 | G40: 730 | H40: 961
B41: octobre
B42: novembre
B43: décembre
A44: Données de 2022 fondées sur les définitions du recensement de 2016 et les données de 2023, 2024 et 2025 fondées sur les définitions du recensement de 2021.
A45: 2 Données sont des mises en chantier réelles
A46: Source : Enquête sur les mises en chantier et les achèvements et Enquête sur les logements écoulés de la SCHL

Sheet Table 13
A1: Tableau 13
A2: Nombres désaisonnalisés annualisés de mises en chantier de logements1
A5: Période | D5: Winnipeg | E5: Regina | F5: Saskatoon | G5: Lethbridge | H5: Calgary | I5: Red Deer
A6: 2024 2 | D6: 5151 | E6: 1223 | F6: 2656 | G6: 715 | H6: 24369 | I6: 354
A7: 2025 2 | D7: 6061 | E7: 1687 | F7: 3812 | G7: 620 | H7: 27684 | I7: 405
A8: =Titles!A21 -> 2024 | B8: janvier | D8: 3472 | E8: 1443 | F8: 1600 | G8: 1308 | H8: 24687 | I8: 137
B9: février | D9: 3913 | E9: 920 | F9: 1837 | G9: 360 | H9: 21443 | I9: 2088
B10: mars | D10: 4312 | E10: 1135 | F10: 1784 | G10: 216 | H10: 21917 | I10: 137
B11: avril | D11: 7060 | E11: 2725 | F11: 1163 | G11: 794 | H11: 22189 | I11: 848
B12: mai | D12: 2141 | E12: 453 | F12: 1107 | G12: 693 | H12: 23396 | I12: 144
B13: juin | D13: 7871 | E13: 1420 | F13: 2707 | G13: 248 | H13: 22687 | I13: 128
B14: juillet | D14: 6391 | E14: 1714 | F14: 5350 | G14: 48 | H14: 29126 | I14: 197
B15: août | D15: 5563 | E15: 542 | F15: 2442 | G15: 3341 | H15: 20220 | I15: 44
B16: septembre | D16: 3288 | E16: 740 | F16: 4804 | G16: 206 | H16: 24113 | I16: 137
B17: octobre | D17: 7700 | E17: 1664 | F17: 2655 | G17: 281 | H17: 31515 | I17: 170
B18: novembre | D18: 6585 | E18: 491 | F18: 4302 | G18: 836 | H18: 29724 | I18: 131
B19: décembre | D19: 3518 | E19: 1241 | F19: 2061 | G19: 285 | H19: 21363 | I19: 158
A20: =Titles!A22 -> 2025 | B20: janvier | D20: 4646 | E20: 1339 | F20: 1494 | G20: 1563 | H20: 20996 | I20: 311
B21: février | D21: 2982 | E21: 4180 | F21: 1805 | G21: 298 | H21: 30355 | I21: 119
B22: mars | D22: 7370 | E22: 916 | F22: 6443 | G22: 608 | H22: 28243 | I22: 135
B23: avril | D23: 4922 | E23: 3428 | F23: 3813 | G23: 513 | H23: 36578 | I23: 147
B24: mai | D24: 7969 | E24: 719 | F24: 4442 | G24: 955 | H24: 35813 | I24: 2241
B25: juin | D25: 4126 | E25: 924 | F25: 3303 | G25: 567 | H25: 26863 | I25: 487
B26: juillet | D26: 4538 | E26: 798 | F26: 3882 | G26: 458 | H26: 22163 | I26: 187
B27: août | D27: 7824 | E27: 941 | F27: 3521 | G27: 261 | H27: 24541 | I27: 288
B28: septembre | D28: 9698 | E28: 3556 | F28: 4778 | G28: 462 | H28: 26180 | I28: 173
B29: octobre | D29: 4541 | E29: 1860 | F29: 5517 | G29: 325 | H29: 36077 | I29: 225
B30: novembre | D30: 11542 | E30: 934 | F30: 1852 | G30: 284 | H30: 29230 | I30: 175
B31: décembre | D31: 2592 | E31: 640 | F31: 4682 | G31: 1110 | H31: 15405 | I31: 357
A32: =Titles!A23 -> 2026 | B32: janvier | D32: 3021 | E32: 907 | F32: 2252 | G32: 280 | H32: 25663 | I32: 86
B33: février | D33: 7495 | E33: 1316 | F33: 3871 | G33: 711 | H33: 17090 | I33: 252
B34: mars | D34: 7130 | E34: 379 | F34: 2295 | G34: 2203 | H34: 20562 | I34: 1672
B35: avril | D35: 8976 | E35: 4890 | F35: 1996 | G35: 293 | H35: 14772 | I35: 98
B36: mai | D36: 7862 | E36: 1087 | F36: 6813 | G36: 246 | H36: 31974 | I36: 373
B37: juin | D37: 10006 | E37: 3147 | F37: 5692 | G37: 1246 | H37: 28065 | I37: 554
B38: juillet | D38: 6457 | E38: 916 | F38: 4806 | G38: 1503 | H38: 17682 | I38: 239
B39: août | D39: 3850 | E39: 3586 | F39: 3903 | G39: 804 | H39: 26898 | I39: 213
B40: septembre | D40: 9541 | E40: 715 | F40: 3716 | G40: 248 | H40: 29898 | I40: 233
B41: octobre
B42: novembre
B43: décembre
A44: =Titles!$A$12 -> Données de 2024, 2025 et 2026 fondées sur les définitions du recensement de 2021.
A45: 2 Données sont des mises en chantier réelles
A46: =Titles!$A$10 -> Source : Enquête sur les mises en chantier et les achèvements et Enquête sur les logements écoulés de la SCHL

Sheet Table 14
A1: Tableau 14
A2: Nombres désaisonnalisés annualisés de mises en chantier de logements1
A4: Période | D4: Edmonton | E4: Kelowna | F4: Abbotsford-Mission | G4: Vancouver | H4: Victoria | I4: Chilliwack | J4: Kamloops | K4: Nanaimo
A6: 2024 2 | D6: 18384 | E6: 3790 | F6: 1183 | G6: 28112 | H6: 4185 | I6: 650 | J6: 630 | K6: 1029
A7: 2025 2 | D7: 21337 | E7: 2600 | F7: 2125 | G7: 27185 | H7: 4859 | I7: 598 | J7: 441 | K7: 448
A8: =Titles!A21 -> 2024 | B8: janvier | D8: 11206 | E8: 1515 | F8: 1277 | G8: 18299 | H8: 2248 | I8: 111 | J8: 42 | K8: 2571
B9: février | D9: 20382 | E9: 4419 | F9: 826 | G9: 32941 | H9: 3391 | I9: 309 | J9: 267 | K9: 216
B10: mars | D10: 14597 | E10: 4780 | F10: 1848 | G10: 41759 | H10: 5475 | I10: 1557 | J10: 199 | K10: 30
B11: avril | D11: 19409 | E11: 2365 | F11: 690 | G11: 34721 | H11: 6072 | I11: 204 | J11: 120 | K11: 4595
B12: mai | D12: 21216 | E12: 12596 | F12: 1647 | G12: 23525 | H12: 1802 | I12: 316 | J12: 1270 | K12: 312
B13: juin | D13: 16024 | E13: 7191 | F13: 484 | G13: 20599 | H13: 4037 | I13: 1404 | J13: 142 | K13: 923
B14: juillet | D14: 18323 | E14: 5085 | F14: 596 | G14: 30037 | H14: 4201 | I14: 339 | J14: 290 | K14: 641
B15: août | D15: 21047 | E15: 670 | F15: 265 | G15: 20404 | H15: 5372 | I15: 246 | J15: 58 | K15: 150
B16: septembre | D16: 16809 | E16: 5553 | F16: 3171 | G16: 23426 | H16: 4274 | I16: 184 | J16: 781 | K16: 164
B17: octobre | D17: 16882 | E17: 628 | F17: 768 | G17: 30411 | H17: 3471 | I17: 141 | J17: 832 | K17: 304
B18: novembre | D18: 25574 | E18: 590 | F18: 981 | G18: 32050 | H18: 3732 | I18: 1743 | J18: 3494 | K18: 1773
B19: décembre | D19: 17854 | E19: 200 | F19: 1638 | G19: 28958 | H19: 6103 | I19: 1225 | J19: 86 | K19: 751
A20: =Titles!A22 -> 2025 | B20: janvier | D20: 18460 | E20: 4484 | F20: 3629 | G20: 24954 | H20: 1359 | I20: 182 | J20: 239 | K20: 72
B21: février | D21: 19057 | E21: 1508 | F21: 1971 | G21: 17252 | H21: 1731 | I21: 637 | J21: 1213 | K21: 1023
B22: mars | D22: 18146 | E22: 884 | F22: 2861 | G22: 17450 | H22: 4403 | I22: 937 | J22: 206 | K22: 203
B23: avril | D23: 22244 | E23: 2353 | F23: 2488 | G23: 36827 | H23: 4667 | I23: 1513 | J23: 96 | K23: 307
B24: mai | D24: 25485 | E24: 4907 | F24: 711 | G24: 21140 | H24: 4511 | I24: 231 | J24: 86 | K24: 261
B25: juin | D25: 30687 | E25: 7840 | F25: 3742 | G25: 36549 | H25: 11589 | I25: 290 | J25: 242 | K25: 627
B26: juillet | D26: 25230 | E26: 2344 | F26: 2626 | G26: 37128 | H26: 6928 | I26: 255 | J26: 2176 | K26: 114
B27: août | D27: 18636 | E27: 273 | F27: 979 | G27: 29962 | H27: 7537 | I27: 192 | J27: 10 | K27: 1413
B28: septembre | D28: 21066 | E28: 1174 | F28: 2718 | G28: 23241 | H28: 2651 | I28: 1205 | J28: 91 | K28: 221
B29: octobre | D29: 17561 | E29: 2180 | F29: 2725 | G29: 19442 | H29: 4249 | I29: 411 | J29: 91 | K29: 369
B30: novembre | D30: 19704 | E30: 2553 | F30: 574 | G30: 28528 | H30: 3239 | I30: 773 | J30: 429 | K30: 501
B31: décembre | D31: 21185 | E31: 851 | F31: 471 | G31: 33930 | H31: 5412 | I31: 534 | J31: 430 | K31: 200
A32: =Titles!A23 -> 2026 | B32: janvier | D32: 14284 | E32: 2547 | F32: 509 | G32: 33641 | H32: 5006 | I32: 193 | J32: 5024 | K32: 85
B33: février | D33: 18833 | E33: 4233 | F33: 248 | G33: 27420 | H33: 1933 | I33: 242 | J33: 404 | K33: 102
B34: mars | D34: 12096 | E34: 237 | F34: 356 | G34: 21032 | H34: 1605 | I34: 256 | J34: 224 | K34: 817
B35: avril | D35: 20129 | E35: 1593 | F35: 2236 | G35: 25794 | H35: 10374 | I35: 3850 | J35: 4373 | K35: 2796
B36: mai | D36: 22114 | E36: 2887 | F36: 5564 | G36: 19602 | H36: 2814 | I36: 203 | J36: 663 | K36: 281
B37: juin | D37: 18618 | E37: 2430 | F37: 496 | G37: 23839 | H37: 858 | I37: 914 | J37: 1226 | K37: 1331
B38: juillet | D38: 25119 | E38: 1357 | F38: 199 | G38: 21544 | H38: 1983 | I38: 274 | J38: 204 | K38: 977
B39: août | D39: 20280 | E39: 605 | F39: 374 | G39: 35346 | H39: 728 | I39: 93 | J39: 69 | K39: 455
B40: septembre | D40: 18365 | E40: 1472 | F40: 1001 | G40: 29563 | H40: 10478 | I40: 1485 | J40: 1573 | K40: 284
B41: octobre
B42: novembre
B43: décembre
A44: Données de 2022 fondées sur les définitions du recensement de 2016 et les données de 2023, 2024 et 2025 fondées sur les définitions du recensement de 2021.
A45: 2 Données sont des mises en chantier réelles
A46: Source : Enquête sur les mises en chantier et les achèvements et Enquête sur les logements écoulés de la SCHL

Sheet Table 15
A1: Tableau 15
A2: Nombres désaisonnalisés annualisés de mises en chantier de logements1
A5: Période | D5: Montréal | E5: Toronto | F5: Vancouver
A6: =Titles!A23 -> 2026
A7: Maisons individuelles | B7: janvier | D7: 1313 | E7: 2470 | F7: 2405
B8: février | D8: 1255 | E8: 2237 | F8: 2172
B9: mars | D9: 970 | E9: 1891 | F9: 2360
B10: avril | D10: 1169 | E10: 2244 | F10: 1398
B11: mai | D11: 1530 | E11: 3214 | F11: 2094
B12: juin | D12: 1274 | E12: 3317 | F12: 1747
B13: juillet | D13: 1194 | E13: 2689 | F13: 1840
B14: août | D14: 1263 | E14: 2276 | F14: 1722
B15: septembre | D15: 969 | E15: 2201 | F15: 1735
B16: octobre
B17: novembre
B18: décembre
A19: Autres | B19: janvier | D19: 16228 | E19: 25920 | F19: 31236
B20: février | D20: 11722 | E20: 11544 | F20: 25248
B21: mars | D21: 28683 | E21: 16488 | F21: 18672
B22: avril | D22: 26887 | E22: 35280 | F22: 24396
B23: mai | D23: 35733 | E23: 34596 | F23: 17508
B24: juin | D24: 34095 | E24: 21948 | F24: 22092
B25: juillet | D25: 27714 | E25: 15144 | F25: 19704
B26: août | D26: 22171 | E26: 11664 | F26: 33624
B27: septembre | D27: 14088 | E27: 14448 | F27: 27828
B28: octobre
B29: novembre
B30: décembre
A31: Total | B31: janvier | D31: 17541 | E31: 28390 | F31: 33641
B32: février | D32: 12977 | E32: 13781 | F32: 27420
B33: mars | D33: 29653 | E33: 18379 | F33: 21032
B34: avril | D34: 28056 | E34: 37524 | F34: 25794
B35: mai | D35: 37263 | E35: 37810 | F35: 19602
B36: juin | D36: 35369 | E36: 25265 | F36: 23839
B37: juillet | D37: 28908 | E37: 17833 | F37: 21544
B38: août | D38: 23434 | E38: 13940 | F38: 35346
B39: septembre | D39: 15057 | E39: 16649 | F39: 29563
B40: octobre
B41: novembre
B42: décembre
A43: =Titles!$A$14 -> Données de 2024, 2025 et 2026 fondées sur les définitions du recensement de 2021.
A44: =Titles!$A$10 -> Source : Enquête sur les mises en chantier et les achèvements et Enquête sur les logements écoulés de la SCHL

Sheet Table 16
A1: Tableau 16
A2: Écoulement des logements propriétaire-occupant et copropriété selon le type,
A3: dans les régions métropolitaines, les grands centres urbains
A4: et les agglomérations urbaines de recensement1
D5: Maisons individuelles et jumelés | G5: Logements en rangée, appartements
G6: et autres (excluant les jumelés)
D7: Pourcentage | E7: Logements | G7: Logements | H7: Achevés
A8: Période | D8: écoulé à | E8: nouvellement | F8: En | G8: nouvellement | H8: mais | I8: En
D9: l'achèvement | E9: achevés mais | F9: construction2 | G9: achevés mais | H9: non écoulés | I9: construction2
E10: non écoulés | G10: non écoulés
A11: =Titles!A22 -> 2025 | B11: 1er t. | D11: 73 | E11: 6268 | F11: 33535 | G11: 91 | H11: 8098 | I11: 161395
B12: 2e t. | D12: 70 | E12: 6081 | F12: 34549 | G12: 85 | H12: 8664 | I12: 156156
B13: 3e t. | D13: 70 | E13: 6774 | F13: 37130 | G13: 82 | H13: 9341 | I13: 154495
B14: 4e t. | D14: 66 | E14: 7337 | F14: 33431 | G14: 74 | H14: 11661 | I14: 148230
A15: =Titles!A23 -> 2026 | B15: 1er t. | D15: 65 | E15: 8,247 | F15: 32,687 | G15: 73 | H15: 11,568 | I15: 142,403
B16: 2e t. | D16: 65 | E16: 7900 | F16: 33802 | G16: 71 | H16: 12950 | I16: 136176
B17: 3e t. | D17: 65 | E17: 7812 | F17: 35400 | G17: 78 | H17: 13531 | I17: 128822
B18: 4e t.
A19: =Titles!A22 -> 2025 | B19: janvier | D19: 76 | E19: 6063 | F19: 35349 | G19: 90 | H19: 7714 | I19: 167381
B20: février | D20: 72 | E20: 6135 | F20: 34377 | G20: 78 | H20: 7841 | I20: 166198
B21: mars | D21: 73 | E21: 6268 | F21: 33535 | G21: 91 | H21: 8098 | I21: 161395
B22: avril | D22: 70 | E22: 6148 | F22: 33921 | G22: 85 | H22: 8212 | I22: 162466
B23: mai | D23: 70 | E23: 6099 | F23: 34204 | G23: 89 | H23: 8318 | I23: 159749
B24: juin | D24: 70 | E24: 6081 | F24: 34549 | G24: 80 | H24: 8664 | I24: 156156
B25: juillet | D25: 70 | E25: 6144 | F25: 34710 | G25: 82 | H25: 8164 | I25: 156223
B26: août | D26: 71 | E26: 6171 | F26: 34743 | G26: 83 | H26: 8338 | I26: 154879
B27: septembre | D27: 68 | E27: 6774 | F27: 37130 | G27: 82 | H27: 9341 | I27: 154495
B28: octobre | D28: 67 | E28: 6622 | F28: 34919 | G28: 77 | H28: 10302 | I28: 148474
B29: novembre | D29: 67 | E29: 7061 | F29: 34208 | G29: 66 | H29: 11335 | I29: 147187
B30: décembre | D30: 65 | E30: 7337 | F30: 33431 | G30: 78 | H30: 11661 | I30: 148230
A31: =Titles!A23 -> 2026 | B31: janvier | D31: 65 | E31: 7353 | F31: 32836 | G31: 74 | H31: 10957 | I31: 148451
B32: février | D32: 63 | E32: 7,668 | F32: 33,901 | G32: 79 | H32: 10,523 | I32: 147,387
B33: mars | D33: 65 | E33: 8,247 | F33: 32,687 | G33: 68 | H33: 11,568 | I33: 142,403
B34: avril | D34: 62 | E34: 8271 | F34: 32791 | G34: 75 | H34: 11857 | I34: 140183
B35: mai | D35: 65 | E35: 8154 | F35: 33486 | G35: 64 | H35: 12829 | I35: 138201
B36: juin | D36: 70 | E36: 7900 | F36: 33802 | G36: 75 | H36: 12950 | I36: 136176
B37: juillet | D37: 67 | E37: 7723 | F37: 34411 | G37: 69 | H37: 12875 | I37: 135548
B38: août | D38: 64 | E38: 7775 | F38: 35059 | G38: 81 | H38: 13035 | I38: 131258
B39: septembre | D39: 63 | E39: 7812 | F39: 35400 | G39: 82 | H39: 13531 | I39: 128822
B40: octobre
B41: novembre
B42: décembre
A43: 1 Données 2024, 2025 et 2026 basées sur la CGT du recensement de 2021. Les données de janvier 2023 à décembre 2025 incluent uniquement les données des régions métropolitaines de recensement.
A44: 2 En construction n'inclus pas les unités dont le marché visé est inconnu.
A45: Avis important: La SCHL procède actuellement à une révision méthodologique des données sur les stocks non écoulés en Ontario. Des mises à jour suivront. Entre-temps, veuillez utiliser ces données avec prudence. Merci de votre compréhension.
A46: =Titles!$A$10 -> Source : Enquête sur les mises en chantier et les achèvements et Enquête sur les logements écoulés de la SCHL

Sheet Tables 17-18
A1: Tableau 17
A2: Mises en chantier de logements dans les centres urbains et l'ensemble du pays,
A3: nombres désaisonnalisés annualisés
D5: Centres de 10 000 habitants | G5: Autres collectivités | J5: Canada
D6: et plus1
D8: Maisons | E8: Autres | F8: Total | G8: Maisons | H8: Autres | I8: Total | J8: Maisons | K8: Autres | L8: Total
D9: indivi- | G9: indivi- | J9: indivi-
D10: duelles | G10: duelles | J10: duelles
A12: Période
A13: 2026 | B13: 1er t. | D13: 40275 | E13: 193623 | F13: 233898 | G13: 6323 | H13: 4328 | I13: 10651 | J13: =IF(OR(D13="",G13=""),"",D13+G13) -> 46598 | K13: =IF(OR(E13="",H13=""),"",E13+H13) -> 197951 | L13: =IF(J13="","",J13+K13) -> 244549
B14: 2e t. | D14: 39239 | E14: 195704 | F14: 234943 | G14: 5258 | H14: 6488 | I14: 11746 | J14: =IF(OR(D14="",G14=""),"",D14+G14) -> 44497 | K14: =IF(OR(E14="",H14=""),"",E14+H14) -> 202192 | L14: =IF(J14="","",J14+K14) -> 246689
B15: 3e t. | D15: 39671 | E15: 187971 | F15: 227642 | G15: 8545 | H15: 11916 | I15: 20461 | J15: =IF(OR(D15="",G15=""),"",D15+G15) -> 48216 | K15: =IF(OR(E15="",H15=""),"",E15+H15) -> 199887 | L15: =IF(J15="","",J15+K15) -> 248103
B16: 4e t. | J16: =IF(OR(D16="",G16=""),"",D16+G16) | K16: =IF(OR(E16="",H16=""),"",E16+H16) | L16: =IF(J16="","",J16+K16)
A17: 2026 | B17: janvier | D17: 43706 | E17: 180414 | F17: 224120 | I17: 12658 | L17: =IF(F17="","",F17+I17) -> 236778
B18: février | D18: 39947 | E18: 196737 | F18: 236684 | I18: 12147 | L18: =IF(F18="","",F18+I18) -> 248831
B19: mars | D19: 38561 | E19: 189265 | F19: 227826 | I19: 11745 | L19: =IF(F19="","",F19+I19) -> 239571
B20: avril | D20: 35912 | E20: 223392 | F20: 259304 | I20: 11388 | L20: =IF(F20="","",F20+I20) -> 270692
B21: mai | D21: 41100 | E21: 201442 | F21: 242542 | I21: 11935 | L21: =IF(F21="","",F21+I21) -> 254477
B22: juin | D22: 38280 | E22: 190504 | F22: 228784 | I22: 11054 | L22: =IF(F22="","",F22+I22) -> 239838
B23: juillet | D23: 39169 | E23: 187141 | F23: 226310 | I23: 20031 | L23: =IF(F23="","",F23+I23) -> 246341
B24: août | D24: 44070 | E24: 179881 | F24: 223951 | I24: 18272 | L24: =IF(F24="","",F24+I24) -> 242223
B25: septembre | D25: 39885 | E25: 190917 | F25: 230802 | I25: 18094 | L25: =IF(F25="","",F25+I25) -> 248896
B26: octobre | L26: =IF(F26="","",F26+I26)
B27: novembre | L27: =IF(F27="","",F27+I27)
B28: décembre | L28: =IF(F28="","",F28+I28)
A33: Tableau 18
A34: Mises en chantier de logements au Canada1, par région,
A35: nombres désaisonnalisés annualisés
A38: Période | D38: Atlantique | E38: Québec | F38: Ontario | G38: Prairies | H38: C.-B. | I38: Total
A40: 2024 2 | D40: 16916 | E40: 48713 | F40: 74326 | G40: 59337 | H40: 46625 | I40: 245917
A41: 2025 2 | D41: 20684 | E41: 59864 | F41: 65376 | G41: 68911 | H41: 44193 | I41: 259028
A42: =Titles!A22 -> 2025 | B42: 1er t. | D42: 17723 | E42: 55668 | F42: 50270 | G42: 65826 | H42: 40541 | I42: =IF(D42="","",SUM(D42:H42)) -> 230028
B43: 2e t. | D43: 21002 | E43: 59248 | F43: 69220 | G43: 78125 | H43: 48448 | I43: =IF(D43="","",SUM(D43:H43)) -> 276043
B44: 3e t. | D44: 22799 | E44: 59724 | F44: 75272 | G44: 67190 | H44: 47649 | I44: =IF(D44="","",SUM(D44:H44)) -> 272634
B45: 4e t. | D45: 21145 | E45: 63570 | F45: 67241 | G45: 64939 | H45: 40086 | I45: =IF(D45="","",SUM(D45:H45)) -> 256981
A47: =Titles!A23 -> 2026 | B47: 1er t. | D47: 17658 | E47: 58799 | F47: 62249 | G47: 60662 | H47: 45181 | I47: =IF(D47="","",SUM(D47:H47)) -> 244549
B48: 2e t. | D48: 17490 | E48: 51123 | F48: 70751 | G48: 67557 | H48: 39768 | I48: =IF(D48="","",SUM(D48:H48)) -> 246689
B49: 3e t. | D49: 19180 | E49: 65018 | F49: 49528 | G49: 67367 | H49: 47010 | I49: =IF(D49="","",SUM(D49:H49)) -> 248103
B50: 4e t. | I50: =IF(D50="","",SUM(D50:H50))
A52: =Titles!$A$12 -> Données de 2024, 2025 et 2026 fondées sur les définitions du recensement de 2021.
A53: 2 Données sont des mises en chantier réelles
A54: Source: Centre de l'analyse du marché, SCHL

Sheet Tables 19-20
A1: Tableau 19
A2: Mises en chantier de logements au Canada1,
A3: provinces de l'Atlantique, nombres désaisonnalisés annualisés
A4: Période | D4: Terre-Neuve-et-Labrador | E4: Île-du-Prince- | F4: Nouvelle-Écosse | G4: Nouveau-Brunswick | H4: Total
E5: Édouard
A8: 2024 2 | D8: 978 | E8: 1139 | F8: 7159 | G8: 4547 | H8: 13823
A9: 2025 2 | D9: 1672 | E9: 1694 | F9: 7381 | G9: 6169 | H9: 16916
A10: =Titles!A22 -> 2025 | B10: 1er t. | D10: 1241 | E10: 2060 | F10: 7990 | G10: 6432 | H10: =IF(D10="","",SUM(D10:G10)) -> 17723
B11: 2e t. | D11: 1781 | E11: 1367 | F11: 10742 | G11: 7112 | H11: =IF(D11="","",SUM(D11:G11)) -> 21002
B12: 3e t. | D12: 1476 | E12: 2523 | F12: 10655 | G12: 8145 | H12: =IF(D12="","",SUM(D12:G12)) -> 22799
B13: 4e t. | D13: 1654 | E13: 1141 | F13: 9635 | G13: 8715 | H13: =IF(D13="","",SUM(D13:G13)) -> 21145
A14: =Titles!A23 -> 2026 | B14: 1er t. | D14: 1591 | E14: 2029 | F14: 6354 | G14: 7684 | H14: =IF(D14="","",SUM(D14:G14)) -> 17658
B15: 2e t. | D15: 2031 | E15: 2118 | F15: 7785 | G15: 5556 | H15: =IF(D15="","",SUM(D15:G15)) -> 17490
B16: 3e t. | D16: 1927 | E16: 1804 | F16: 7052 | G16: 8397 | H16: =IF(D16="","",SUM(D16:G16)) -> 19180
B17: 4e t. | H17: =IF(D17="","",SUM(D17:G17))
A22: Tableau 20
A23: Mises en chantier de logements au Canada1, provinces des Prairies,
A24: nombres désaisonnalisés annualisés
A27: Période | D27: Manitoba | E27: Saskatchewan | F27: Alberta | G27: Total
A28: 2024 2 | D28: 7104 | E28: 4619 | F28: 36022 | G28: 47745
A29: 2025 2 | D29: 7191 | E29: 4319 | F29: 47827 | G29: 59337
A30: 2025 | B30: 1er t. | D30: 6227 | E30: 6184 | F30: 53415 | G30: =IF(F30="","",SUM(D30:F30)) -> 65826
B31: 2e t. | D31: 7122 | E31: 6105 | F31: 64898 | G31: =IF(F31="","",SUM(D31:F31)) -> 78125
B32: 3e t. | D32: 9622 | E32: 6515 | F32: 51053 | G32: =IF(F32="","",SUM(D32:F32)) -> 67190
B33: 4e t. | D33: 8571 | E33: 5631 | F33: 50737 | G33: =IF(F33="","",SUM(D33:F33)) -> 64939
A34: 2026 | B34: 1er t. | D34: 8616 | E34: 4815 | F34: 47231 | G34: =IF(F34="","",SUM(D34:F34)) -> 60662
B35: 2e t. | D35: 10918 | E35: 8781 | F35: 47858 | G35: =IF(F35="","",SUM(D35:F35)) -> 67557
B36: 3e t. | D36: 7667 | E36: 6041 | F36: 53659 | G36: =IF(F36="","",SUM(D36:F36)) -> 67367
B37: 4e t. | G37: =IF(F37="","",SUM(D37:F37))
A38: =+Titles!A12 -> Données de 2024, 2025 et 2026 fondées sur les définitions du recensement de 2021.
A39: =+Titles!A10 -> Source : Enquête sur les mises en chantier et les achèvements et Enquête sur les logements écoulés de la SCHL

Sheet Signes conventionnels 
A1: Signes conventionnels
A3: ** Non disponible
A4: *** Indéfini
A5: + Moins de 1 000 unités
A6: - Néant ou zéro
A7: -- Chiffre trop petit pour être indiqué
A8: (r) Chiffres révisés

Sheet Étendue et Géographie
A1: Étendue des enquêtes
A2: L’enquête du Relevé des mises en chantier et des achèvements est effectuée tous les mois dans les centres urbains de plus de 100 000 habitants, selon les données du Recensement de 2021. Dans les agglomérations qui comptent entre 10 000 et 49 999 habitants, le dénombrement de toutes les mises en chantier est effectué le dernier mois de chaque trimestre (c.-à-d. quatre fois par année, en mars, en juin, en septembre et en décembre). Dans ces centres urbains où le dénombrement est trimestriel, le nombre de logements achevés est évalué en fonction des moyennes historiques. Les mises en chantier et les achèvements mensuels y sont évalués au moyen de modèles statistiques, au niveau provincial, dans les catégories des maisons individuelles et des logements collectifs. Dans les centres urbains de moins de 10 000 habitants, l’enquête porte sur un échantillon de logements et elle est réalisée le dernier mois de chaque trimestre (c.-à-d. en mars, en juin, en septembre et en décembre).
A4: Le Relevé des logements écoulés sur le marché est fait en même temps que le précédent dans les centres urbains de 50 000 habitants et plus. Lorsqu’on signale l’achèvement d’un immeuble, on indique aussi les logements vendus. L’immeuble est, par la suite, recensé chaque mois jusqu’à ce que tous ces logements soient écoulés sur le marché.
A6: L'enquête sur les conversions et démolitions est réalisée mensuellement et uniquement dans les zones urbaines de 100 000 habitants et plus telles que définies par le recensement de 2021.
A8: Définition des régions de recensement utilisées dans la présente publication.
A9: Région métropolitaine de recensement (RMR) et agglomération de recensement (AR) - recensement de 2006
A10: Le concept général appliqué à ces unités normalisées consiste à relier un noyau urbain aux régions urbaines et rurales adjacentes dont le degré d’intégration économique et sociale avec ce noyau urbain est élevé, lequel est déterminé par le pourcentage de navetteurs établi d’après les données du recensement de la population sur le lieu de travail.
A11: Région métropolitaine de recensement (RMR)
A12: Pour former une région métropolitaine de recensement (RMR), le centre urbain doit compter au moins 50 000 habitants et la région (RMR) doit compter au moins 100 000 habitants. Une RMR restera une RMR même si la population de son noyau urbain devient inférieure à 50 000 habitants.
A14: Agglomération de recensement (AR)
A15: Pour former une agglomération de recensement (AR), le centre urbain doit compter au moins 10 000 habitants. Si la population du noyau urbain d’une AR devient inférieure à 10 000 habitants, l’AR est retirée du programme.
A17: Depuis mars 2003, il n’est plus exigé des AR que leur centre urbain compte 100 000 habitants pour devenir une RMR. Maintenant, il suffit qu’une AR compte au moins 100 000 habitants et un centre urbain de 50 000 habitants ou plus pour devenir une RMR.
... A22: Pour obtenir des renseignements supplémentaires, veuillez consulter le site Web de Statistique Canada à l’adresse suivante: www.statcan.ca/fr/geographie

Sheet Concepts et définitions 
A1: Concepts et définitions
A2: Dans le Relevé des mises en chantier et des achèvements, « mise en chantier » (ou logement mis en chantier) désigne le début des travaux de construction, d’ordinaire après la mise en place de la semelle en béton, ou à un stade équivalent lorsque le bâtiment n’a pas de sous-sol.
A3: « Achèvement » (ou logement achevé) désigne le stade où tous les travaux de construction sont terminés; dan certaines circonstances, on peut considérer un bâtiment comme achevé s’il ne reste que 10 % des travaux prévus à exécuter.
A4: Pour les logements collectifs, la définition de mise en chantier ou d’achèvement s’applique à l’immeuble tout entier plutôt qu’aux logements individuels qu’il contient.
A6: Le nombre des logements « en construction » à la fin d’une période comporte certains redressements rendus nécessaires pour diverses raisons. Par exemple, après la mise en chantier d’un logement, la construction peut cesser, ou un bâtiment peut contenir à l’achèvement plus ou moins de logements que le nombre signalé au moment de la mise en chantier.
A8: Un logement est « écoulé » lorsque son propriétaire conclut une entente non conditionnelle, ayant force obligatoire de vente.
A10: Seuls les logements autonomes sont dénombrés dans le Relevé des mises en chantier et des achèvements, qui ne porte que sur les logements neufs destinés à l’occupation permanente.
A12: Les habitations saisonnières (chalets d’été, de chasse, de ski, roulottes, maisons flottantes) et les logements de type foyer (hôpitaux, centres d’hébergement, institutions pénitentiaires, couvents, monastères, camps militaires et industriels et autres habitations collectives comme les hôtels, les clubs et les maisons de pension) sont exclus des relevés.
A14: Les maisons mobiles sont incluses dans les relevés. Une maison mobile est un type de logement entièrement assemblé à l’usine puis installé sur des fondations permanentes avant l’occupation.
A16: Les roulottes ou tout autre type de logement déménageable, sans fondations permanentes, sont exclus des relevés.
A17: Logement du marché désigne le logement destiné au grand public, à vendre ou à louer.
A18: Le terme « logement » désigne tout local d’habitation distinct et complet, muni d’une entrée privée donnant directement sur l’extérieur ou dans un vestibule, un corridor ou un escalier communs à l’intérieur de l’immeuble. On doit pouvoir utiliser cette entrée sans traverser un autre logement.
... A47: La catégorie « appartement et autre » englobe tous les logements qui n’entrent pas dans les catégories ci-dessus, y compris les constructions communément appelées duplex, triplex, duplex jumelés et duplex en bande.

Sheet  
